Index of /checkResults/release/bioc-LATEST/MSGFplus/raw-results/machv2

[ICO]NameLast modifiedSizeDescription

[DIR]Parent Directory  -  
[TXT]buildsrc-out.txt16-Oct-2021 04:06 1.5K 
[   ]buildsrc-summary.dcf16-Oct-2021 04:06 362  
[TXT]install-out.txt16-Oct-2021 04:06 1.3K 
[   ]install-summary.dcf16-Oct-2021 04:06 291