Back to Multiple platform build/check report for BioC 3.13
ABCDEFGHIJKL[M]NOPQRSTUVWXYZ

This page was generated on 2021-07-30 15:06:31 -0400 (Fri, 30 Jul 2021).

BUILD results for MSGFplus on machv2

To the developers/maintainers of the MSGFplus package:
- Please allow up to 24 hours (and sometimes 48 hours) for your latest push to git@git.bioconductor.org:packages/MSGFplus.git to
reflect on this report. See How and When does the builder pull? When will my changes propagate? here for more information.
- Make sure to use the following settings in order to reproduce any error or warning you see on this page.

raw results

Package 1199/2041HostnameOS / ArchINSTALLBUILDCHECKBUILD BIN
MSGFplus 1.26.0  (landing page)
Thomas Lin Pedersen
Snapshot Date: 2021-07-29 04:50:02 -0400 (Thu, 29 Jul 2021)
URL: https://git.bioconductor.org/packages/MSGFplus
Branch: RELEASE_3_13
Last Commit: c0c3ae3
Last Changed Date: 2021-05-19 12:08:05 -0400 (Wed, 19 May 2021)
nebbiolo1Linux (Ubuntu 20.04.2 LTS) / x86_64  OK    OK    WARNINGS  UNNEEDED, same version is already published
tokay2Windows Server 2012 R2 Standard / x64  OK    OK    WARNINGS    OK  UNNEEDED, same version is already published
machv2macOS 10.14.6 Mojave / x86_64  ERROR    ERROR  skippedskipped

Summary

Package: MSGFplus
Version: 1.26.0
Command: /Library/Frameworks/R.framework/Versions/Current/Resources/bin/R CMD build --keep-empty-dirs --no-resave-data MSGFplus
StartedAt: 2021-07-29 13:02:36 -0400 (Thu, 29 Jul 2021)
EndedAt: 2021-07-29 13:02:45 -0400 (Thu, 29 Jul 2021)
EllapsedTime: 8.3 seconds
RetCode: 1
Status:   ERROR  
PackageFile: None
PackageFileSize: NA

Command output

##############################################################################
##############################################################################
###
### Running command:
###
###   /Library/Frameworks/R.framework/Versions/Current/Resources/bin/R CMD build --keep-empty-dirs --no-resave-data MSGFplus
###
##############################################################################
##############################################################################


* checking for file ‘MSGFplus/DESCRIPTION’ ... OK
* preparing ‘MSGFplus’:
* checking DESCRIPTION meta-information ... OK
* installing the package to build vignettes
      -----------------------------------
* installing *source* package ‘MSGFplus’ ...
** using staged installation
** R
** inst
** byte-compile and prepare package for lazy loading
** help
*** installing help indices
** building package indices
** installing vignettes
** testing if installed package can be loaded from temporary location
Warning in fun(libname, pkgname) : NAs introduced by coercion
Warning in fun(libname, pkgname) : NAs introduced by coercion
Error: package or namespace load failed for ‘MSGFplus’:
 .onLoad failed in loadNamespace() for 'MSGFplus', details:
  call: if ((major == 1 && minor < 8) || major < 1) {
  error: missing value where TRUE/FALSE needed
Error: loading failed
Execution halted
ERROR: loading failed
* removing ‘/private/tmp/Rtmpp9qPRz/Rinst4ecb2c2bfb37/MSGFplus’
      -----------------------------------
ERROR: package installation failed