Index of /checkResults/release/bioc-LATEST/MSGFgui/raw-results/tokay2

[ICO]NameLast modifiedSizeDescription

[DIR]Parent Directory  -  
[TXT]buildbin-out.txt16-Oct-2021 04:06 1.3K 
[   ]buildbin-summary.dcf16-Oct-2021 04:06 547  
[TXT]buildsrc-out.txt16-Oct-2021 04:06 856  
[   ]buildsrc-summary.dcf16-Oct-2021 04:06 469  
[TXT]checksrc-out.txt16-Oct-2021 04:06 5.0K 
[   ]checksrc-summary.dcf16-Oct-2021 04:06 470  
[TXT]install-out.txt16-Oct-2021 04:06 1.2K 
[   ]install-summary.dcf16-Oct-2021 04:06 300