Index of /checkResults/release/bioc-LATEST/MSGFgui/raw-results/nebbiolo1

[ICO]NameLast modifiedSizeDescription

[DIR]Parent Directory  -  
[TXT]buildsrc-out.txt16-Oct-2021 04:05 806  
[   ]buildsrc-summary.dcf16-Oct-2021 04:05 417  
[TXT]checksrc-out.txt16-Oct-2021 04:05 5.0K 
[   ]checksrc-summary.dcf16-Oct-2021 04:05 423  
[TXT]install-out.txt16-Oct-2021 04:05 947  
[   ]install-summary.dcf16-Oct-2021 04:05 259