Index of /checkResults/release/bioc-LATEST/MSGFgui/raw-results/machv2

[ICO]NameLast modifiedSizeDescription

[DIR]Parent Directory  -  
[TXT]buildsrc-out.txt15-Jan-2022 03:08 892  
[   ]buildsrc-summary.dcf15-Jan-2022 03:08 342  
[TXT]install-out.txt15-Jan-2022 03:08 682  
[   ]install-summary.dcf15-Jan-2022 03:08 271