Back to Multiple platform build/check report for BioC 3.13
ABCDEFGHIJKL[M]NOPQRSTUVWXYZ

This page was generated on 2021-07-30 15:06:31 -0400 (Fri, 30 Jul 2021).

INSTALL results for MSGFgui on machv2

To the developers/maintainers of the MSGFgui package:
- Please allow up to 24 hours (and sometimes 48 hours) for your latest push to git@git.bioconductor.org:packages/MSGFgui.git to
reflect on this report. See How and When does the builder pull? When will my changes propagate? here for more information.
- Make sure to use the following settings in order to reproduce any error or warning you see on this page.

raw results

Package 1198/2041HostnameOS / ArchINSTALLBUILDCHECKBUILD BIN
MSGFgui 1.26.0  (landing page)
Thomas Lin Pedersen
Snapshot Date: 2021-07-29 04:50:02 -0400 (Thu, 29 Jul 2021)
URL: https://git.bioconductor.org/packages/MSGFgui
Branch: RELEASE_3_13
Last Commit: b956389
Last Changed Date: 2021-05-19 12:08:20 -0400 (Wed, 19 May 2021)
nebbiolo1Linux (Ubuntu 20.04.2 LTS) / x86_64  OK    OK    OK  UNNEEDED, same version is already published
tokay2Windows Server 2012 R2 Standard / x64  OK    OK    OK    OK  UNNEEDED, same version is already published
machv2macOS 10.14.6 Mojave / x86_64  ERROR    ERROR  skippedskipped

Summary

Package: MSGFgui
Version: 1.26.0
Command: /Library/Frameworks/R.framework/Versions/Current/Resources/bin/R CMD INSTALL MSGFgui
StartedAt: 2021-07-29 08:43:18 -0400 (Thu, 29 Jul 2021)
EndedAt: 2021-07-29 08:44:08 -0400 (Thu, 29 Jul 2021)
EllapsedTime: 50.3 seconds
RetCode: 1
Status:   ERROR  

Command output

##############################################################################
##############################################################################
###
### Running command:
###
###   /Library/Frameworks/R.framework/Versions/Current/Resources/bin/R CMD INSTALL MSGFgui
###
##############################################################################
##############################################################################


* installing to library ‘/Library/Frameworks/R.framework/Versions/4.1/Resources/library’
ERROR: dependency ‘MSGFplus’ is not available for package ‘MSGFgui’
* removing ‘/Library/Frameworks/R.framework/Versions/4.1/Resources/library/MSGFgui’