Back to Multiple platform build/check report for BioC 3.19:   simplified   long
ABCDEFGHIJKL[M]NOPQRSTUVWXYZ

This page was generated on 2024-06-11 14:41 -0400 (Tue, 11 Jun 2024).

HostnameOSArch (*)R versionInstalled pkgs
nebbiolo1Linux (Ubuntu 22.04.3 LTS)x86_644.4.0 (2024-04-24) -- "Puppy Cup" 4757
palomino3Windows Server 2022 Datacenterx644.4.0 (2024-04-24 ucrt) -- "Puppy Cup" 4491
lconwaymacOS 12.7.1 Montereyx86_644.4.0 (2024-04-24) -- "Puppy Cup" 4522
kjohnson3macOS 13.6.5 Venturaarm644.4.0 (2024-04-24) -- "Puppy Cup" 4468
Click on any hostname to see more info about the system (e.g. compilers)      (*) as reported by 'uname -p', except on Windows and Mac OS X

Package 1314/2300HostnameOS / ArchINSTALLBUILDCHECKBUILD BIN
MOGAMUN 1.14.0  (landing page)
Elva-MarĂ­a Novoa-del-Toro
Snapshot Date: 2024-06-09 14:00 -0400 (Sun, 09 Jun 2024)
git_url: https://git.bioconductor.org/packages/MOGAMUN
git_branch: RELEASE_3_19
git_last_commit: beaafaa
git_last_commit_date: 2024-04-30 11:28:30 -0400 (Tue, 30 Apr 2024)
nebbiolo1Linux (Ubuntu 22.04.3 LTS) / x86_64  OK    OK    OK  UNNEEDED, same version is already published
palomino3Windows Server 2022 Datacenter / x64  OK    OK    OK    OK  UNNEEDED, same version is already published
lconwaymacOS 12.7.1 Monterey / x86_64  OK    OK    OK    OK  UNNEEDED, same version is already published
kjohnson3macOS 13.6.5 Ventura / arm64  OK    OK    OK    OK  UNNEEDED, same version is already published


CHECK results for MOGAMUN on palomino3

To the developers/maintainers of the MOGAMUN package:
- Allow up to 24 hours (and sometimes 48 hours) for your latest push to git@git.bioconductor.org:packages/MOGAMUN.git to reflect on this report. See Troubleshooting Build Report for more information.
- Use the following Renviron settings to reproduce errors and warnings.
- If 'R CMD check' started to fail recently on the Linux builder(s) over a missing dependency, add the missing dependency to 'Suggests:' in your DESCRIPTION file. See Renviron.bioc for more information.

raw results


Summary

Package: MOGAMUN
Version: 1.14.0
Command: F:\biocbuild\bbs-3.19-bioc\R\bin\R.exe CMD check --no-multiarch --install=check:MOGAMUN.install-out.txt --library=F:\biocbuild\bbs-3.19-bioc\R\library --no-vignettes --timings MOGAMUN_1.14.0.tar.gz
StartedAt: 2024-06-10 06:54:34 -0400 (Mon, 10 Jun 2024)
EndedAt: 2024-06-10 06:58:19 -0400 (Mon, 10 Jun 2024)
EllapsedTime: 224.9 seconds
RetCode: 0
Status:   OK  
CheckDir: MOGAMUN.Rcheck
Warnings: 0

Command output

##############################################################################
##############################################################################
###
### Running command:
###
###   F:\biocbuild\bbs-3.19-bioc\R\bin\R.exe CMD check --no-multiarch --install=check:MOGAMUN.install-out.txt --library=F:\biocbuild\bbs-3.19-bioc\R\library --no-vignettes --timings MOGAMUN_1.14.0.tar.gz
###
##############################################################################
##############################################################################


* using log directory 'F:/biocbuild/bbs-3.19-bioc/meat/MOGAMUN.Rcheck'
* using R version 4.4.0 (2024-04-24 ucrt)
* using platform: x86_64-w64-mingw32
* R was compiled by
    gcc.exe (GCC) 13.2.0
    GNU Fortran (GCC) 13.2.0
* running under: Windows Server 2022 x64 (build 20348)
* using session charset: UTF-8
* using option '--no-vignettes'
* checking for file 'MOGAMUN/DESCRIPTION' ... OK
* checking extension type ... Package
* this is package 'MOGAMUN' version '1.14.0'
* package encoding: UTF-8
* checking package namespace information ... OK
* checking package dependencies ... OK
* checking if this is a source package ... OK
* checking if there is a namespace ... OK
* checking for hidden files and directories ... OK
* checking for portable file names ... OK
* checking whether package 'MOGAMUN' can be installed ... OK
* checking installed package size ... OK
* checking package directory ... OK
* checking 'build' directory ... OK
* checking DESCRIPTION meta-information ... OK
* checking top-level files ... OK
* checking for left-over files ... OK
* checking index information ... OK
* checking package subdirectories ... OK
* checking code files for non-ASCII characters ... OK
* checking R files for syntax errors ... OK
* checking whether the package can be loaded ... OK
* checking whether the package can be loaded with stated dependencies ... OK
* checking whether the package can be unloaded cleanly ... OK
* checking whether the namespace can be loaded with stated dependencies ... OK
* checking whether the namespace can be unloaded cleanly ... OK
* checking dependencies in R code ... OK
* checking S3 generic/method consistency ... OK
* checking replacement functions ... OK
* checking foreign function calls ... OK
* checking R code for possible problems ... OK
* checking Rd files ... OK
* checking Rd metadata ... OK
* checking Rd cross-references ... OK
* checking for missing documentation entries ... OK
* checking for code/documentation mismatches ... OK
* checking Rd \usage sections ... OK
* checking Rd contents ... OK
* checking for unstated dependencies in examples ... OK
* checking files in 'vignettes' ... OK
* checking examples ... OK
* checking for unstated dependencies in 'tests' ... OK
* checking tests ...
  Running 'unitTests.R'
 OK
* checking for unstated dependencies in vignettes ... OK
* checking package vignettes ... OK
* checking running R code from vignettes ... SKIPPED
* checking re-building of vignette outputs ... SKIPPED
* checking PDF version of manual ... OK
* DONE

Status: OK


Installation output

MOGAMUN.Rcheck/00install.out

##############################################################################
##############################################################################
###
### Running command:
###
###   F:\biocbuild\bbs-3.19-bioc\R\bin\R.exe CMD INSTALL MOGAMUN
###
##############################################################################
##############################################################################


* installing to library 'F:/biocbuild/bbs-3.19-bioc/R/library'
* installing *source* package 'MOGAMUN' ...
** using staged installation
** R
** inst
** byte-compile and prepare package for lazy loading
** help
*** installing help indices
** building package indices
** installing vignettes
** testing if installed package can be loaded from temporary location
** testing if installed package can be loaded from final location
** testing if installed package keeps a record of temporary installation path
* DONE (MOGAMUN)

Tests output

MOGAMUN.Rcheck/tests/unitTests.Rout


R version 4.4.0 (2024-04-24 ucrt) -- "Puppy Cup"
Copyright (C) 2024 The R Foundation for Statistical Computing
Platform: x86_64-w64-mingw32/x64

R is free software and comes with ABSOLUTELY NO WARRANTY.
You are welcome to redistribute it under certain conditions.
Type 'license()' or 'licence()' for distribution details.

R is a collaborative project with many contributors.
Type 'contributors()' for more information and
'citation()' on how to cite R or R packages in publications.

Type 'demo()' for some demos, 'help()' for on-line help, or
'help.start()' for an HTML browser interface to help.
Type 'q()' to quit R.

> # Our package. Used for the test suite name
> pkgname <- c("MOGAMUN", "RUnit")
> 
> for (p in pkgname) {
+     require(p, quietly=TRUE, character.only=TRUE) || 
+     stop("package '", p, "' not found")
+ }
> 
> pkgname <- "MOGAMUN"
> 
> # Determine which files to load (have to start with test_ and end with .R)
> pattern <- "^test.*\\.R$"
> 
> # Which functions to run. Have to start with 'test.'
> testFunctionRegexp = "^test.+"
> 
> # Path to the unit tests folder in the package
> directory <- paste0(system.file("tests", package=pkgname), "/")
> if (.Platform$OS.type == "windows") { # windows needs the absolute file names
+     directory <- list.files(directory, pattern = pattern, full.names = TRUE)
+ } 
> 
> for (dir in directory) {
+     # Define RUnit test suite
+     suite <- defineTestSuite(name=paste(pkgname, "RUnit Tests"),
+                              dirs=dir,
+                              testFileRegexp=pattern,
+                              testFuncRegexp = testFunctionRegexp,
+                              rngKind="default",
+                              rngNormalKind="default")
+     
+     # Run tests
+     result <- runTestSuite(suite)
+     
+     # Display result tests on the console
+     printTextProtocol(result)
+     
+     # Write results in JUnit-like xml format
+     printJUnitProtocol(result, fileName="junit.xml")
+ }
RUNIT TEST PROTOCOL -- Mon Jun 10 06:58:01 2024 
*********************************************** 
Number of test functions: 0 
Number of errors: 0 
Number of failures: 0 

 
1 Test Suite : 
MOGAMUN RUnit Tests - 0 test functions, 0 errors, 0 failures



Details 
*************************** 
Test Suite: MOGAMUN RUnit Tests 
Test function regexp: ^test.+ 
Test file regexp: ^test.*\.R$ 
Involved directory: 
F:/biocbuild/bbs-3.19-bioc/R/library/MOGAMUN/tests/test.mogamun.R 
no test files 
> 
> 
> proc.time()
   user  system elapsed 
   1.84    5.92    7.60 

Example timings

MOGAMUN.Rcheck/MOGAMUN-Ex.timings

nameusersystemelapsed
mogamun_init000
mogamun_load_data0.010.020.09
mogamun_postprocess0.960.061.20
mogamun_run0.860.030.92