Back to Multiple platform build/check report for BioC 3.12
ABCDEFGHIJKL[M]NOPQRSTUVWXYZ

Multiple platform build/check report for BioC 3.12

All results for package MIGSA

This page was generated on 2021-05-05 12:09:03 -0400 (Wed, 05 May 2021).

Package 1098/1974HostnameOS / ArchINSTALLBUILDCHECKBUILD BIN
MIGSA 1.14.1  (landing page)
Juan C. Rodriguez
Snapshot Date: 2021-05-04 14:50:13 -0400 (Tue, 04 May 2021)
URL: https://git.bioconductor.org/packages/MIGSA
Branch: RELEASE_3_12
Last Commit: 270bd75
Last Changed Date: 2020-10-28 17:27:49 -0400 (Wed, 28 Oct 2020)
malbec1Linux (Ubuntu 18.04.5 LTS) / x86_64  OK    OK    OK  UNNEEDED, same version exists in internal repository
tokay1Windows Server 2012 R2 Standard / x64  OK    OK    OK    OK  UNNEEDED, same version exists in internal repository
merida1macOS 10.14.6 Mojave / x86_64  OK    OK    OK    OK  UNNEEDED, same version exists in internal repository