Index of /checkResults/release/bioc-LATEST/MAGAR/raw-results/kjohnson1

[ICO]NameLast modifiedSizeDescription

[DIR]Parent Directory  -  
[TXT]buildbin-out.txt13-Jul-2024 06:42 1.4K 
[   ]buildbin-summary.dcf13-Jul-2024 06:42 518  
[TXT]buildsrc-out.txt13-Jul-2024 06:42 808  
[   ]buildsrc-summary.dcf13-Jul-2024 06:42 421  
[TXT]checksrc-out.txt13-Jul-2024 06:42 14K 
[   ]checksrc-summary.dcf13-Jul-2024 06:42 436  
[TXT]install-out.txt13-Jul-2024 06:42 1.2K 
[   ]install-summary.dcf13-Jul-2024 06:42 265