Back to Multiple platform build/check report for BioC 3.13
ABCDEFGHIJKL[M]NOPQRSTUVWXYZ

This page was generated on 2021-09-17 15:05:44 -0400 (Fri, 17 Sep 2021).

BUILD results for MAGAR on nebbiolo1

To the developers/maintainers of the MAGAR package:
- Please allow up to 24 hours (and sometimes 48 hours) for your latest push to git@git.bioconductor.org:packages/MAGAR.git to
reflect on this report. See How and When does the builder pull? When will my changes propagate? here for more information.
- Make sure to use the following settings in order to reproduce any error or warning you see on this page.

raw results

Package 1022/2041HostnameOS / ArchINSTALLBUILDCHECKBUILD BIN
MAGAR 1.0.1  (landing page)
Michael Scherer
Snapshot Date: 2021-09-16 04:50:11 -0400 (Thu, 16 Sep 2021)
git_url: https://git.bioconductor.org/packages/MAGAR
git_branch: RELEASE_3_13
git_last_commit: 7901096
git_last_commit_date: 2021-07-06 11:44:06 -0400 (Tue, 06 Jul 2021)
nebbiolo1Linux (Ubuntu 20.04.2 LTS) / x86_64  OK    OK    OK  UNNEEDED, same version is already published
tokay2Windows Server 2012 R2 Standard / x64  OK    OK    OK    OK  UNNEEDED, same version is already published
machv2macOS 10.14.6 Mojave / x86_64  OK    OK    OK    OK  UNNEEDED, same version is already published

Summary

Package: MAGAR
Version: 1.0.1
Command: /home/biocbuild/bbs-3.13-bioc/R/bin/R CMD build --keep-empty-dirs --no-resave-data MAGAR
StartedAt: 2021-09-16 07:35:59 -0400 (Thu, 16 Sep 2021)
EndedAt: 2021-09-16 07:37:41 -0400 (Thu, 16 Sep 2021)
EllapsedTime: 102.0 seconds
RetCode: 0
Status:   OK  
PackageFile: MAGAR_1.0.1.tar.gz
PackageFileSize: 856.1 KiB

Command output

##############################################################################
##############################################################################
###
### Running command:
###
###   /home/biocbuild/bbs-3.13-bioc/R/bin/R CMD build --keep-empty-dirs --no-resave-data MAGAR
###
##############################################################################
##############################################################################


* checking for file ‘MAGAR/DESCRIPTION’ ... OK
* preparing ‘MAGAR’:
* checking DESCRIPTION meta-information ... OK
* installing the package to build vignettes
* creating vignettes ... OK
* checking for LF line-endings in source and make files and shell scripts
* checking for empty or unneeded directories
* building ‘MAGAR_1.0.1.tar.gz’