Index of /checkResults/release/bioc-LATEST/KEGGgraph/raw-results/tokay2

[ICO]NameLast modifiedSizeDescription

[DIR]Parent Directory  -  
[TXT]buildbin-out.txt16-Oct-2021 04:06 4.7K 
[   ]buildbin-summary.dcf16-Oct-2021 04:06 551  
[TXT]buildsrc-out.txt16-Oct-2021 04:06 855  
[   ]buildsrc-summary.dcf16-Oct-2021 04:06 466  
[TXT]checksrc-out.txt16-Oct-2021 04:06 3.8K 
[   ]checksrc-summary.dcf16-Oct-2021 04:06 470  
[TXT]install-out.txt16-Oct-2021 04:06 5.4K 
[   ]install-summary.dcf16-Oct-2021 04:06 658