Back to Multiple platform build/check report for BioC 3.13
ABCDEFGHIJ[K]LMNOPQRSTUVWXYZ

This page was generated on 2021-07-30 15:06:27 -0400 (Fri, 30 Jul 2021).

BUILD results for KEGGgraph on machv2

To the developers/maintainers of the KEGGgraph package:
- Please allow up to 24 hours (and sometimes 48 hours) for your latest push to git@git.bioconductor.org:packages/KEGGgraph.git to
reflect on this report. See How and When does the builder pull? When will my changes propagate? here for more information.
- Make sure to use the following settings in order to reproduce any error or warning you see on this page.

raw results

Package 967/2041HostnameOS / ArchINSTALLBUILDCHECKBUILD BIN
KEGGgraph 1.52.0  (landing page)
Jitao David Zhang
Snapshot Date: 2021-07-29 04:50:02 -0400 (Thu, 29 Jul 2021)
URL: https://git.bioconductor.org/packages/KEGGgraph
Branch: RELEASE_3_13
Last Commit: 295f4c0
Last Changed Date: 2021-05-19 11:42:28 -0400 (Wed, 19 May 2021)
nebbiolo1Linux (Ubuntu 20.04.2 LTS) / x86_64  OK    OK    OK  UNNEEDED, same version is already published
tokay2Windows Server 2012 R2 Standard / x64  OK    OK    OK    OK  UNNEEDED, same version is already published
machv2macOS 10.14.6 Mojave / x86_64  OK    OK    OK    OK  UNNEEDED, same version is already published

Summary

Package: KEGGgraph
Version: 1.52.0
Command: /Library/Frameworks/R.framework/Versions/Current/Resources/bin/R CMD build --keep-empty-dirs --no-resave-data KEGGgraph
StartedAt: 2021-07-29 12:31:23 -0400 (Thu, 29 Jul 2021)
EndedAt: 2021-07-29 12:31:56 -0400 (Thu, 29 Jul 2021)
EllapsedTime: 33.1 seconds
RetCode: 0
Status:   OK  
PackageFile: KEGGgraph_1.52.0.tar.gz
PackageFileSize: 1.438 MiB

Command output

##############################################################################
##############################################################################
###
### Running command:
###
###   /Library/Frameworks/R.framework/Versions/Current/Resources/bin/R CMD build --keep-empty-dirs --no-resave-data KEGGgraph
###
##############################################################################
##############################################################################


* checking for file ‘KEGGgraph/DESCRIPTION’ ... OK
* preparing ‘KEGGgraph’:
* checking DESCRIPTION meta-information ... OK
* installing the package to build vignettes
* creating vignettes ... OK
* checking for LF line-endings in source and make files and shell scripts
* checking for empty or unneeded directories
* building ‘KEGGgraph_1.52.0.tar.gz’