Back to Multiple platform build/check report for BioC 3.19:   simplified   long
ABCDEFGHIJ[K]LMNOPQRSTUVWXYZ

This page was generated on 2024-05-27 11:34:56 -0400 (Mon, 27 May 2024).

HostnameOSArch (*)R versionInstalled pkgs
nebbiolo1Linux (Ubuntu 22.04.3 LTS)x86_644.4.0 (2024-04-24) -- "Puppy Cup" 4752
lconwaymacOS 12.7.1 Montereyx86_644.4.0 (2024-04-24) -- "Puppy Cup" 4517
Click on any hostname to see more info about the system (e.g. compilers)      (*) as reported by 'uname -p', except on Windows and Mac OS X

All results for package KEGGgraph


To the developers/maintainers of the KEGGgraph package:
- Allow up to 24 hours (and sometimes 48 hours) for your latest push to git@git.bioconductor.org:packages/KEGGgraph.git to reflect on this report. See Troubleshooting Build Report for more information.
- Use the following Renviron settings to reproduce errors and warnings.
- If 'R CMD check' started to fail recently on the Linux builder(s) over a missing dependency, add the missing dependency to 'Suggests:' in your DESCRIPTION file. See Renviron.bioc for more information.

raw results

Package 1091/2300HostnameOS / ArchINSTALLBUILDCHECKBUILD BIN
KEGGgraph 1.64.0  (landing page)
Jitao David Zhang
Snapshot Date: 2024-05-26 14:00:09 -0400 (Sun, 26 May 2024)
git_url: https://git.bioconductor.org/packages/KEGGgraph
git_branch: RELEASE_3_19
git_last_commit: 3e02124
git_last_commit_date: 2024-04-30 10:19:20 -0400 (Tue, 30 Apr 2024)
nebbiolo1Linux (Ubuntu 22.04.3 LTS) / x86_64  OK    OK    WARNINGS  UNNEEDED, same version is already published
lconwaymacOS 12.7.1 Monterey / x86_64  OK    OK    WARNINGS    OK  UNNEEDED, same version is already published
kjohnson3macOS 13.6.5 Ventura / arm64see weekly results here

Results for Bioconductor software packages that depend directly on package KEGGgraph

QUICK STATSOS / ArchINSTALLBUILDCHECKBUILD BIN
nebbiolo1Linux (Ubuntu 22.04.3 LTS) / x86_64
0011
0011
0038
lconwaymacOS 12.7.1 Monterey / x86_64
009
009
0036
009
Package 1/11HostnameOS / ArchINSTALLBUILDCHECKBUILD BIN
clipper 1.44.0  (landing page)
Paolo Martini
git_last_commit: 0ebdc8d
git_last_commit_date: 2024-04-30 10:30:17 -0400
nebbiolo1Linux (Ubuntu 22.04.3 LTS) / x86_64  OK    OK    OK  UNNEEDED, same version is already published
lconwaymacOS 12.7.1 Monterey / x86_64  OK    OK    OK    OK  UNNEEDED, same version is already published
kjohnson3macOS 13.6.5 Ventura / arm64see weekly results here
Package 2/11HostnameOS / ArchINSTALLBUILDCHECKBUILD BIN
DEGraph 1.56.0  (landing page)
Laurent Jacob
git_last_commit: 7c213a8
git_last_commit_date: 2024-04-30 10:23:06 -0400
nebbiolo1Linux (Ubuntu 22.04.3 LTS) / x86_64  OK    OK    OK  UNNEEDED, same version is already published
lconwaymacOS 12.7.1 Monterey / x86_64... NOT SUPPORTED ...
kjohnson3macOS 13.6.5 Ventura / arm64see weekly results here
Package 3/11HostnameOS / ArchINSTALLBUILDCHECKBUILD BIN
EnrichmentBrowser 2.34.1  (landing page)
Ludwig Geistlinger
git_last_commit: 6cfc989
git_last_commit_date: 2024-05-05 18:27:16 -0400
nebbiolo1Linux (Ubuntu 22.04.3 LTS) / x86_64  OK    OK    OK  UNNEEDED, same version is already published
lconwaymacOS 12.7.1 Monterey / x86_64  OK    OK    OK    OK  UNNEEDED, same version is already published
kjohnson3macOS 13.6.5 Ventura / arm64see weekly results here
Package 4/11HostnameOS / ArchINSTALLBUILDCHECKBUILD BIN
KEGGlincs 1.30.0  (landing page)
Shana White , Mario Medvedovic
git_last_commit: c95c7af
git_last_commit_date: 2024-04-30 10:54:10 -0400
nebbiolo1Linux (Ubuntu 22.04.3 LTS) / x86_64  OK    OK    OK  UNNEEDED, same version is already published
lconwaymacOS 12.7.1 Monterey / x86_64  OK    OK    OK    OK  UNNEEDED, same version is already published
kjohnson3macOS 13.6.5 Ventura / arm64see weekly results here
Package 5/11HostnameOS / ArchINSTALLBUILDCHECKBUILD BIN
lpNet 2.36.0  (landing page)
Lars Kaderali
git_last_commit: 59da8ea
git_last_commit_date: 2024-04-30 10:30:31 -0400
nebbiolo1Linux (Ubuntu 22.04.3 LTS) / x86_64  OK    OK    WARNINGS  UNNEEDED, same version is already published
lconwaymacOS 12.7.1 Monterey / x86_64  OK    OK    WARNINGS    OK  UNNEEDED, same version is already published
kjohnson3macOS 13.6.5 Ventura / arm64see weekly results here
Package 6/11HostnameOS / ArchINSTALLBUILDCHECKBUILD BIN
MetaboSignal 1.34.0  (landing page)
Andrea Rodriguez-Martinez
git_last_commit: af68698
git_last_commit_date: 2024-04-30 10:53:24 -0400
nebbiolo1Linux (Ubuntu 22.04.3 LTS) / x86_64  OK    OK    OK  UNNEEDED, same version is already published
lconwaymacOS 12.7.1 Monterey / x86_64  OK    OK    OK    OK  UNNEEDED, same version is already published
kjohnson3macOS 13.6.5 Ventura / arm64see weekly results here
Package 7/11HostnameOS / ArchINSTALLBUILDCHECKBUILD BIN
MWASTools 1.28.0  (landing page)
Andrea Rodriguez-Martinez , Rafael Ayala
git_last_commit: 523f6bc
git_last_commit_date: 2024-04-30 10:55:11 -0400
nebbiolo1Linux (Ubuntu 22.04.3 LTS) / x86_64  OK    OK    OK  UNNEEDED, same version is already published
lconwaymacOS 12.7.1 Monterey / x86_64  OK    OK    OK    OK  UNNEEDED, same version is already published
kjohnson3macOS 13.6.5 Ventura / arm64see weekly results here
Package 8/11HostnameOS / ArchINSTALLBUILDCHECKBUILD BIN
NCIgraph 1.52.0  (landing page)
Laurent Jacob
git_last_commit: 3895ae2
git_last_commit_date: 2024-04-30 10:24:06 -0400
nebbiolo1Linux (Ubuntu 22.04.3 LTS) / x86_64  OK    OK    OK  UNNEEDED, same version is already published
lconwaymacOS 12.7.1 Monterey / x86_64... NOT SUPPORTED ...
kjohnson3macOS 13.6.5 Ventura / arm64see weekly results here
Package 9/11HostnameOS / ArchINSTALLBUILDCHECKBUILD BIN
pathview 1.44.0  (landing page)
Weijun Luo
git_last_commit: 56f924a
git_last_commit_date: 2024-04-30 10:30:55 -0400
nebbiolo1Linux (Ubuntu 22.04.3 LTS) / x86_64  OK    OK    WARNINGS  UNNEEDED, same version is already published
lconwaymacOS 12.7.1 Monterey / x86_64  OK    OK    WARNINGS    OK  UNNEEDED, same version is already published
kjohnson3macOS 13.6.5 Ventura / arm64see weekly results here
Package 10/11HostnameOS / ArchINSTALLBUILDCHECKBUILD BIN
ROntoTools 2.32.0  (landing page)
Sorin Draghici
git_last_commit: b64b430
git_last_commit_date: 2024-04-30 10:31:13 -0400
nebbiolo1Linux (Ubuntu 22.04.3 LTS) / x86_64  OK    OK    WARNINGS  UNNEEDED, same version is already published
lconwaymacOS 12.7.1 Monterey / x86_64  OK    OK    WARNINGS    OK  UNNEEDED, same version is already published
kjohnson3macOS 13.6.5 Ventura / arm64see weekly results here
Package 11/11HostnameOS / ArchINSTALLBUILDCHECKBUILD BIN
SPIA 2.56.0  (landing page)
Adi Laurentiu Tarca
git_last_commit: 9e6e892
git_last_commit_date: 2024-04-30 10:19:29 -0400
nebbiolo1Linux (Ubuntu 22.04.3 LTS) / x86_64  OK    OK    OK  UNNEEDED, same version is already published
lconwaymacOS 12.7.1 Monterey / x86_64  OK    OK    OK    OK  UNNEEDED, same version is already published
kjohnson3macOS 13.6.5 Ventura / arm64see weekly results here