Back to Multiple platform build/check report for BioC 3.12
ABCDEFGHI[J]KLMNOPQRSTUVWXYZ

Multiple platform build/check report for BioC 3.12

All results for package JunctionSeq

This page was generated on 2021-05-05 12:09:00 -0400 (Wed, 05 May 2021).

Package 933/1974HostnameOS / ArchINSTALLBUILDCHECKBUILD BIN
JunctionSeq 1.20.0  (landing page)
Stephen Hartley
Snapshot Date: 2021-05-04 14:50:13 -0400 (Tue, 04 May 2021)
URL: https://git.bioconductor.org/packages/JunctionSeq
Branch: RELEASE_3_12
Last Commit: b47b4bb
Last Changed Date: 2020-10-27 11:10:31 -0400 (Tue, 27 Oct 2020)
malbec1Linux (Ubuntu 18.04.5 LTS) / x86_64  OK    OK    ERROR  
tokay1Windows Server 2012 R2 Standard / x64  OK    OK    ERROR    OK  
merida1macOS 10.14.6 Mojave / x86_64  OK    OK    ERROR    OK  

Results for Bioconductor software packages that depend directly on package JunctionSeq

QUICK STATSOS / ArchINSTALLBUILDCHECKBUILD BIN
malbec1Linux (Ubuntu 18.04.5 LTS) / x86_64
010
010
0000
tokay1Windows Server 2012 R2 Standard / x64
010
010
0000
000
merida1macOS 10.14.6 Mojave / x86_64
010
010
0000
000
Package 1/1HostnameOS / ArchINSTALLBUILDCHECKBUILD BIN
PathwaySplice 1.14.0  (landing page)
Aimin Yan
Last Commit: ebde4c5
Last Changed Date: 2020-10-27 11:28:21 -0400
malbec1Linux (Ubuntu 18.04.5 LTS) / x86_64  ERROR    ERROR  skipped
tokay1Windows Server 2012 R2 Standard / x64  ERROR    ERROR  skippedskipped
merida1macOS 10.14.6 Mojave / x86_64  ERROR    ERROR  skippedskipped