Back to Multiple platform build/check report for BioC 3.12
ABCDEFGH[I]JKLMNOPQRSTUVWXYZ

Multiple platform build/check report for BioC 3.12

All results for package InterMineR

This page was generated on 2021-05-05 12:08:57 -0400 (Wed, 05 May 2021).

Package 905/1974HostnameOS / ArchINSTALLBUILDCHECKBUILD BIN
InterMineR 1.12.3  (landing page)
InterMine Team
Snapshot Date: 2021-05-04 14:50:13 -0400 (Tue, 04 May 2021)
URL: https://git.bioconductor.org/packages/InterMineR
Branch: RELEASE_3_12
Last Commit: ecd9a83
Last Changed Date: 2021-04-28 05:11:58 -0400 (Wed, 28 Apr 2021)
malbec1Linux (Ubuntu 18.04.5 LTS) / x86_64  OK    OK    WARNINGS  UNNEEDED, same version exists in internal repository
tokay1Windows Server 2012 R2 Standard / x64  OK    OK    ERROR    OK  
merida1macOS 10.14.6 Mojave / x86_64  OK    OK    WARNINGS    OK  UNNEEDED, same version exists in internal repository