Back to Multiple platform build/check report for BioC 3.12
ABCDEFGH[I]JKLMNOPQRSTUVWXYZ

BUILD BIN report for IntEREst on merida1

This page was generated on 2021-05-05 12:14:30 -0400 (Wed, 05 May 2021).

To the developers/maintainers of the IntEREst package:
Please make sure to use the following settings in order to reproduce any error or warning you see on this page.
Package 904/1974HostnameOS / ArchINSTALLBUILDCHECKBUILD BIN
IntEREst 1.14.0  (landing page)
Ali Oghabian , Mikko Frilander
Snapshot Date: 2021-05-04 14:50:13 -0400 (Tue, 04 May 2021)
URL: https://git.bioconductor.org/packages/IntEREst
Branch: RELEASE_3_12
Last Commit: 514e896
Last Changed Date: 2020-10-27 11:22:16 -0400 (Tue, 27 Oct 2020)
malbec1Linux (Ubuntu 18.04.5 LTS) / x86_64  OK    OK    OK  UNNEEDED, same version exists in internal repository
tokay1Windows Server 2012 R2 Standard / x64  OK    OK    WARNINGS    OK  UNNEEDED, same version exists in internal repository
merida1macOS 10.14.6 Mojave / x86_64  OK    OK    OK    OK  UNNEEDED, same version exists in internal repository

Summary

Package: IntEREst
Version: 1.14.0
Command: rm -rf IntEREst.buildbin-libdir && mkdir IntEREst.buildbin-libdir && /Users/biocbuild/BBS/utils/build-universal.sh IntEREst_1.14.0.tar.gz /Library/Frameworks/R.framework/Versions/Current/Resources/bin/R IntEREst.buildbin-libdir
StartedAt: 2021-05-05 09:24:31 -0400 (Wed, 05 May 2021)
EndedAt: 2021-05-05 09:25:32 -0400 (Wed, 05 May 2021)
EllapsedTime: 60.2 seconds
RetCode: 0
Status:   OK  
PackageFile: IntEREst_1.14.0.tgz
PackageFileSize: 2.058 MiB

Command output

##############################################################################
##############################################################################
###
### Running command:
###
###   rm -rf IntEREst.buildbin-libdir && mkdir IntEREst.buildbin-libdir && /Users/biocbuild/BBS/utils/build-universal.sh IntEREst_1.14.0.tar.gz /Library/Frameworks/R.framework/Versions/Current/Resources/bin/R IntEREst.buildbin-libdir
###
##############################################################################
##############################################################################


>>>>>>> 
>>>>>>> INSTALLATION WITH 'R CMD INSTALL --preclean --no-multiarch --library=IntEREst.buildbin-libdir IntEREst_1.14.0.tar.gz'
>>>>>>> 

* installing *source* package ‘IntEREst’ ...
** using staged installation
** R
** data
*** moving datasets to lazyload DB
** inst
** byte-compile and prepare package for lazy loading
** help
*** installing help indices
** building package indices
** installing vignettes
** testing if installed package can be loaded from temporary location
** testing if installed package can be loaded from final location
** testing if installed package keeps a record of temporary installation path
* DONE (IntEREst)