Back to Multiple platform build/check report for BioC 3.12
ABCDEFGH[I]JKLMNOPQRSTUVWXYZ

INSTALL report for IntEREst on malbec1

This page was generated on 2021-05-05 12:10:04 -0400 (Wed, 05 May 2021).

To the developers/maintainers of the IntEREst package:
Please make sure to use the following settings in order to reproduce any error or warning you see on this page.
Package 904/1974HostnameOS / ArchINSTALLBUILDCHECKBUILD BIN
IntEREst 1.14.0  (landing page)
Ali Oghabian , Mikko Frilander
Snapshot Date: 2021-05-04 14:50:13 -0400 (Tue, 04 May 2021)
URL: https://git.bioconductor.org/packages/IntEREst
Branch: RELEASE_3_12
Last Commit: 514e896
Last Changed Date: 2020-10-27 11:22:16 -0400 (Tue, 27 Oct 2020)
malbec1Linux (Ubuntu 18.04.5 LTS) / x86_64  OK    OK    OK  UNNEEDED, same version exists in internal repository
tokay1Windows Server 2012 R2 Standard / x64  OK    OK    WARNINGS    OK  UNNEEDED, same version exists in internal repository
merida1macOS 10.14.6 Mojave / x86_64  OK    OK    OK    OK  UNNEEDED, same version exists in internal repository

Summary

Package: IntEREst
Version: 1.14.0
Command: /home/biocbuild/bbs-3.12-bioc/R/bin/R CMD INSTALL IntEREst
StartedAt: 2021-05-04 16:57:36 -0400 (Tue, 04 May 2021)
EndedAt: 2021-05-04 16:58:33 -0400 (Tue, 04 May 2021)
EllapsedTime: 56.5 seconds
RetCode: 0
Status:   OK  

Command output

##############################################################################
##############################################################################
###
### Running command:
###
###   /home/biocbuild/bbs-3.12-bioc/R/bin/R CMD INSTALL IntEREst
###
##############################################################################
##############################################################################


* installing to library ‘/home/biocbuild/bbs-3.12-bioc/R/library’
* installing *source* package ‘IntEREst’ ...
** using staged installation
** R
** data
*** moving datasets to lazyload DB
** inst
** byte-compile and prepare package for lazy loading
** help
*** installing help indices
** building package indices
** installing vignettes
** testing if installed package can be loaded from temporary location
** testing if installed package can be loaded from final location
** testing if installed package keeps a record of temporary installation path
* DONE (IntEREst)