Back to Multiple platform build/check report for BioC 3.13
ABCDEFGH[I]JKLMNOPQRSTUVWXYZ

This page was generated on 2021-09-24 15:06:44 -0400 (Fri, 24 Sep 2021).

BUILD BIN results for InPAS on machv2

To the developers/maintainers of the InPAS package:
- Please allow up to 24 hours (and sometimes 48 hours) for your latest push to git@git.bioconductor.org:packages/InPAS.git to
reflect on this report. See How and When does the builder pull? When will my changes propagate? here for more information.
- Make sure to use the following settings in order to reproduce any error or warning you see on this page.

raw results

Package 923/2041HostnameOS / ArchINSTALLBUILDCHECKBUILD BIN
InPAS 2.0.0  (landing page)
Jianhong Ou
Snapshot Date: 2021-09-23 04:50:12 -0400 (Thu, 23 Sep 2021)
git_url: https://git.bioconductor.org/packages/InPAS
git_branch: RELEASE_3_13
git_last_commit: d402f5c
git_last_commit_date: 2021-05-19 12:12:03 -0400 (Wed, 19 May 2021)
nebbiolo1Linux (Ubuntu 20.04.2 LTS) / x86_64  OK    OK    OK  UNNEEDED, same version is already published
tokay2Windows Server 2012 R2 Standard / x64  OK    OK    OK    OK  UNNEEDED, same version is already published
machv2macOS 10.14.6 Mojave / x86_64  OK    OK    OK    OK  UNNEEDED, same version is already published

Summary

Package: InPAS
Version: 2.0.0
Command: rm -rf InPAS.buildbin-libdir && mkdir InPAS.buildbin-libdir && /Users/biocbuild/BBS/utils/build-universal.sh InPAS_2.0.0.tar.gz /Library/Frameworks/R.framework/Versions/Current/Resources/bin/R InPAS.buildbin-libdir
StartedAt: 2021-09-24 02:28:20 -0400 (Fri, 24 Sep 2021)
EndedAt: 2021-09-24 02:29:31 -0400 (Fri, 24 Sep 2021)
EllapsedTime: 71.2 seconds
RetCode: 0
Status:   OK  
PackageFile: InPAS_2.0.0.tgz
PackageFileSize: 3.455 MiB

Command output

##############################################################################
##############################################################################
###
### Running command:
###
###   rm -rf InPAS.buildbin-libdir && mkdir InPAS.buildbin-libdir && /Users/biocbuild/BBS/utils/build-universal.sh InPAS_2.0.0.tar.gz /Library/Frameworks/R.framework/Versions/Current/Resources/bin/R InPAS.buildbin-libdir
###
##############################################################################
##############################################################################


>>>>>>> 
>>>>>>> INSTALLATION WITH 'R CMD INSTALL --preclean --no-multiarch --library=InPAS.buildbin-libdir InPAS_2.0.0.tar.gz'
>>>>>>> 

* installing *source* package ‘InPAS’ ...
** using staged installation
** R
** data
*** moving datasets to lazyload DB
** inst
** byte-compile and prepare package for lazy loading
** help
*** installing help indices
** building package indices
** installing vignettes
** testing if installed package can be loaded from temporary location
** testing if installed package can be loaded from final location
** testing if installed package keeps a record of temporary installation path
* DONE (InPAS)