Back to Multiple platform build/check report for BioC 3.13
ABCDEFG[H]IJKLMNOPQRSTUVWXYZ

All results for package HIPPO

This page was generated on 2021-06-11 14:05:19 -0400 (Fri, 11 Jun 2021).

Package 866/2041HostnameOS / ArchINSTALLBUILDCHECKBUILD BIN
HIPPO 1.4.0  (landing page)
Tae Kim
Snapshot Date: 2021-06-10 06:50:12 -0400 (Thu, 10 Jun 2021)
URL: https://git.bioconductor.org/packages/HIPPO
Branch: RELEASE_3_13
Last Commit: c955c6c
Last Changed Date: 2021-05-19 12:50:50 -0400 (Wed, 19 May 2021)
nebbiolo1Linux (Ubuntu 20.04.2 LTS) / x86_64  OK    OK    OK  UNNEEDED, same version is already published
tokay2Windows Server 2012 R2 Standard / x64  OK    OK    ERROR    OK  
machv2macOS 10.14.6 Mojave / x86_64  OK    OK    OK    OK  UNNEEDED, same version is already published