Index of /checkResults/release/bioc-LATEST/GraphAT/raw-results/tokay2

[ICO]NameLast modifiedSizeDescription

[DIR]Parent Directory  -  
[TXT]buildbin-out.txt16-Oct-2021 04:06 1.9K 
[   ]buildbin-summary.dcf16-Oct-2021 04:06 539  
[TXT]buildsrc-out.txt16-Oct-2021 04:06 831  
[   ]buildsrc-summary.dcf16-Oct-2021 04:06 457  
[TXT]checksrc-out.txt16-Oct-2021 04:06 3.6K 
[   ]checksrc-summary.dcf16-Oct-2021 04:06 462  
[TXT]install-out.txt16-Oct-2021 04:06 2.6K 
[   ]install-summary.dcf16-Oct-2021 04:06 640