Back to Multiple platform build/check report for BioC 3.14
ABCDEF[G]HIJKLMNOPQRSTUVWXYZ

This page was generated on 2021-11-24 15:05:30 -0500 (Wed, 24 Nov 2021).

BUILD BIN results for GenomicOZone on tokay2

To the developers/maintainers of the GenomicOZone package:
- Please allow up to 24 hours (and sometimes 48 hours) for your latest push to git@git.bioconductor.org:packages/GenomicOZone.git to
reflect on this report. See How and When does the builder pull? When will my changes propagate? here for more information.
- Make sure to use the following settings in order to reproduce any error or warning you see on this page.

raw results

Package 755/2083HostnameOS / ArchINSTALLBUILDCHECKBUILD BIN
GenomicOZone 1.8.0  (landing page)
Hua Zhong, Mingzhou Song
Snapshot Date: 2021-11-23 04:15:06 -0500 (Tue, 23 Nov 2021)
git_url: https://git.bioconductor.org/packages/GenomicOZone
git_branch: RELEASE_3_14
git_last_commit: e05e948
git_last_commit_date: 2021-10-26 12:53:34 -0500 (Tue, 26 Oct 2021)
nebbiolo2Linux (Ubuntu 20.04.3 LTS) / x86_64  OK    OK    OK  UNNEEDED, same version is already published
tokay2Windows Server 2012 R2 Standard / x64  OK    OK    OK    OK  UNNEEDED, same version is already published
machv2macOS 10.14.6 Mojave / x86_64  OK    OK    OK    OK  UNNEEDED, same version is already published

Summary

Package: GenomicOZone
Version: 1.8.0
Command: rm -rf GenomicOZone.buildbin-libdir && mkdir GenomicOZone.buildbin-libdir && C:\Users\biocbuild\bbs-3.14-bioc\R\bin\R.exe CMD INSTALL --merge-multiarch --build --library=GenomicOZone.buildbin-libdir GenomicOZone_1.8.0.tar.gz
StartedAt: 2021-11-24 09:09:44 -0500 (Wed, 24 Nov 2021)
EndedAt: 2021-11-24 09:11:18 -0500 (Wed, 24 Nov 2021)
EllapsedTime: 94.0 seconds
RetCode: 0
Status:   OK  
PackageFile: GenomicOZone_1.8.0.zip
PackageFileSize: 996.9 KiB

Command output

##############################################################################
##############################################################################
###
### Running command:
###
###   rm -rf GenomicOZone.buildbin-libdir && mkdir GenomicOZone.buildbin-libdir && C:\Users\biocbuild\bbs-3.14-bioc\R\bin\R.exe CMD INSTALL --merge-multiarch --build --library=GenomicOZone.buildbin-libdir GenomicOZone_1.8.0.tar.gz
###
##############################################################################
##############################################################################



install for i386

* installing *source* package 'GenomicOZone' ...
** using staged installation
** R
** inst
** byte-compile and prepare package for lazy loading
** help
*** installing help indices
  converting help for package 'GenomicOZone'
    finding HTML links ... done
    GOZDataSet                              html  
    GenomicOZone                            html  
    extract_outputs                         html  
    generate_plots                          html  
** building package indices
** installing vignettes
** testing if installed package can be loaded from temporary location
** testing if installed package can be loaded from final location
** testing if installed package keeps a record of temporary installation path

install for x64

* installing *source* package 'GenomicOZone' ...
** testing if installed package can be loaded
* MD5 sums
packaged installation of 'GenomicOZone' as GenomicOZone_1.8.0.zip
* DONE (GenomicOZone)