Index of /checkResults/release/bioc-LATEST/GenomicOZone/raw-results

[ICO]NameLast modifiedSizeDescription

[DIR]Parent Directory  -  
[   ]info.dcf26-Nov-2022 01:09 311  
[DIR]kjohnson/12-Jul-2022 00:06 -  
[DIR]lconway/26-Nov-2022 01:09 -  
[DIR]nebbiolo2/26-Nov-2022 01:05 -  
[DIR]palomino4/26-Nov-2022 01:07 -