Back to Multiple platform build/check report for BioC 3.16
ABCDEF[G]HIJKLMNOPQRSTUVWXYZ

This page was generated on 2023-02-01 11:07:00 -0500 (Wed, 01 Feb 2023).

HostnameOSArch (*)R versionInstalled pkgs
nebbiolo2Linux (Ubuntu 20.04.5 LTS)x86_644.2.2 (2022-10-31) -- "Innocent and Trusting" 4511
palomino4Windows Server 2022 Datacenterx644.2.2 (2022-10-31 ucrt) -- "Innocent and Trusting" 4289
lconwaymacOS 12.5.1 Montereyx86_644.2.2 (2022-10-31) -- "Innocent and Trusting" 4318
Click on any hostname to see more info about the system (e.g. compilers)      (*) as reported by 'uname -p', except on Windows and Mac OS X

BUILD BIN results for GenomicOZone on palomino4


To the developers/maintainers of the GenomicOZone package:
- Please allow up to 24 hours (and sometimes 48 hours) for your latest push to git@git.bioconductor.org:packages/GenomicOZone.git to
reflect on this report. See How and When does the builder pull? When will my changes propagate? for more information.
- Make sure to use the following settings in order to reproduce any error or warning you see on this page.

raw results

Package 790/2183HostnameOS / ArchINSTALLBUILDCHECKBUILD BIN
GenomicOZone 1.12.0  (landing page)
Hua Zhong, Mingzhou Song
Snapshot Date: 2023-01-31 14:00:04 -0500 (Tue, 31 Jan 2023)
git_url: https://git.bioconductor.org/packages/GenomicOZone
git_branch: RELEASE_3_16
git_last_commit: e6068df
git_last_commit_date: 2022-11-01 11:20:20 -0500 (Tue, 01 Nov 2022)
nebbiolo2Linux (Ubuntu 20.04.5 LTS) / x86_64  OK    OK    OK  UNNEEDED, same version is already published
palomino4Windows Server 2022 Datacenter / x64  OK    OK    OK    OK  UNNEEDED, same version is already published
lconwaymacOS 12.5.1 Monterey / x86_64  OK    OK    OK    OK  UNNEEDED, same version is already published

Summary

Package: GenomicOZone
Version: 1.12.0
Command: rm -rf GenomicOZone.buildbin-libdir && mkdir GenomicOZone.buildbin-libdir && F:\biocbuild\bbs-3.16-bioc\R\bin\R.exe CMD INSTALL --build --library=GenomicOZone.buildbin-libdir GenomicOZone_1.12.0.tar.gz
StartedAt: 2023-02-01 07:57:38 -0500 (Wed, 01 Feb 2023)
EndedAt: 2023-02-01 07:58:41 -0500 (Wed, 01 Feb 2023)
EllapsedTime: 63.4 seconds
RetCode: 0
Status:   OK  
PackageFile: GenomicOZone_1.12.0.zip
PackageFileSize: 984.5 KiB

Command output

##############################################################################
##############################################################################
###
### Running command:
###
###   rm -rf GenomicOZone.buildbin-libdir && mkdir GenomicOZone.buildbin-libdir && F:\biocbuild\bbs-3.16-bioc\R\bin\R.exe CMD INSTALL --build --library=GenomicOZone.buildbin-libdir GenomicOZone_1.12.0.tar.gz
###
##############################################################################
##############################################################################


* installing *source* package 'GenomicOZone' ...
** using staged installation
** R
** inst
** byte-compile and prepare package for lazy loading
** help
*** installing help indices
** building package indices
** installing vignettes
** testing if installed package can be loaded from temporary location
** testing if installed package can be loaded from final location
** testing if installed package keeps a record of temporary installation path
* MD5 sums
packaged installation of 'GenomicOZone' as GenomicOZone_1.12.0.zip
* DONE (GenomicOZone)