Back to Multiple platform build/check report for BioC 3.14
ABCDEF[G]HIJKLMNOPQRSTUVWXYZ

This page was generated on 2021-11-24 15:06:03 -0500 (Wed, 24 Nov 2021).

BUILD results for GenomicOZone on machv2

To the developers/maintainers of the GenomicOZone package:
- Please allow up to 24 hours (and sometimes 48 hours) for your latest push to git@git.bioconductor.org:packages/GenomicOZone.git to
reflect on this report. See How and When does the builder pull? When will my changes propagate? here for more information.
- Make sure to use the following settings in order to reproduce any error or warning you see on this page.

raw results

Package 755/2083HostnameOS / ArchINSTALLBUILDCHECKBUILD BIN
GenomicOZone 1.8.0  (landing page)
Hua Zhong, Mingzhou Song
Snapshot Date: 2021-11-23 04:15:06 -0500 (Tue, 23 Nov 2021)
git_url: https://git.bioconductor.org/packages/GenomicOZone
git_branch: RELEASE_3_14
git_last_commit: e05e948
git_last_commit_date: 2021-10-26 12:53:34 -0500 (Tue, 26 Oct 2021)
nebbiolo2Linux (Ubuntu 20.04.3 LTS) / x86_64  OK    OK    OK  UNNEEDED, same version is already published
tokay2Windows Server 2012 R2 Standard / x64  OK    OK    OK    OK  UNNEEDED, same version is already published
machv2macOS 10.14.6 Mojave / x86_64  OK    OK    OK    OK  UNNEEDED, same version is already published

Summary

Package: GenomicOZone
Version: 1.8.0
Command: /Library/Frameworks/R.framework/Resources/bin/R CMD build --keep-empty-dirs --no-resave-data GenomicOZone
StartedAt: 2021-11-23 09:21:50 -0500 (Tue, 23 Nov 2021)
EndedAt: 2021-11-23 09:24:53 -0500 (Tue, 23 Nov 2021)
EllapsedTime: 182.2 seconds
RetCode: 0
Status:   OK  
PackageFile: GenomicOZone_1.8.0.tar.gz
PackageFileSize: 932 KiB

Command output

##############################################################################
##############################################################################
###
### Running command:
###
###   /Library/Frameworks/R.framework/Resources/bin/R CMD build --keep-empty-dirs --no-resave-data GenomicOZone
###
##############################################################################
##############################################################################


* checking for file ‘GenomicOZone/DESCRIPTION’ ... OK
* preparing ‘GenomicOZone’:
* checking DESCRIPTION meta-information ... OK
* installing the package to process help pages
Loading required namespace: GenomicOZone
Registered S3 method overwritten by 'GGally':
  method from   
  +.gg   ggplot2
* saving partial Rd database
* creating vignettes ... OK
* checking for LF line-endings in source and make files and shell scripts
* checking for empty or unneeded directories
Omitted 'LazyData' from DESCRIPTION
* building 'GenomicOZone_1.8.0.tar.gz'