Back to Multiple platform build/check report for BioC 3.13
ABCDEF[G]HIJKLMNOPQRSTUVWXYZ

This page was generated on 2021-09-13 15:06:27 -0400 (Mon, 13 Sep 2021).

BUILD results for GenomicAlignments on tokay2

To the developers/maintainers of the GenomicAlignments package:
- Please allow up to 24 hours (and sometimes 48 hours) for your latest push to git@git.bioconductor.org:packages/GenomicAlignments.git to
reflect on this report. See How and When does the builder pull? When will my changes propagate? here for more information.
- Make sure to use the following settings in order to reproduce any error or warning you see on this page.

raw results

Package 739/2041HostnameOS / ArchINSTALLBUILDCHECKBUILD BIN
GenomicAlignments 1.28.0  (landing page)
Bioconductor Package Maintainer
Snapshot Date: 2021-09-12 04:50:10 -0400 (Sun, 12 Sep 2021)
git_url: https://git.bioconductor.org/packages/GenomicAlignments
git_branch: RELEASE_3_13
git_last_commit: e755dc1
git_last_commit_date: 2021-05-19 12:01:53 -0400 (Wed, 19 May 2021)
nebbiolo1Linux (Ubuntu 20.04.2 LTS) / x86_64  OK    OK    OK  UNNEEDED, same version is already published
tokay2Windows Server 2012 R2 Standard / x64  OK    OK    OK    OK  UNNEEDED, same version is already published
machv2macOS 10.14.6 Mojave / x86_64  OK    OK    OK    OK  UNNEEDED, same version is already published

Summary

Package: GenomicAlignments
Version: 1.28.0
Command: chmod a+r GenomicAlignments -R && C:\Users\biocbuild\bbs-3.13-bioc\R\bin\R.exe CMD build --keep-empty-dirs --no-resave-data GenomicAlignments
StartedAt: 2021-09-12 14:02:24 -0400 (Sun, 12 Sep 2021)
EndedAt: 2021-09-12 14:05:27 -0400 (Sun, 12 Sep 2021)
EllapsedTime: 183.3 seconds
RetCode: 0
Status:   OK  
PackageFile: GenomicAlignments_1.28.0.tar.gz
PackageFileSize: 2.213 MiB

Command output

##############################################################################
##############################################################################
###
### Running command:
###
###   chmod a+r GenomicAlignments -R && C:\Users\biocbuild\bbs-3.13-bioc\R\bin\R.exe CMD build --keep-empty-dirs --no-resave-data GenomicAlignments
###
##############################################################################
##############################################################################


* checking for file 'GenomicAlignments/DESCRIPTION' ... OK
* preparing 'GenomicAlignments':
* checking DESCRIPTION meta-information ... OK
* cleaning src
* installing the package to build vignettes
* creating vignettes ... OK
* cleaning src
* checking for LF line-endings in source and make files and shell scripts
* checking for empty or unneeded directories
* building 'GenomicAlignments_1.28.0.tar.gz'