Back to Multiple platform build/check report for BioC 3.13
ABCDEF[G]HIJKLMNOPQRSTUVWXYZ

This page was generated on 2021-09-20 15:04:50 -0400 (Mon, 20 Sep 2021).

CHECK results for GenomicAlignments on nebbiolo1

To the developers/maintainers of the GenomicAlignments package:
- Please allow up to 24 hours (and sometimes 48 hours) for your latest push to git@git.bioconductor.org:packages/GenomicAlignments.git to
reflect on this report. See How and When does the builder pull? When will my changes propagate? here for more information.
- Make sure to use the following settings in order to reproduce any error or warning you see on this page.

raw results

Package 739/2041HostnameOS / ArchINSTALLBUILDCHECKBUILD BIN
GenomicAlignments 1.28.0  (landing page)
Bioconductor Package Maintainer
Snapshot Date: 2021-09-19 04:50:10 -0400 (Sun, 19 Sep 2021)
git_url: https://git.bioconductor.org/packages/GenomicAlignments
git_branch: RELEASE_3_13
git_last_commit: e755dc1
git_last_commit_date: 2021-05-19 12:01:53 -0400 (Wed, 19 May 2021)
nebbiolo1Linux (Ubuntu 20.04.2 LTS) / x86_64  OK    OK    OK  UNNEEDED, same version is already published
tokay2Windows Server 2012 R2 Standard / x64  OK    OK    OK    OK  UNNEEDED, same version is already published
machv2macOS 10.14.6 Mojave / x86_64  OK    OK    OK    OK  UNNEEDED, same version is already published

Summary

Package: GenomicAlignments
Version: 1.28.0
Command: /home/biocbuild/bbs-3.13-bioc/R/bin/R CMD check --install=check:GenomicAlignments.install-out.txt --library=/home/biocbuild/bbs-3.13-bioc/R/library --no-vignettes --timings GenomicAlignments_1.28.0.tar.gz
StartedAt: 2021-09-19 09:56:28 -0400 (Sun, 19 Sep 2021)
EndedAt: 2021-09-19 10:00:37 -0400 (Sun, 19 Sep 2021)
EllapsedTime: 248.8 seconds
RetCode: 0
Status:   OK  
CheckDir: GenomicAlignments.Rcheck
Warnings: 0

Command output

##############################################################################
##############################################################################
###
### Running command:
###
###   /home/biocbuild/bbs-3.13-bioc/R/bin/R CMD check --install=check:GenomicAlignments.install-out.txt --library=/home/biocbuild/bbs-3.13-bioc/R/library --no-vignettes --timings GenomicAlignments_1.28.0.tar.gz
###
##############################################################################
##############################################################################


* using log directory ‘/home/biocbuild/bbs-3.13-bioc/meat/GenomicAlignments.Rcheck’
* using R version 4.1.1 (2021-08-10)
* using platform: x86_64-pc-linux-gnu (64-bit)
* using session charset: UTF-8
* using option ‘--no-vignettes’
* checking for file ‘GenomicAlignments/DESCRIPTION’ ... OK
* this is package ‘GenomicAlignments’ version ‘1.28.0’
* package encoding: UTF-8
* checking package namespace information ... OK
* checking package dependencies ... NOTE
Depends: includes the non-default packages:
  'BiocGenerics', 'S4Vectors', 'IRanges', 'GenomeInfoDb',
  'GenomicRanges', 'SummarizedExperiment', 'Biostrings', 'Rsamtools'
Adding so many packages to the search path is excessive and importing
selectively is preferable.
* checking if this is a source package ... OK
* checking if there is a namespace ... OK
* checking for hidden files and directories ... OK
* checking for portable file names ... OK
* checking for sufficient/correct file permissions ... OK
* checking whether package ‘GenomicAlignments’ can be installed ... OK
* checking installed package size ... OK
* checking package directory ... OK
* checking ‘build’ directory ... OK
* checking DESCRIPTION meta-information ... NOTE
Packages listed in more than one of Depends, Imports, Suggests, Enhances:
  ‘methods’ ‘BiocGenerics’ ‘S4Vectors’ ‘IRanges’ ‘GenomicRanges’ ‘Biostrings’ ‘Rsamtools’
A package should be listed in only one of these fields.
* checking top-level files ... OK
* checking for left-over files ... OK
* checking index information ... OK
* checking package subdirectories ... OK
* checking R files for non-ASCII characters ... OK
* checking R files for syntax errors ... OK
* checking whether the package can be loaded ... OK
* checking whether the package can be loaded with stated dependencies ... OK
* checking whether the package can be unloaded cleanly ... OK
* checking whether the namespace can be loaded with stated dependencies ... OK
* checking whether the namespace can be unloaded cleanly ... OK
* checking dependencies in R code ... NOTE
':::' calls which should be '::':
  ‘S4Vectors:::makeClassinfoRowForCompactPrinting’
  ‘S4Vectors:::makePrettyMatrixForCompactPrinting’
  See the note in ?`:::` about the use of this operator.
Unexported objects imported by ':::' calls:
  ‘Biostrings:::.normarg_padding.letter’
  ‘Rsamtools:::.BamViews_delegate’ ‘Rsamtools:::.findMateWithinGroups’
  ‘Rsamtools:::.load_bamcols_from_scanBam_res’
  See the note in ?`:::` about the use of this operator.
* checking S3 generic/method consistency ... OK
* checking replacement functions ... OK
* checking foreign function calls ... OK
* checking R code for possible problems ... OK
* checking Rd files ... OK
* checking Rd metadata ... OK
* checking Rd cross-references ... OK
* checking for missing documentation entries ... OK
* checking for code/documentation mismatches ... OK
* checking Rd \usage sections ... OK
* checking Rd contents ... OK
* checking for unstated dependencies in examples ... OK
* checking line endings in C/C++/Fortran sources/headers ... OK
* checking compiled code ... NOTE
Note: information on .o files is not available
* checking files in ‘vignettes’ ... OK
* checking examples ... OK
Examples with CPU (user + system) or elapsed time > 5s
                             user system elapsed
junctions-methods          14.142  0.416  14.563
readGAlignments            13.258  0.345  13.620
coordinate-mapping-methods  7.196  0.136   7.332
summarizeOverlaps-methods   6.718  0.537   6.854
sequenceLayer               5.280  0.984   6.265
findSpliceOverlaps-methods  6.017  0.084   6.110
* checking for unstated dependencies in ‘tests’ ... OK
* checking tests ...
  Running ‘run_unitTests.R’
 OK
* checking for unstated dependencies in vignettes ... OK
* checking package vignettes in ‘inst/doc’ ... OK
* checking running R code from vignettes ... SKIPPED
* checking re-building of vignette outputs ... SKIPPED
* checking PDF version of manual ... OK
* DONE

Status: 4 NOTEs
See
  ‘/home/biocbuild/bbs-3.13-bioc/meat/GenomicAlignments.Rcheck/00check.log’
for details.



Installation output

GenomicAlignments.Rcheck/00install.out

##############################################################################
##############################################################################
###
### Running command:
###
###   /home/biocbuild/bbs-3.13-bioc/R/bin/R CMD INSTALL GenomicAlignments
###
##############################################################################
##############################################################################


* installing to library ‘/home/biocbuild/bbs-3.13-bioc/R/library’
* installing *source* package ‘GenomicAlignments’ ...
** using staged installation
** libs
gcc -I"/home/biocbuild/bbs-3.13-bioc/R/include" -DNDEBUG  -I'/home/biocbuild/bbs-3.13-bioc/R/library/S4Vectors/include' -I'/home/biocbuild/bbs-3.13-bioc/R/library/IRanges/include' -I/usr/local/include   -fpic  -g -O2  -Wall -c IRanges_stubs.c -o IRanges_stubs.o
gcc -I"/home/biocbuild/bbs-3.13-bioc/R/include" -DNDEBUG  -I'/home/biocbuild/bbs-3.13-bioc/R/library/S4Vectors/include' -I'/home/biocbuild/bbs-3.13-bioc/R/library/IRanges/include' -I/usr/local/include   -fpic  -g -O2  -Wall -c R_init_GenomicAlignments.c -o R_init_GenomicAlignments.o
gcc -I"/home/biocbuild/bbs-3.13-bioc/R/include" -DNDEBUG  -I'/home/biocbuild/bbs-3.13-bioc/R/library/S4Vectors/include' -I'/home/biocbuild/bbs-3.13-bioc/R/library/IRanges/include' -I/usr/local/include   -fpic  -g -O2  -Wall -c S4Vectors_stubs.c -o S4Vectors_stubs.o
gcc -I"/home/biocbuild/bbs-3.13-bioc/R/include" -DNDEBUG  -I'/home/biocbuild/bbs-3.13-bioc/R/library/S4Vectors/include' -I'/home/biocbuild/bbs-3.13-bioc/R/library/IRanges/include' -I/usr/local/include   -fpic  -g -O2  -Wall -c cigar_utils.c -o cigar_utils.o
cigar_utils.c: In function ‘cigar_ranges’:
cigar_utils.c:676:9: warning: ‘f_elt’ may be used uninitialized in this function [-Wmaybe-uninitialized]
  676 |    f_elt++;
      |    ~~~~~^~
cigar_utils.c:674:22: warning: ‘range_buf1’ may be used uninitialized in this function [-Wmaybe-uninitialized]
  674 |    *(breakpoint++) = IntPairAE_get_nelt(range_buf1);
      |                      ^~~~~~~~~~~~~~~~~~~~~~~~~~~~~~
cigar_utils.c:674:16: warning: ‘breakpoint’ may be used uninitialized in this function [-Wmaybe-uninitialized]
  674 |    *(breakpoint++) = IntPairAE_get_nelt(range_buf1);
      |     ~~~~~~~~~~~^~~
cigar_utils.c:626:8: warning: ‘flag_elt’ may be used uninitialized in this function [-Wmaybe-uninitialized]
  626 |    if (*flag_elt == NA_INTEGER) {
      |        ^~~~~~~~~
cigar_utils.c: In function ‘cigar_width’:
cigar_utils.c:708:8: warning: ‘flag_elt’ may be used uninitialized in this function [-Wmaybe-uninitialized]
  708 |    if (*flag_elt == NA_INTEGER) {
      |        ^~~~~~~~~
cigar_utils.c: In function ‘cigar_narrow’:
cigar_utils.c:880:6: warning: ‘Roffset’ may be used uninitialized in this function [-Wmaybe-uninitialized]
  880 |   if (offset == Roffset)
      |      ^
cigar_utils.c:852:15: note: ‘Roffset’ was declared here
  852 |  int Loffset, Roffset, buf_offset;
      |               ^~~~~~~
cigar_utils.c:878:6: warning: ‘Loffset’ may be used uninitialized in this function [-Wmaybe-uninitialized]
  878 |   if (offset == Loffset)
      |      ^
cigar_utils.c:852:6: note: ‘Loffset’ was declared here
  852 |  int Loffset, Roffset, buf_offset;
      |      ^~~~~~~
cigar_utils.c: In function ‘cigar_qnarrow’:
cigar_utils.c:1064:6: warning: ‘Roffset’ may be used uninitialized in this function [-Wmaybe-uninitialized]
 1064 |   if (offset == Roffset)
      |      ^
cigar_utils.c:1036:15: note: ‘Roffset’ was declared here
 1036 |  int Loffset, Roffset, buf_offset;
      |               ^~~~~~~
cigar_utils.c:1062:6: warning: ‘Loffset’ may be used uninitialized in this function [-Wmaybe-uninitialized]
 1062 |   if (offset == Loffset)
      |      ^
cigar_utils.c:1036:6: note: ‘Loffset’ was declared here
 1036 |  int Loffset, Roffset, buf_offset;
      |      ^~~~~~~
gcc -I"/home/biocbuild/bbs-3.13-bioc/R/include" -DNDEBUG  -I'/home/biocbuild/bbs-3.13-bioc/R/library/S4Vectors/include' -I'/home/biocbuild/bbs-3.13-bioc/R/library/IRanges/include' -I/usr/local/include   -fpic  -g -O2  -Wall -c coordinate_mapping_methods.c -o coordinate_mapping_methods.o
gcc -I"/home/biocbuild/bbs-3.13-bioc/R/include" -DNDEBUG  -I'/home/biocbuild/bbs-3.13-bioc/R/library/S4Vectors/include' -I'/home/biocbuild/bbs-3.13-bioc/R/library/IRanges/include' -I/usr/local/include   -fpic  -g -O2  -Wall -c encodeOverlaps_methods.c -o encodeOverlaps_methods.o
encodeOverlaps_methods.c: In function ‘overlap_encoding’:
encodeOverlaps_methods.c:180:33: warning: ‘out_nelt0’ may be used uninitialized in this function [-Wmaybe-uninitialized]
  180 |  CharAE_set_nelt(out, out_nelt0 + j2 * nrow);
      |                       ~~~~~~~~~~^~~~~~~~~~~
encodeOverlaps_methods.c:99:6: note: ‘out_nelt0’ was declared here
   99 |  int out_nelt0, i, starti, widthi, spacei, j, startj, widthj, spacej,
      |      ^~~~~~~~~
gcc -shared -L/home/biocbuild/bbs-3.13-bioc/R/lib -L/usr/local/lib -o GenomicAlignments.so IRanges_stubs.o R_init_GenomicAlignments.o S4Vectors_stubs.o cigar_utils.o coordinate_mapping_methods.o encodeOverlaps_methods.o -L/home/biocbuild/bbs-3.13-bioc/R/lib -lR
installing to /home/biocbuild/bbs-3.13-bioc/R/library/00LOCK-GenomicAlignments/00new/GenomicAlignments/libs
** R
** inst
** byte-compile and prepare package for lazy loading
** help
*** installing help indices
** building package indices
** installing vignettes
** testing if installed package can be loaded from temporary location
** checking absolute paths in shared objects and dynamic libraries
** testing if installed package can be loaded from final location
** testing if installed package keeps a record of temporary installation path
* DONE (GenomicAlignments)

Tests output

GenomicAlignments.Rcheck/tests/run_unitTests.Rout


R version 4.1.1 (2021-08-10) -- "Kick Things"
Copyright (C) 2021 The R Foundation for Statistical Computing
Platform: x86_64-pc-linux-gnu (64-bit)

R is free software and comes with ABSOLUTELY NO WARRANTY.
You are welcome to redistribute it under certain conditions.
Type 'license()' or 'licence()' for distribution details.

R is a collaborative project with many contributors.
Type 'contributors()' for more information and
'citation()' on how to cite R or R packages in publications.

Type 'demo()' for some demos, 'help()' for on-line help, or
'help.start()' for an HTML browser interface to help.
Type 'q()' to quit R.

> require("GenomicAlignments") || stop("unable to load GenomicRanges package")
Loading required package: GenomicAlignments
Loading required package: BiocGenerics
Loading required package: parallel

Attaching package: 'BiocGenerics'

The following objects are masked from 'package:parallel':

    clusterApply, clusterApplyLB, clusterCall, clusterEvalQ,
    clusterExport, clusterMap, parApply, parCapply, parLapply,
    parLapplyLB, parRapply, parSapply, parSapplyLB

The following objects are masked from 'package:stats':

    IQR, mad, sd, var, xtabs

The following objects are masked from 'package:base':

    Filter, Find, Map, Position, Reduce, anyDuplicated, append,
    as.data.frame, basename, cbind, colnames, dirname, do.call,
    duplicated, eval, evalq, get, grep, grepl, intersect, is.unsorted,
    lapply, mapply, match, mget, order, paste, pmax, pmax.int, pmin,
    pmin.int, rank, rbind, rownames, sapply, setdiff, sort, table,
    tapply, union, unique, unsplit, which.max, which.min

Loading required package: S4Vectors
Loading required package: stats4

Attaching package: 'S4Vectors'

The following objects are masked from 'package:base':

    I, expand.grid, unname

Loading required package: IRanges
Loading required package: GenomeInfoDb
Loading required package: GenomicRanges
Loading required package: SummarizedExperiment
Loading required package: MatrixGenerics
Loading required package: matrixStats

Attaching package: 'MatrixGenerics'

The following objects are masked from 'package:matrixStats':

    colAlls, colAnyNAs, colAnys, colAvgsPerRowSet, colCollapse,
    colCounts, colCummaxs, colCummins, colCumprods, colCumsums,
    colDiffs, colIQRDiffs, colIQRs, colLogSumExps, colMadDiffs,
    colMads, colMaxs, colMeans2, colMedians, colMins, colOrderStats,
    colProds, colQuantiles, colRanges, colRanks, colSdDiffs, colSds,
    colSums2, colTabulates, colVarDiffs, colVars, colWeightedMads,
    colWeightedMeans, colWeightedMedians, colWeightedSds,
    colWeightedVars, rowAlls, rowAnyNAs, rowAnys, rowAvgsPerColSet,
    rowCollapse, rowCounts, rowCummaxs, rowCummins, rowCumprods,
    rowCumsums, rowDiffs, rowIQRDiffs, rowIQRs, rowLogSumExps,
    rowMadDiffs, rowMads, rowMaxs, rowMeans2, rowMedians, rowMins,
    rowOrderStats, rowProds, rowQuantiles, rowRanges, rowRanks,
    rowSdDiffs, rowSds, rowSums2, rowTabulates, rowVarDiffs, rowVars,
    rowWeightedMads, rowWeightedMeans, rowWeightedMedians,
    rowWeightedSds, rowWeightedVars

Loading required package: Biobase
Welcome to Bioconductor

    Vignettes contain introductory material; view with
    'browseVignettes()'. To cite Bioconductor, see
    'citation("Biobase")', and for packages 'citation("pkgname")'.


Attaching package: 'Biobase'

The following object is masked from 'package:MatrixGenerics':

    rowMedians

The following objects are masked from 'package:matrixStats':

    anyMissing, rowMedians

Loading required package: Biostrings
Loading required package: XVector

Attaching package: 'Biostrings'

The following object is masked from 'package:base':

    strsplit

Loading required package: Rsamtools
[1] TRUE
> GenomicAlignments:::.test()


RUNIT TEST PROTOCOL -- Sun Sep 19 10:00:32 2021 
*********************************************** 
Number of test functions: 42 
Number of errors: 0 
Number of failures: 0 

 
1 Test Suite : 
GenomicAlignments RUnit Tests - 42 test functions, 0 errors, 0 failures
Number of test functions: 42 
Number of errors: 0 
Number of failures: 0 
Warning message:
In .make_GAlignmentPairs_from_GAlignments(gal, strandMode = strandMode,  :
    4 alignments with ambiguous pairing were dumped.
    Use 'getDumpedAlignments()' to retrieve them from the dump environment.
> 
> proc.time()
   user  system elapsed 
 26.722   1.536  27.826 

Example timings

GenomicAlignments.Rcheck/GenomicAlignments-Ex.timings

nameusersystemelapsed
GAlignmentPairs-class0.9520.1161.067
GAlignments-class0.4740.0240.498
GAlignmentsList-class2.7660.0362.803
GappedReads-class0.0990.0000.098
OverlapEncodings-class0.9130.0110.925
cigar-utils0.1930.0230.216
coordinate-mapping-methods7.1960.1367.332
coverage-methods2.8370.0472.885
encodeOverlaps-methods0.0370.0000.037
findCompatibleOverlaps-methods1.0130.0241.037
findMateAlignment0.1570.0040.161
findOverlaps-methods0.4840.0200.504
findSpliceOverlaps-methods6.0170.0846.110
intra-range-methods0.3240.0080.332
junctions-methods14.142 0.41614.563
pileLettersAt0.5920.0240.616
readGAlignments13.258 0.34513.620
sequenceLayer5.2800.9846.265
setops-methods0.1560.0030.161
stackStringsFromGAlignments4.5520.1244.676
summarizeOverlaps-methods6.7180.5376.854