Back to Multiple platform build/check report for BioC 3.13
ABCDEF[G]HIJKLMNOPQRSTUVWXYZ

This page was generated on 2021-09-22 15:04:27 -0400 (Wed, 22 Sep 2021).

All results for package GenomicAlignments

To the developers/maintainers of the GenomicAlignments package:
- Please allow up to 24 hours (and sometimes 48 hours) for your latest push to git@git.bioconductor.org:packages/GenomicAlignments.git to
reflect on this report. See How and When does the builder pull? When will my changes propagate? here for more information.
- Make sure to use the following settings in order to reproduce any error or warning you see on this page.

raw results

Package 739/2041HostnameOS / ArchINSTALLBUILDCHECKBUILD BIN
GenomicAlignments 1.28.0  (landing page)
Bioconductor Package Maintainer
Snapshot Date: 2021-09-21 04:50:12 -0400 (Tue, 21 Sep 2021)
git_url: https://git.bioconductor.org/packages/GenomicAlignments
git_branch: RELEASE_3_13
git_last_commit: e755dc1
git_last_commit_date: 2021-05-19 12:01:53 -0400 (Wed, 19 May 2021)
nebbiolo1Linux (Ubuntu 20.04.2 LTS) / x86_64  OK    OK    OK  UNNEEDED, same version is already published
tokay2Windows Server 2012 R2 Standard / x64  OK    OK    OK    OK  UNNEEDED, same version is already published
machv2macOS 10.14.6 Mojave / x86_64  OK    OK    OK    OK  UNNEEDED, same version is already published

Results for Bioconductor software packages that depend directly on package GenomicAlignments

QUICK STATSOS / ArchINSTALLBUILDCHECKBUILD BIN
nebbiolo1Linux (Ubuntu 20.04.2 LTS) / x86_64
01106
03104
042377
tokay2Windows Server 2012 R2 Standard / x64
01102
03100
342271
00100
machv2macOS 10.14.6 Mojave / x86_64
01105
03103
042376
00103
Package 1/107HostnameOS / ArchINSTALLBUILDCHECKBUILD BIN
AllelicImbalance 1.30.0  (landing page)
Jesper R Gadin
git_last_commit: 5e00a1f
git_last_commit_date: 2021-05-19 12:00:58 -0400
nebbiolo1Linux (Ubuntu 20.04.2 LTS) / x86_64  OK    OK    OK  UNNEEDED, same version is already published
tokay2Windows Server 2012 R2 Standard / x64  OK    OK    OK    OK  UNNEEDED, same version is already published
machv2macOS 10.14.6 Mojave / x86_64  OK    OK    OK    OK  UNNEEDED, same version is already published
Package 2/107HostnameOS / ArchINSTALLBUILDCHECKBUILD BIN
alpine 1.18.0  (landing page)
Michael Love
git_last_commit: 06257d2
git_last_commit_date: 2021-05-19 12:22:33 -0400
nebbiolo1Linux (Ubuntu 20.04.2 LTS) / x86_64  OK    OK    OK  UNNEEDED, same version is already published
tokay2Windows Server 2012 R2 Standard / x64  OK    OK    OK    OK  UNNEEDED, same version is already published
machv2macOS 10.14.6 Mojave / x86_64  OK    OK    OK    OK  UNNEEDED, same version is already published
Package 3/107HostnameOS / ArchINSTALLBUILDCHECKBUILD BIN
AneuFinder 1.20.0  (landing page)
Aaron Taudt
git_last_commit: 1c7aed6
git_last_commit_date: 2021-05-19 12:19:05 -0400
nebbiolo1Linux (Ubuntu 20.04.2 LTS) / x86_64  OK    OK    OK  UNNEEDED, same version is already published
tokay2Windows Server 2012 R2 Standard / x64  OK    OK    OK    OK  UNNEEDED, same version is already published
machv2macOS 10.14.6 Mojave / x86_64  OK    OK    OK    OK  UNNEEDED, same version is already published
Package 4/107HostnameOS / ArchINSTALLBUILDCHECKBUILD BIN
APAlyzer 1.6.0  (landing page)
Ruijia Wang
git_last_commit: e2978dc
git_last_commit_date: 2021-05-19 12:45:23 -0400
nebbiolo1Linux (Ubuntu 20.04.2 LTS) / x86_64  OK    OK    OK  UNNEEDED, same version is already published
tokay2Windows Server 2012 R2 Standard / x64  OK    OK    OK    OK  UNNEEDED, same version is already published
machv2macOS 10.14.6 Mojave / x86_64  OK    OK    OK    OK  UNNEEDED, same version is already published
Package 5/107HostnameOS / ArchINSTALLBUILDCHECKBUILD BIN
ASpediaFI 1.6.0  (landing page)
Doyeong Yu
git_last_commit: a36105f
git_last_commit_date: 2021-05-19 12:47:16 -0400
nebbiolo1Linux (Ubuntu 20.04.2 LTS) / x86_64  OK    OK    OK  UNNEEDED, same version is already published
tokay2Windows Server 2012 R2 Standard / x64  OK    OK    OK    OK  UNNEEDED, same version is already published
machv2macOS 10.14.6 Mojave / x86_64  OK    OK    OK    OK  UNNEEDED, same version is already published
Package 6/107HostnameOS / ArchINSTALLBUILDCHECKBUILD BIN
ASpli 2.2.0  (landing page)
Estefania Mancini
git_last_commit: 6dddfb0
git_last_commit_date: 2021-05-19 12:22:07 -0400
nebbiolo1Linux (Ubuntu 20.04.2 LTS) / x86_64  OK    OK    OK  UNNEEDED, same version is already published
tokay2Windows Server 2012 R2 Standard / x64  OK    OK    OK    OK  UNNEEDED, same version is already published
machv2macOS 10.14.6 Mojave / x86_64  OK    OK    OK    OK  UNNEEDED, same version is already published
Package 7/107HostnameOS / ArchINSTALLBUILDCHECKBUILD BIN
ATACseqQC 1.16.0  (landing page)
Jianhong Ou
git_last_commit: e345154
git_last_commit_date: 2021-05-19 12:27:43 -0400
nebbiolo1Linux (Ubuntu 20.04.2 LTS) / x86_64  OK    OK    OK  UNNEEDED, same version is already published
tokay2Windows Server 2012 R2 Standard / x64  OK    OK    OK    OK  UNNEEDED, same version is already published
machv2macOS 10.14.6 Mojave / x86_64  OK    OK    OK    OK  UNNEEDED, same version is already published
Package 8/107HostnameOS / ArchINSTALLBUILDCHECKBUILD BIN
BaalChIP 1.18.0  (landing page)
Ines de Santiago
git_last_commit: 49e2ae7
git_last_commit_date: 2021-05-19 12:22:59 -0400
nebbiolo1Linux (Ubuntu 20.04.2 LTS) / x86_64  OK    OK    WARNINGS  UNNEEDED, same version is already published
tokay2Windows Server 2012 R2 Standard / x64  OK    OK    WARNINGS    OK  UNNEEDED, same version is already published
machv2macOS 10.14.6 Mojave / x86_64  OK    OK    WARNINGS    OK  UNNEEDED, same version is already published
Package 9/107HostnameOS / ArchINSTALLBUILDCHECKBUILD BIN
bambu 1.2.1  (landing page)
Ying Chen
git_last_commit: 1c71eae
git_last_commit_date: 2021-08-30 02:22:04 -0400
nebbiolo1Linux (Ubuntu 20.04.2 LTS) / x86_64  OK    OK    OK  UNNEEDED, same version is already published
tokay2Windows Server 2012 R2 Standard / x64  OK    OK    OK    OK  UNNEEDED, same version is already published
machv2macOS 10.14.6 Mojave / x86_64  OK    OK    OK    OK  UNNEEDED, same version is already published
Package 10/107HostnameOS / ArchINSTALLBUILDCHECKBUILD BIN
Basic4Cseq 1.28.0  (landing page)
Carolin Walter
git_last_commit: 0ad4961
git_last_commit_date: 2021-05-19 12:03:22 -0400
nebbiolo1Linux (Ubuntu 20.04.2 LTS) / x86_64  OK    OK    OK  UNNEEDED, same version is already published
tokay2Windows Server 2012 R2 Standard / x64  OK    OK    OK    OK  UNNEEDED, same version is already published
machv2macOS 10.14.6 Mojave / x86_64  OK    OK    OK    OK  UNNEEDED, same version is already published
Package 11/107HostnameOS / ArchINSTALLBUILDCHECKBUILD BIN
BasicSTARRseq 1.20.0  (landing page)
Annika Buerger
git_last_commit: 6542fef
git_last_commit_date: 2021-05-19 12:17:47 -0400
nebbiolo1Linux (Ubuntu 20.04.2 LTS) / x86_64  OK    OK    OK  UNNEEDED, same version is already published
tokay2Windows Server 2012 R2 Standard / x64  OK    OK    OK    OK  UNNEEDED, same version is already published
machv2macOS 10.14.6 Mojave / x86_64  OK    OK    OK    OK  UNNEEDED, same version is already published
Package 12/107HostnameOS / ArchINSTALLBUILDCHECKBUILD BIN
biovizBase 1.40.0  (landing page)
Michael Lawrence
git_last_commit: e741735
git_last_commit_date: 2021-05-19 11:50:05 -0400
nebbiolo1Linux (Ubuntu 20.04.2 LTS) / x86_64  OK    OK    WARNINGS  UNNEEDED, same version is already published
tokay2Windows Server 2012 R2 Standard / x64  OK    OK    WARNINGS    OK  UNNEEDED, same version is already published
machv2macOS 10.14.6 Mojave / x86_64  OK    OK    WARNINGS    OK  UNNEEDED, same version is already published
Package 13/107HostnameOS / ArchINSTALLBUILDCHECKBUILD BIN
breakpointR 1.10.0  (landing page)
David Porubsky
git_last_commit: c1d2077
git_last_commit_date: 2021-05-19 12:38:04 -0400
nebbiolo1Linux (Ubuntu 20.04.2 LTS) / x86_64  OK    OK    OK  UNNEEDED, same version is already published
tokay2Windows Server 2012 R2 Standard / x64  OK    OK    OK    OK  UNNEEDED, same version is already published
machv2macOS 10.14.6 Mojave / x86_64  OK    OK    OK    OK  UNNEEDED, same version is already published
Package 14/107HostnameOS / ArchINSTALLBUILDCHECKBUILD BIN
BRGenomics 1.4.0  (landing page)
Mike DeBerardine
git_last_commit: b006074
git_last_commit_date: 2021-05-19 12:50:47 -0400
nebbiolo1Linux (Ubuntu 20.04.2 LTS) / x86_64  OK    OK    WARNINGS  UNNEEDED, same version is already published
tokay2Windows Server 2012 R2 Standard / x64  OK    OK    WARNINGS    OK  UNNEEDED, same version is already published
machv2macOS 10.14.6 Mojave / x86_64  OK    OK    WARNINGS    OK  UNNEEDED, same version is already published
Package 15/107HostnameOS / ArchINSTALLBUILDCHECKBUILD BIN
CAGEfightR 1.12.0  (landing page)
Malte Thodberg
git_last_commit: f776ea4
git_last_commit_date: 2021-05-19 12:35:42 -0400
nebbiolo1Linux (Ubuntu 20.04.2 LTS) / x86_64  OK    OK    OK  UNNEEDED, same version is already published
tokay2Windows Server 2012 R2 Standard / x64  OK    OK    OK    OK  UNNEEDED, same version is already published
machv2macOS 10.14.6 Mojave / x86_64  OK    OK    OK    OK  UNNEEDED, same version is already published
Package 16/107HostnameOS / ArchINSTALLBUILDCHECKBUILD BIN
CAGEr 1.34.0  (landing page)
Charles Plessy
git_last_commit: 8e7ccda
git_last_commit_date: 2021-05-19 11:57:42 -0400
nebbiolo1Linux (Ubuntu 20.04.2 LTS) / x86_64  OK    OK    WARNINGS  UNNEEDED, same version is already published
tokay2Windows Server 2012 R2 Standard / x64  OK    OK    WARNINGS    OK  UNNEEDED, same version is already published
machv2macOS 10.14.6 Mojave / x86_64  OK    OK    WARNINGS    OK  UNNEEDED, same version is already published
Package 17/107HostnameOS / ArchINSTALLBUILDCHECKBUILD BIN
chimeraviz 1.18.0  (landing page)
Stian Lågstad
git_last_commit: bc2b277
git_last_commit_date: 2021-05-19 12:24:46 -0400
nebbiolo1Linux (Ubuntu 20.04.2 LTS) / x86_64  OK    OK    OK  UNNEEDED, same version is already published
tokay2Windows Server 2012 R2 Standard / x64  OK    OK    OK    OK  UNNEEDED, same version is already published
machv2macOS 10.14.6 Mojave / x86_64  OK    OK    OK    OK  UNNEEDED, same version is already published
Package 18/107HostnameOS / ArchINSTALLBUILDCHECKBUILD BIN
ChIPexoQual 1.16.0  (landing page)
Rene Welch
git_last_commit: ed02199
git_last_commit_date: 2021-05-19 12:25:27 -0400
nebbiolo1Linux (Ubuntu 20.04.2 LTS) / x86_64  OK    OK    OK  UNNEEDED, same version is already published
tokay2Windows Server 2012 R2 Standard / x64  OK    OK    OK    OK  UNNEEDED, same version is already published
machv2macOS 10.14.6 Mojave / x86_64  OK    OK    OK    OK  UNNEEDED, same version is already published
Package 19/107HostnameOS / ArchINSTALLBUILDCHECKBUILD BIN
ChIPpeakAnno 3.26.4  (landing page)
Jianhong Ou
git_last_commit: 5104b7d
git_last_commit_date: 2021-09-09 15:41:30 -0400
nebbiolo1Linux (Ubuntu 20.04.2 LTS) / x86_64  OK    OK    OK  UNNEEDED, same version is already published
tokay2Windows Server 2012 R2 Standard / x64  OK    OK    OK    OK  UNNEEDED, same version is already published
machv2macOS 10.14.6 Mojave / x86_64  OK    OK    OK    OK  UNNEEDED, same version is already published
Package 20/107HostnameOS / ArchINSTALLBUILDCHECKBUILD BIN
ChIPQC 1.28.0  (landing page)
Tom Carroll , Rory Stark
git_last_commit: 047a9a4
git_last_commit_date: 2021-05-19 12:04:03 -0400
nebbiolo1Linux (Ubuntu 20.04.2 LTS) / x86_64  OK    OK    WARNINGS  UNNEEDED, same version is already published
tokay2Windows Server 2012 R2 Standard / x64  OK    OK    WARNINGS    OK  UNNEEDED, same version is already published
machv2macOS 10.14.6 Mojave / x86_64  OK    OK    WARNINGS    OK  UNNEEDED, same version is already published
Package 21/107HostnameOS / ArchINSTALLBUILDCHECKBUILD BIN
chromstaR 1.18.0  (landing page)
Aaron Taudt
git_last_commit: 8f44dd4
git_last_commit_date: 2021-05-19 12:21:16 -0400
nebbiolo1Linux (Ubuntu 20.04.2 LTS) / x86_64  OK    ERROR  skipped
tokay2Windows Server 2012 R2 Standard / x64  OK    ERROR  skippedskipped
machv2macOS 10.14.6 Mojave / x86_64  OK    ERROR  skippedskipped
Package 22/107HostnameOS / ArchINSTALLBUILDCHECKBUILD BIN
CNEr 1.28.0  (landing page)
Ge Tan
git_last_commit: fdeac98
git_last_commit_date: 2021-05-19 12:02:51 -0400
nebbiolo1Linux (Ubuntu 20.04.2 LTS) / x86_64  OK    OK    OK  UNNEEDED, same version is already published
tokay2Windows Server 2012 R2 Standard / x64  OK    OK    WARNINGS    OK  UNNEEDED, same version is already published
machv2macOS 10.14.6 Mojave / x86_64  OK    OK    WARNINGS    OK  UNNEEDED, same version is already published
Package 23/107HostnameOS / ArchINSTALLBUILDCHECKBUILD BIN
consensusDE 1.10.0  (landing page)
Ashley J. Waardenberg
git_last_commit: 1b434d7
git_last_commit_date: 2021-05-19 12:39:09 -0400
nebbiolo1Linux (Ubuntu 20.04.2 LTS) / x86_64  OK    OK    OK  UNNEEDED, same version is already published
tokay2Windows Server 2012 R2 Standard / x64  OK    OK    OK    OK  UNNEEDED, same version is already published
machv2macOS 10.14.6 Mojave / x86_64  OK    OK    OK    OK  UNNEEDED, same version is already published
Package 24/107HostnameOS / ArchINSTALLBUILDCHECKBUILD BIN
contiBAIT 1.20.0  (landing page)
Kieran O'Neill
git_last_commit: 42094e1
git_last_commit_date: 2021-05-19 12:17:59 -0400
nebbiolo1Linux (Ubuntu 20.04.2 LTS) / x86_64  OK    OK    WARNINGS  UNNEEDED, same version is already published
tokay2Windows Server 2012 R2 Standard / x64  OK    OK    WARNINGS    OK  UNNEEDED, same version is already published
machv2macOS 10.14.6 Mojave / x86_64  OK    OK    WARNINGS    OK  UNNEEDED, same version is already published
Package 25/107HostnameOS / ArchINSTALLBUILDCHECKBUILD BIN
CopywriteR 2.24.0  (landing page)
Oscar Krijgsman
git_last_commit: 5957876
git_last_commit_date: 2021-05-19 12:12:51 -0400
nebbiolo1Linux (Ubuntu 20.04.2 LTS) / x86_64  OK    OK    OK  UNNEEDED, same version is already published
tokay2Windows Server 2012 R2 Standard / x64  OK    OK    OK    OK  UNNEEDED, same version is already published
machv2macOS 10.14.6 Mojave / x86_64  OK    OK    OK    OK  UNNEEDED, same version is already published
Package 26/107HostnameOS / ArchINSTALLBUILDCHECKBUILD BIN
CoverageView 1.30.0  (landing page)
Ernesto Lowy
git_last_commit: f760e2e
git_last_commit_date: 2021-05-19 12:04:24 -0400
nebbiolo1Linux (Ubuntu 20.04.2 LTS) / x86_64  OK    OK    WARNINGS  UNNEEDED, same version is already published
tokay2Windows Server 2012 R2 Standard / x64... NOT SUPPORTED ...
machv2macOS 10.14.6 Mojave / x86_64  OK    OK    WARNINGS    OK  UNNEEDED, same version is already published
Package 27/107HostnameOS / ArchINSTALLBUILDCHECKBUILD BIN
CrispRVariants 1.20.0  (landing page)
Helen Lindsay
git_last_commit: 6789cce
git_last_commit_date: 2021-05-19 12:17:13 -0400
nebbiolo1Linux (Ubuntu 20.04.2 LTS) / x86_64  OK    OK    WARNINGS  UNNEEDED, same version is already published
tokay2Windows Server 2012 R2 Standard / x64  OK    OK    WARNINGS    OK  UNNEEDED, same version is already published
machv2macOS 10.14.6 Mojave / x86_64  OK    OK    WARNINGS    OK  UNNEEDED, same version is already published
Package 28/107HostnameOS / ArchINSTALLBUILDCHECKBUILD BIN
CSSQ 1.4.1  (landing page)
Fan Lab at Georgia Institute of Technology
git_last_commit: d067a65
git_last_commit_date: 2021-07-28 00:28:16 -0400
nebbiolo1Linux (Ubuntu 20.04.2 LTS) / x86_64  OK    OK    OK  UNNEEDED, same version is already published
tokay2Windows Server 2012 R2 Standard / x64  OK    OK    OK    OK  UNNEEDED, same version is already published
machv2macOS 10.14.6 Mojave / x86_64  OK    OK    OK    OK  UNNEEDED, same version is already published
Package 29/107HostnameOS / ArchINSTALLBUILDCHECKBUILD BIN
customProDB 1.32.0  (landing page)
Xiaojing Wang
git_last_commit: 6c740d6
git_last_commit_date: 2021-05-19 11:59:12 -0400
nebbiolo1Linux (Ubuntu 20.04.2 LTS) / x86_64  OK    OK    OK  UNNEEDED, same version is already published
tokay2Windows Server 2012 R2 Standard / x64  OK    OK    OK    OK  UNNEEDED, same version is already published
machv2macOS 10.14.6 Mojave / x86_64  OK    OK    OK    OK  UNNEEDED, same version is already published
Package 30/107HostnameOS / ArchINSTALLBUILDCHECKBUILD BIN
DAMEfinder 1.4.0  (landing page)
Stephany Orjuela
git_last_commit: a0da475
git_last_commit_date: 2021-05-19 12:49:06 -0400
nebbiolo1Linux (Ubuntu 20.04.2 LTS) / x86_64  OK    OK    OK  UNNEEDED, same version is already published
tokay2Windows Server 2012 R2 Standard / x64  OK    OK    OK    OK  UNNEEDED, same version is already published
machv2macOS 10.14.6 Mojave / x86_64  OK    OK    OK    OK  UNNEEDED, same version is already published
Package 31/107HostnameOS / ArchINSTALLBUILDCHECKBUILD BIN
DegNorm 1.2.0  (landing page)
Ji-Ping Wang
git_last_commit: 4194859
git_last_commit_date: 2021-05-19 12:52:58 -0400
nebbiolo1Linux (Ubuntu 20.04.2 LTS) / x86_64  OK    OK    OK  UNNEEDED, same version is already published
tokay2Windows Server 2012 R2 Standard / x64  OK    OK    OK    OK  UNNEEDED, same version is already published
machv2macOS 10.14.6 Mojave / x86_64  OK    OK    OK    OK  UNNEEDED, same version is already published
Package 32/107HostnameOS / ArchINSTALLBUILDCHECKBUILD BIN
derfinder 1.26.0  (landing page)
Leonardo Collado-Torres
git_last_commit: 7fc343a
git_last_commit_date: 2021-05-19 12:08:08 -0400
nebbiolo1Linux (Ubuntu 20.04.2 LTS) / x86_64  OK    OK    OK  UNNEEDED, same version is already published
tokay2Windows Server 2012 R2 Standard / x64  OK    OK    OK    OK  UNNEEDED, same version is already published
machv2macOS 10.14.6 Mojave / x86_64  OK    OK    OK    OK  UNNEEDED, same version is already published
Package 33/107HostnameOS / ArchINSTALLBUILDCHECKBUILD BIN
DEScan2 1.12.0  (landing page)
Dario Righelli
git_last_commit: 004c7f5
git_last_commit_date: 2021-05-19 12:33:58 -0400
nebbiolo1Linux (Ubuntu 20.04.2 LTS) / x86_64  OK    OK    OK  UNNEEDED, same version is already published
tokay2Windows Server 2012 R2 Standard / x64  OK    OK    OK    OK  UNNEEDED, same version is already published
machv2macOS 10.14.6 Mojave / x86_64  OK    OK    OK    OK  UNNEEDED, same version is already published
Package 34/107HostnameOS / ArchINSTALLBUILDCHECKBUILD BIN
DiffBind 3.2.7  (landing page)
Rory Stark
git_last_commit: bf9b04a
git_last_commit_date: 2021-09-13 11:04:43 -0400
nebbiolo1Linux (Ubuntu 20.04.2 LTS) / x86_64  OK    OK    OK  UNNEEDED, same version is already published
tokay2Windows Server 2012 R2 Standard / x64  OK    OK    OK    OK  UNNEEDED, same version is already published
machv2macOS 10.14.6 Mojave / x86_64  OK    OK    OK    OK  UNNEEDED, same version is already published
Package 35/107HostnameOS / ArchINSTALLBUILDCHECKBUILD BIN
easyRNASeq 2.28.0  (landing page)
Nicolas Delhomme
git_last_commit: 6d18522
git_last_commit_date: 2021-05-19 11:51:10 -0400
nebbiolo1Linux (Ubuntu 20.04.2 LTS) / x86_64  OK    OK    OK  UNNEEDED, same version is already published
tokay2Windows Server 2012 R2 Standard / x64  OK    OK    OK    OK  UNNEEDED, same version is already published
machv2macOS 10.14.6 Mojave / x86_64  OK    OK    OK    OK  UNNEEDED, same version is already published
Package 36/107HostnameOS / ArchINSTALLBUILDCHECKBUILD BIN
exomePeak2 1.4.2  (landing page)
Zhen Wei
git_last_commit: d8d75f9
git_last_commit_date: 2021-09-07 12:28:10 -0400
nebbiolo1Linux (Ubuntu 20.04.2 LTS) / x86_64  OK    OK    OK  UNNEEDED, same version is already published
tokay2Windows Server 2012 R2 Standard / x64  OK    OK    OK    OK  UNNEEDED, same version is already published
machv2macOS 10.14.6 Mojave / x86_64  OK    OK    OK    OK  UNNEEDED, same version is already published
Package 37/107HostnameOS / ArchINSTALLBUILDCHECKBUILD BIN
FRASER 1.4.0  (landing page)
Christian Mertes
git_last_commit: 926f313
git_last_commit_date: 2021-05-19 12:51:54 -0400
nebbiolo1Linux (Ubuntu 20.04.2 LTS) / x86_64  OK    OK    OK  UNNEEDED, same version is already published
tokay2Windows Server 2012 R2 Standard / x64  OK    OK    OK    OK  UNNEEDED, same version is already published
machv2macOS 10.14.6 Mojave / x86_64  OK    OK    OK    OK  UNNEEDED, same version is already published
Package 38/107HostnameOS / ArchINSTALLBUILDCHECKBUILD BIN
FunChIP 1.18.0  (landing page)
Alice Parodi
git_last_commit: 4981a2b
git_last_commit_date: 2021-05-19 12:20:50 -0400
nebbiolo1Linux (Ubuntu 20.04.2 LTS) / x86_64  OK    OK    WARNINGS  UNNEEDED, same version is already published
tokay2Windows Server 2012 R2 Standard / x64  OK    OK    WARNINGS    OK  UNNEEDED, same version is already published
machv2macOS 10.14.6 Mojave / x86_64  OK    OK    WARNINGS    OK  UNNEEDED, same version is already published
Package 39/107HostnameOS / ArchINSTALLBUILDCHECKBUILD BIN
gcapc 1.16.0  (landing page)
Mingxiang Teng
git_last_commit: 38a05b9
git_last_commit_date: 2021-05-19 12:24:48 -0400
nebbiolo1Linux (Ubuntu 20.04.2 LTS) / x86_64  OK    OK    OK  UNNEEDED, same version is already published
tokay2Windows Server 2012 R2 Standard / x64  OK    OK    OK    OK  UNNEEDED, same version is already published
machv2macOS 10.14.6 Mojave / x86_64  OK    OK    OK    OK  UNNEEDED, same version is already published
Package 40/107HostnameOS / ArchINSTALLBUILDCHECKBUILD BIN
GenoGAM 2.10.0  (landing page)
Georg Stricker
git_last_commit: 3b86b0c
git_last_commit_date: 2021-05-19 12:19:19 -0400
nebbiolo1Linux (Ubuntu 20.04.2 LTS) / x86_64  OK    OK    WARNINGS  UNNEEDED, same version is already published
tokay2Windows Server 2012 R2 Standard / x64  OK    OK    WARNINGS    OK  UNNEEDED, same version is already published
machv2macOS 10.14.6 Mojave / x86_64  OK    OK    WARNINGS    OK  UNNEEDED, same version is already published
Package 41/107HostnameOS / ArchINSTALLBUILDCHECKBUILD BIN
genomation 1.24.0  (landing page)
Altuna Akalin , Vedran Franke
git_last_commit: 94f0278
git_last_commit_date: 2021-05-19 12:09:55 -0400
nebbiolo1Linux (Ubuntu 20.04.2 LTS) / x86_64  OK    OK    WARNINGS  UNNEEDED, same version is already published
tokay2Windows Server 2012 R2 Standard / x64  OK    OK    WARNINGS    OK  UNNEEDED, same version is already published
machv2macOS 10.14.6 Mojave / x86_64  OK    OK    WARNINGS    OK  UNNEEDED, same version is already published
Package 42/107HostnameOS / ArchINSTALLBUILDCHECKBUILD BIN
GenomicFiles 1.28.0  (landing page)
Bioconductor Package Maintainer
git_last_commit: b7b64cb
git_last_commit_date: 2021-05-19 12:04:46 -0400
nebbiolo1Linux (Ubuntu 20.04.2 LTS) / x86_64  OK    OK    OK  UNNEEDED, same version is already published
tokay2Windows Server 2012 R2 Standard / x64  OK    OK    OK    OK  UNNEEDED, same version is already published
machv2macOS 10.14.6 Mojave / x86_64  OK    OK    OK    OK  UNNEEDED, same version is already published
Package 43/107HostnameOS / ArchINSTALLBUILDCHECKBUILD BIN
ggbio 1.40.0  (landing page)
Michael Lawrence
git_last_commit: c084632
git_last_commit_date: 2021-05-19 11:50:29 -0400
nebbiolo1Linux (Ubuntu 20.04.2 LTS) / x86_64  OK    OK    WARNINGS  UNNEEDED, same version is already published
tokay2Windows Server 2012 R2 Standard / x64  OK    OK    WARNINGS    OK  UNNEEDED, same version is already published
machv2macOS 10.14.6 Mojave / x86_64  OK    OK    WARNINGS    OK  UNNEEDED, same version is already published
Package 44/107HostnameOS / ArchINSTALLBUILDCHECKBUILD BIN
gmapR 1.34.0  (landing page)
Michael Lawrence
git_last_commit: 3262a4e
git_last_commit_date: 2021-05-19 11:53:08 -0400
nebbiolo1Linux (Ubuntu 20.04.2 LTS) / x86_64  OK    OK    WARNINGS  UNNEEDED, same version is already published
tokay2Windows Server 2012 R2 Standard / x64... NOT SUPPORTED ...
machv2macOS 10.14.6 Mojave / x86_64  OK    OK    WARNINGS    OK  UNNEEDED, same version is already published
Package 45/107HostnameOS / ArchINSTALLBUILDCHECKBUILD BIN
gmoviz 1.4.0  (landing page)
Kathleen Zeglinski
git_last_commit: 8eb5807
git_last_commit_date: 2021-05-19 12:50:37 -0400
nebbiolo1Linux (Ubuntu 20.04.2 LTS) / x86_64  OK    OK    OK  UNNEEDED, same version is already published
tokay2Windows Server 2012 R2 Standard / x64  OK    OK    OK    OK  UNNEEDED, same version is already published
machv2macOS 10.14.6 Mojave / x86_64  OK    OK    OK    OK  UNNEEDED, same version is already published
Package 46/107HostnameOS / ArchINSTALLBUILDCHECKBUILD BIN
GreyListChIP 1.24.0  (landing page)
Gordon Brown
git_last_commit: 2a86668
git_last_commit_date: 2021-05-19 12:10:56 -0400
nebbiolo1Linux (Ubuntu 20.04.2 LTS) / x86_64  OK    OK    OK  UNNEEDED, same version is already published
tokay2Windows Server 2012 R2 Standard / x64  OK    OK    OK    OK  UNNEEDED, same version is already published
machv2macOS 10.14.6 Mojave / x86_64  OK    OK    OK    OK  UNNEEDED, same version is already published
Package 47/107HostnameOS / ArchINSTALLBUILDCHECKBUILD BIN
groHMM 1.26.0  (landing page)
Anusha Nagari , Tulip Nandu , W. Lee Kraus
git_last_commit: 6be33d3
git_last_commit_date: 2021-05-19 12:09:04 -0400
nebbiolo1Linux (Ubuntu 20.04.2 LTS) / x86_64  OK    OK    OK  UNNEEDED, same version is already published
tokay2Windows Server 2012 R2 Standard / x64  OK    OK    OK    OK  UNNEEDED, same version is already published
machv2macOS 10.14.6 Mojave / x86_64  OK    OK    OK    OK  UNNEEDED, same version is already published
Package 48/107HostnameOS / ArchINSTALLBUILDCHECKBUILD BIN
GUIDEseq 1.22.0  (landing page)
Lihua Julie Zhu
git_last_commit: d6c83e7
git_last_commit_date: 2021-05-19 12:16:19 -0400
nebbiolo1Linux (Ubuntu 20.04.2 LTS) / x86_64  OK    OK    OK  UNNEEDED, same version is already published
tokay2Windows Server 2012 R2 Standard / x64  OK    OK    OK    OK  UNNEEDED, same version is already published
machv2macOS 10.14.6 Mojave / x86_64  OK    OK    OK    OK  UNNEEDED, same version is already published
Package 49/107HostnameOS / ArchINSTALLBUILDCHECKBUILD BIN
Gviz 1.36.2  (landing page)
Robert Ivanek
git_last_commit: 742ed80
git_last_commit_date: 2021-07-02 05:34:16 -0400
nebbiolo1Linux (Ubuntu 20.04.2 LTS) / x86_64  OK    OK    OK  UNNEEDED, same version is already published
tokay2Windows Server 2012 R2 Standard / x64  OK    OK    OK    OK  UNNEEDED, same version is already published
machv2macOS 10.14.6 Mojave / x86_64  OK    OK    OK    OK  UNNEEDED, same version is already published
Package 50/107HostnameOS / ArchINSTALLBUILDCHECKBUILD BIN
HelloRanges 1.18.0  (landing page)
Michael Lawrence
git_last_commit: e9067d1
git_last_commit_date: 2021-05-19 12:23:56 -0400
nebbiolo1Linux (Ubuntu 20.04.2 LTS) / x86_64  OK    OK    WARNINGS  UNNEEDED, same version is already published
tokay2Windows Server 2012 R2 Standard / x64  OK    OK    WARNINGS    OK  UNNEEDED, same version is already published
machv2macOS 10.14.6 Mojave / x86_64  OK    OK    WARNINGS    OK  UNNEEDED, same version is already published
Package 51/107HostnameOS / ArchINSTALLBUILDCHECKBUILD BIN
hiReadsProcessor 1.28.0  (landing page)
Nirav V Malani
git_last_commit: daa41a6
git_last_commit_date: 2021-05-19 12:07:00 -0400
nebbiolo1Linux (Ubuntu 20.04.2 LTS) / x86_64  OK    OK    OK  UNNEEDED, same version is already published
tokay2Windows Server 2012 R2 Standard / x64... NOT SUPPORTED ...
machv2macOS 10.14.6 Mojave / x86_64  OK    OK    OK    OK  UNNEEDED, same version is already published
Package 52/107HostnameOS / ArchINSTALLBUILDCHECKBUILD BIN
HTSeqGenie 4.22.0  (landing page)
Jens Reeder
git_last_commit: ddd1eb5
git_last_commit_date: 2021-05-19 11:54:22 -0400
nebbiolo1Linux (Ubuntu 20.04.2 LTS) / x86_64  OK    OK    OK  UNNEEDED, same version is already published
tokay2Windows Server 2012 R2 Standard / x64... NOT SUPPORTED ...
machv2macOS 10.14.6 Mojave / x86_64... NOT SUPPORTED ...
Package 53/107HostnameOS / ArchINSTALLBUILDCHECKBUILD BIN
icetea 1.10.0  (landing page)
Vivek Bhardwaj
git_last_commit: b536bec
git_last_commit_date: 2021-05-19 12:36:20 -0400
nebbiolo1Linux (Ubuntu 20.04.2 LTS) / x86_64  OK    OK    OK  UNNEEDED, same version is already published
tokay2Windows Server 2012 R2 Standard / x64  OK    OK    OK    OK  UNNEEDED, same version is already published
machv2macOS 10.14.6 Mojave / x86_64  OK    OK    OK    OK  UNNEEDED, same version is already published
Package 54/107HostnameOS / ArchINSTALLBUILDCHECKBUILD BIN
igvR 1.12.0  (landing page)
Paul Shannon
git_last_commit: 947368f
git_last_commit_date: 2021-05-19 12:35:21 -0400
nebbiolo1Linux (Ubuntu 20.04.2 LTS) / x86_64  OK    OK    WARNINGS  UNNEEDED, same version is already published
tokay2Windows Server 2012 R2 Standard / x64  OK    OK    WARNINGS    OK  UNNEEDED, same version is already published
machv2macOS 10.14.6 Mojave / x86_64  OK    OK    WARNINGS    OK  UNNEEDED, same version is already published
Package 55/107HostnameOS / ArchINSTALLBUILDCHECKBUILD BIN
IMAS 1.16.0  (landing page)
Seonggyun Han
git_last_commit: b45a2cb
git_last_commit_date: 2021-05-19 12:27:18 -0400
nebbiolo1Linux (Ubuntu 20.04.2 LTS) / x86_64  OK    OK    OK  UNNEEDED, same version is already published
tokay2Windows Server 2012 R2 Standard / x64  OK    OK    OK    OK  UNNEEDED, same version is already published
machv2macOS 10.14.6 Mojave / x86_64  OK    OK    OK    OK  UNNEEDED, same version is already published
Package 56/107HostnameOS / ArchINSTALLBUILDCHECKBUILD BIN
INSPEcT 1.22.0  (landing page)
Stefano de Pretis
git_last_commit: b877791
git_last_commit_date: 2021-05-19 12:14:25 -0400
nebbiolo1Linux (Ubuntu 20.04.2 LTS) / x86_64  OK    OK    OK  UNNEEDED, same version is already published
tokay2Windows Server 2012 R2 Standard / x64  OK    OK    OK    OK  UNNEEDED, same version is already published
machv2macOS 10.14.6 Mojave / x86_64  OK    OK    OK    OK  UNNEEDED, same version is already published
Package 57/107HostnameOS / ArchINSTALLBUILDCHECKBUILD BIN
IntEREst 1.16.0  (landing page)
Ali Oghabian , Mikko Frilander
git_last_commit: 4d75a7c
git_last_commit_date: 2021-05-19 12:26:24 -0400
nebbiolo1Linux (Ubuntu 20.04.2 LTS) / x86_64  OK    OK    OK  UNNEEDED, same version is already published
tokay2Windows Server 2012 R2 Standard / x64  OK    OK    OK    OK  UNNEEDED, same version is already published
machv2macOS 10.14.6 Mojave / x86_64  OK    OK    OK    OK  UNNEEDED, same version is already published
Package 58/107HostnameOS / ArchINSTALLBUILDCHECKBUILD BIN
MACPET 1.12.0  (landing page)
Ioannis Vardaxis
git_last_commit: 2e34842
git_last_commit_date: 2021-05-19 12:33:30 -0400
nebbiolo1Linux (Ubuntu 20.04.2 LTS) / x86_64  OK    OK    OK  UNNEEDED, same version is already published
tokay2Windows Server 2012 R2 Standard / x64  OK    OK    OK    OK  UNNEEDED, same version is already published
machv2macOS 10.14.6 Mojave / x86_64  OK    OK    OK    OK  UNNEEDED, same version is already published
Package 59/107HostnameOS / ArchINSTALLBUILDCHECKBUILD BIN
MADSEQ 1.18.0  (landing page)
Yu Kong
git_last_commit: 64cfc9c
git_last_commit_date: 2021-05-19 12:20:58 -0400
nebbiolo1Linux (Ubuntu 20.04.2 LTS) / x86_64  OK    OK    OK  UNNEEDED, same version is already published
tokay2Windows Server 2012 R2 Standard / x64  OK    OK    OK    OK  UNNEEDED, same version is already published
machv2macOS 10.14.6 Mojave / x86_64  OK    OK    OK    OK  UNNEEDED, same version is already published
Package 60/107HostnameOS / ArchINSTALLBUILDCHECKBUILD BIN
MDTS 1.12.0  (landing page)
Jack M.. Fu
git_last_commit: e0ad157
git_last_commit_date: 2021-05-19 12:33:55 -0400
nebbiolo1Linux (Ubuntu 20.04.2 LTS) / x86_64  OK    OK    OK  UNNEEDED, same version is already published
tokay2Windows Server 2012 R2 Standard / x64  OK    OK    OK    OK  UNNEEDED, same version is already published
machv2macOS 10.14.6 Mojave / x86_64  OK    OK    OK    OK  UNNEEDED, same version is already published
Package 61/107HostnameOS / ArchINSTALLBUILDCHECKBUILD BIN
metagene 2.24.0  (landing page)
Charles Joly Beauparlant
git_last_commit: f85b3d4
git_last_commit_date: 2021-05-19 12:06:34 -0400
nebbiolo1Linux (Ubuntu 20.04.2 LTS) / x86_64  OK    OK    ERROR  
tokay2Windows Server 2012 R2 Standard / x64  OK    OK    ERROR    OK  
machv2macOS 10.14.6 Mojave / x86_64  OK    OK    ERROR    OK  
Package 62/107HostnameOS / ArchINSTALLBUILDCHECKBUILD BIN
metagene2 1.8.1  (landing page)
Eric Fournier
git_last_commit: d1121a9
git_last_commit_date: 2021-07-13 14:38:40 -0400
nebbiolo1Linux (Ubuntu 20.04.2 LTS) / x86_64  OK    OK    OK  UNNEEDED, same version is already published
tokay2Windows Server 2012 R2 Standard / x64  OK    OK    OK    OK  UNNEEDED, same version is already published
machv2macOS 10.14.6 Mojave / x86_64  OK    OK    OK    OK  UNNEEDED, same version is already published
Package 63/107HostnameOS / ArchINSTALLBUILDCHECKBUILD BIN
metaseqR2 1.4.11  (landing page)
Panagiotis Moulos
git_last_commit: 56cb2d4
git_last_commit_date: 2021-09-19 06:50:06 -0400
nebbiolo1Linux (Ubuntu 20.04.2 LTS) / x86_64  OK    ERROR  skipped
tokay2Windows Server 2012 R2 Standard / x64  OK    ERROR  skippedskipped
machv2macOS 10.14.6 Mojave / x86_64  OK    ERROR  skippedskipped
Package 64/107HostnameOS / ArchINSTALLBUILDCHECKBUILD BIN
methylPipe 1.26.0  (landing page)
Kamal Kishore
git_last_commit: ca8dade
git_last_commit_date: 2021-05-19 12:07:06 -0400
nebbiolo1Linux (Ubuntu 20.04.2 LTS) / x86_64  OK    OK    WARNINGS  UNNEEDED, same version is already published
tokay2Windows Server 2012 R2 Standard / x64  OK    OK    WARNINGS    OK  UNNEEDED, same version is already published
machv2macOS 10.14.6 Mojave / x86_64  OK    OK    WARNINGS    OK  UNNEEDED, same version is already published
Package 65/107HostnameOS / ArchINSTALLBUILDCHECKBUILD BIN
mosaics 2.30.0  (landing page)
Dongjun Chung
git_last_commit: d9cceee
git_last_commit_date: 2021-05-19 11:47:19 -0400
nebbiolo1Linux (Ubuntu 20.04.2 LTS) / x86_64  OK    OK    OK  UNNEEDED, same version is already published
tokay2Windows Server 2012 R2 Standard / x64  OK    OK    OK    OK  UNNEEDED, same version is already published
machv2macOS 10.14.6 Mojave / x86_64  OK    OK    OK    OK  UNNEEDED, same version is already published
Package 66/107HostnameOS / ArchINSTALLBUILDCHECKBUILD BIN
msgbsR 1.16.0  (landing page)
Benjamin Mayne
git_last_commit: eee8300
git_last_commit_date: 2021-05-19 12:27:52 -0400
nebbiolo1Linux (Ubuntu 20.04.2 LTS) / x86_64  OK    OK    WARNINGS  UNNEEDED, same version is already published
tokay2Windows Server 2012 R2 Standard / x64  OK    OK    WARNINGS    OK  UNNEEDED, same version is already published
machv2macOS 10.14.6 Mojave / x86_64  OK    OK    WARNINGS    OK  UNNEEDED, same version is already published
Package 67/107HostnameOS / ArchINSTALLBUILDCHECKBUILD BIN
NADfinder 1.16.0  (landing page)
Jianhong Ou
git_last_commit: e592a6b
git_last_commit_date: 2021-05-19 12:26:57 -0400
nebbiolo1Linux (Ubuntu 20.04.2 LTS) / x86_64  OK    OK    OK  UNNEEDED, same version is already published
tokay2Windows Server 2012 R2 Standard / x64  OK    OK    OK    OK  UNNEEDED, same version is already published
machv2macOS 10.14.6 Mojave / x86_64  OK    OK    OK    OK  UNNEEDED, same version is already published
Package 68/107HostnameOS / ArchINSTALLBUILDCHECKBUILD BIN
ORFik 1.12.11  (landing page)
Haakon Tjeldnes
git_last_commit: bcb1d83
git_last_commit_date: 2021-08-27 05:15:17 -0400
nebbiolo1Linux (Ubuntu 20.04.2 LTS) / x86_64  OK    OK    OK  UNNEEDED, same version is already published
tokay2Windows Server 2012 R2 Standard / x64  OK    OK    OK    OK  UNNEEDED, same version is already published
machv2macOS 10.14.6 Mojave / x86_64  OK    OK    OK    OK  UNNEEDED, same version is already published
Package 69/107HostnameOS / ArchINSTALLBUILDCHECKBUILD BIN
PICS 2.36.0  (landing page)
Renan Sauteraud
git_last_commit: 87607d0
git_last_commit_date: 2021-05-19 11:45:20 -0400
nebbiolo1Linux (Ubuntu 20.04.2 LTS) / x86_64  OK    OK    OK  UNNEEDED, same version is already published
tokay2Windows Server 2012 R2 Standard / x64  OK    OK    OK    OK  UNNEEDED, same version is already published
machv2macOS 10.14.6 Mojave / x86_64  OK    OK    OK    OK  UNNEEDED, same version is already published
Package 70/107HostnameOS / ArchINSTALLBUILDCHECKBUILD BIN
plyranges 1.12.1  (landing page)
Stuart Lee
git_last_commit: e3563e8
git_last_commit_date: 2021-06-27 21:18:53 -0400
nebbiolo1Linux (Ubuntu 20.04.2 LTS) / x86_64  OK    OK    OK  UNNEEDED, same version is already published
tokay2Windows Server 2012 R2 Standard / x64  OK    OK    OK    OK  UNNEEDED, same version is already published
machv2macOS 10.14.6 Mojave / x86_64  OK    OK    OK    OK  UNNEEDED, same version is already published
Package 71/107HostnameOS / ArchINSTALLBUILDCHECKBUILD BIN
pram 1.8.0  (landing page)
Peng Liu
git_last_commit: 3e967c2
git_last_commit_date: 2021-05-19 12:41:41 -0400
nebbiolo1Linux (Ubuntu 20.04.2 LTS) / x86_64  OK    OK    OK  UNNEEDED, same version is already published
tokay2Windows Server 2012 R2 Standard / x64  OK    OK    OK    OK  UNNEEDED, same version is already published
machv2macOS 10.14.6 Mojave / x86_64  OK    OK    OK    OK  UNNEEDED, same version is already published
Package 72/107HostnameOS / ArchINSTALLBUILDCHECKBUILD BIN
prebs 1.32.0  (landing page)
Karolis Uziela
git_last_commit: 67c681b
git_last_commit_date: 2021-05-19 11:58:40 -0400
nebbiolo1Linux (Ubuntu 20.04.2 LTS) / x86_64  OK    OK    OK  UNNEEDED, same version is already published
tokay2Windows Server 2012 R2 Standard / x64  OK    OK    OK    OK  UNNEEDED, same version is already published
machv2macOS 10.14.6 Mojave / x86_64  OK    OK    OK    OK  UNNEEDED, same version is already published
Package 73/107HostnameOS / ArchINSTALLBUILDCHECKBUILD BIN
proActiv 1.2.0  (landing page)
Joseph Lee
git_last_commit: 0a66788
git_last_commit_date: 2021-05-19 12:55:29 -0400
nebbiolo1Linux (Ubuntu 20.04.2 LTS) / x86_64  OK    OK    OK  UNNEEDED, same version is already published
tokay2Windows Server 2012 R2 Standard / x64  OK    OK    OK    OK  UNNEEDED, same version is already published
machv2macOS 10.14.6 Mojave / x86_64  OK    OK    OK    OK  UNNEEDED, same version is already published
Package 74/107HostnameOS / ArchINSTALLBUILDCHECKBUILD BIN
ramwas 1.16.0  (landing page)
Andrey A Shabalin
git_last_commit: 239ad35
git_last_commit_date: 2021-05-19 12:24:59 -0400
nebbiolo1Linux (Ubuntu 20.04.2 LTS) / x86_64  OK    OK    OK  UNNEEDED, same version is already published
tokay2Windows Server 2012 R2 Standard / x64  OK    OK    OK    OK  UNNEEDED, same version is already published
machv2macOS 10.14.6 Mojave / x86_64  OK    OK    OK    OK  UNNEEDED, same version is already published
Package 75/107HostnameOS / ArchINSTALLBUILDCHECKBUILD BIN
Rcade 1.34.0  (landing page)
Jonathan Cairns
git_last_commit: d311ac7
git_last_commit_date: 2021-05-19 11:54:24 -0400
nebbiolo1Linux (Ubuntu 20.04.2 LTS) / x86_64  OK    OK    OK  UNNEEDED, same version is already published
tokay2Windows Server 2012 R2 Standard / x64  OK    OK    OK    OK  UNNEEDED, same version is already published
machv2macOS 10.14.6 Mojave / x86_64  OK    OK    OK    OK  UNNEEDED, same version is already published
Package 76/107HostnameOS / ArchINSTALLBUILDCHECKBUILD BIN
recoup 1.20.0  (landing page)
Panagiotis Moulos
git_last_commit: 1b90812
git_last_commit_date: 2021-05-19 12:19:08 -0400
nebbiolo1Linux (Ubuntu 20.04.2 LTS) / x86_64  OK    OK    ERROR  
tokay2Windows Server 2012 R2 Standard / x64  OK    OK    ERROR    OK  
machv2macOS 10.14.6 Mojave / x86_64  OK    OK    ERROR    OK  
Package 77/107HostnameOS / ArchINSTALLBUILDCHECKBUILD BIN
Repitools 1.38.0  (landing page)
Mark Robinson
git_last_commit: dc767d1
git_last_commit_date: 2021-05-19 11:49:04 -0400
nebbiolo1Linux (Ubuntu 20.04.2 LTS) / x86_64  OK    OK    OK  UNNEEDED, same version is already published
tokay2Windows Server 2012 R2 Standard / x64  OK    OK    OK    OK  UNNEEDED, same version is already published
machv2macOS 10.14.6 Mojave / x86_64  OK    OK    OK    OK  UNNEEDED, same version is already published
Package 78/107HostnameOS / ArchINSTALLBUILDCHECKBUILD BIN
RiboDiPA 1.0.0  (landing page)
Ji-Ping Wang
git_last_commit: a39b378
git_last_commit_date: 2021-05-19 12:59:17 -0400
nebbiolo1Linux (Ubuntu 20.04.2 LTS) / x86_64  OK    OK    OK  UNNEEDED, same version is already published
tokay2Windows Server 2012 R2 Standard / x64  OK    OK    OK    OK  UNNEEDED, same version is already published
machv2macOS 10.14.6 Mojave / x86_64  OK    OK    OK    OK  UNNEEDED, same version is already published
Package 79/107HostnameOS / ArchINSTALLBUILDCHECKBUILD BIN
RiboProfiling 1.22.0  (landing page)
A. Popa
git_last_commit: a315cdd
git_last_commit_date: 2021-05-19 12:16:23 -0400
nebbiolo1Linux (Ubuntu 20.04.2 LTS) / x86_64  OK    OK    WARNINGS  UNNEEDED, same version is already published
tokay2Windows Server 2012 R2 Standard / x64  OK    OK    WARNINGS    OK  UNNEEDED, same version is already published
machv2macOS 10.14.6 Mojave / x86_64  OK    OK    WARNINGS    OK  UNNEEDED, same version is already published
Package 80/107HostnameOS / ArchINSTALLBUILDCHECKBUILD BIN
ribosomeProfilingQC 1.4.0  (landing page)
Jianhong Ou
git_last_commit: 482e0e7
git_last_commit_date: 2021-05-19 12:49:46 -0400
nebbiolo1Linux (Ubuntu 20.04.2 LTS) / x86_64  OK    OK    OK  UNNEEDED, same version is already published
tokay2Windows Server 2012 R2 Standard / x64  OK    OK    OK    OK  UNNEEDED, same version is already published
machv2macOS 10.14.6 Mojave / x86_64  OK    OK    OK    OK  UNNEEDED, same version is already published
Package 81/107HostnameOS / ArchINSTALLBUILDCHECKBUILD BIN
RNAmodR 1.6.0  (landing page)
Felix G.M. Ernst
git_last_commit: c7b25bf
git_last_commit_date: 2021-05-19 12:44:18 -0400
nebbiolo1Linux (Ubuntu 20.04.2 LTS) / x86_64  OK    OK    OK  UNNEEDED, same version is already published
tokay2Windows Server 2012 R2 Standard / x64  OK    OK    OK    OK  UNNEEDED, same version is already published
machv2macOS 10.14.6 Mojave / x86_64  OK    OK    OK    OK  UNNEEDED, same version is already published
Package 82/107HostnameOS / ArchINSTALLBUILDCHECKBUILD BIN
RNAprobR 1.24.0  (landing page)
Nikos Sidiropoulos
git_last_commit: 0fcd69f
git_last_commit_date: 2021-05-19 12:11:50 -0400
nebbiolo1Linux (Ubuntu 20.04.2 LTS) / x86_64  OK    OK    ERROR  
tokay2Windows Server 2012 R2 Standard / x64  OK    OK    ERROR    OK  
machv2macOS 10.14.6 Mojave / x86_64  OK    OK    ERROR    OK  
Package 83/107HostnameOS / ArchINSTALLBUILDCHECKBUILD BIN
rnaSeqMap 2.50.0  (landing page)
Michal Okoniewski
git_last_commit: bbda4b2
git_last_commit_date: 2021-05-19 11:46:35 -0400
nebbiolo1Linux (Ubuntu 20.04.2 LTS) / x86_64  ERROR    ERROR  skipped
tokay2Windows Server 2012 R2 Standard / x64  ERROR    ERROR  skippedskipped
machv2macOS 10.14.6 Mojave / x86_64  ERROR    ERROR  skippedskipped
Package 84/107HostnameOS / ArchINSTALLBUILDCHECKBUILD BIN
roar 1.28.0  (landing page)
Elena Grassi
git_last_commit: 34c7fa7
git_last_commit_date: 2021-05-19 12:02:13 -0400
nebbiolo1Linux (Ubuntu 20.04.2 LTS) / x86_64  OK    OK    OK  UNNEEDED, same version is already published
tokay2Windows Server 2012 R2 Standard / x64  OK    OK    OK    OK  UNNEEDED, same version is already published
machv2macOS 10.14.6 Mojave / x86_64  OK    OK    OK    OK  UNNEEDED, same version is already published
Package 85/107HostnameOS / ArchINSTALLBUILDCHECKBUILD BIN
Rqc 1.26.0  (landing page)
Welliton Souza
git_last_commit: 1c1c91a
git_last_commit_date: 2021-05-19 12:09:26 -0400
nebbiolo1Linux (Ubuntu 20.04.2 LTS) / x86_64  OK    OK    OK  UNNEEDED, same version is already published
tokay2Windows Server 2012 R2 Standard / x64  OK    OK    TIMEOUT    OK  
machv2macOS 10.14.6 Mojave / x86_64  OK    OK    OK    OK  UNNEEDED, same version is already published
Package 86/107HostnameOS / ArchINSTALLBUILDCHECKBUILD BIN
rtracklayer 1.52.1  (landing page)
Michael Lawrence
git_last_commit: 20a3831
git_last_commit_date: 2021-08-12 15:31:12 -0400
nebbiolo1Linux (Ubuntu 20.04.2 LTS) / x86_64  OK    OK    WARNINGS  UNNEEDED, same version is already published
tokay2Windows Server 2012 R2 Standard / x64  OK    OK    WARNINGS    OK  UNNEEDED, same version is already published
machv2macOS 10.14.6 Mojave / x86_64  OK    OK    WARNINGS    OK  UNNEEDED, same version is already published
Package 87/107HostnameOS / ArchINSTALLBUILDCHECKBUILD BIN
SCATE 1.2.0  (landing page)
Wenpin Hou
git_last_commit: f1f5a43
git_last_commit_date: 2021-05-19 12:54:55 -0400
nebbiolo1Linux (Ubuntu 20.04.2 LTS) / x86_64  OK    OK    OK  UNNEEDED, same version is already published
tokay2Windows Server 2012 R2 Standard / x64  OK    OK    OK    OK  UNNEEDED, same version is already published
machv2macOS 10.14.6 Mojave / x86_64  OK    OK    OK    OK  UNNEEDED, same version is already published
Package 88/107HostnameOS / ArchINSTALLBUILDCHECKBUILD BIN
scruff 1.10.0  (landing page)
Zhe Wang
git_last_commit: 027572f
git_last_commit_date: 2021-05-19 12:36:52 -0400
nebbiolo1Linux (Ubuntu 20.04.2 LTS) / x86_64  OK    OK    OK  UNNEEDED, same version is already published
tokay2Windows Server 2012 R2 Standard / x64  OK    OK    OK    OK  UNNEEDED, same version is already published
machv2macOS 10.14.6 Mojave / x86_64  OK    OK    OK    OK  UNNEEDED, same version is already published
Package 89/107HostnameOS / ArchINSTALLBUILDCHECKBUILD BIN
seqplots 1.30.0  (landing page)
Przemyslaw Stempor
git_last_commit: a7ff6cc
git_last_commit_date: 2021-05-19 12:07:31 -0400
nebbiolo1Linux (Ubuntu 20.04.2 LTS) / x86_64  OK    OK    ERROR  
tokay2Windows Server 2012 R2 Standard / x64  OK    OK    ERROR    OK  
machv2macOS 10.14.6 Mojave / x86_64  OK    OK    ERROR    OK  
Package 90/107HostnameOS / ArchINSTALLBUILDCHECKBUILD BIN
seqsetvis 1.12.0  (landing page)
Joseph R Boyd
git_last_commit: f9979c2
git_last_commit_date: 2021-05-19 12:34:35 -0400
nebbiolo1Linux (Ubuntu 20.04.2 LTS) / x86_64  OK    OK    OK  UNNEEDED, same version is already published
tokay2Windows Server 2012 R2 Standard / x64  OK    OK    OK    OK  UNNEEDED, same version is already published
machv2macOS 10.14.6 Mojave / x86_64  OK    OK    OK    OK  UNNEEDED, same version is already published
Package 91/107HostnameOS / ArchINSTALLBUILDCHECKBUILD BIN
SGSeq 1.26.0  (landing page)
Leonard Goldstein
git_last_commit: d7ca914
git_last_commit_date: 2021-05-19 12:08:58 -0400
nebbiolo1Linux (Ubuntu 20.04.2 LTS) / x86_64  OK    OK    OK  UNNEEDED, same version is already published
tokay2Windows Server 2012 R2 Standard / x64  OK    OK    OK    OK  UNNEEDED, same version is already published
machv2macOS 10.14.6 Mojave / x86_64  OK    OK    OK    OK  UNNEEDED, same version is already published
Package 92/107HostnameOS / ArchINSTALLBUILDCHECKBUILD BIN
ShortRead 1.50.0  (landing page)
Bioconductor Package Maintainer
git_last_commit: 31dea4d
git_last_commit_date: 2021-05-19 11:40:52 -0400
nebbiolo1Linux (Ubuntu 20.04.2 LTS) / x86_64  OK    OK    WARNINGS  UNNEEDED, same version is already published
tokay2Windows Server 2012 R2 Standard / x64  OK    OK    OK    OK  UNNEEDED, same version is already published
machv2macOS 10.14.6 Mojave / x86_64  OK    OK    OK    OK  UNNEEDED, same version is already published
Package 93/107HostnameOS / ArchINSTALLBUILDCHECKBUILD BIN
soGGi 1.24.1  (landing page)
Tom Carroll
git_last_commit: 24358f6
git_last_commit_date: 2021-08-27 15:35:04 -0400
nebbiolo1Linux (Ubuntu 20.04.2 LTS) / x86_64  OK    OK    OK  UNNEEDED, same version is already published
tokay2Windows Server 2012 R2 Standard / x64  OK    OK    OK    OK  UNNEEDED, same version is already published
machv2macOS 10.14.6 Mojave / x86_64  OK    OK    OK    OK  UNNEEDED, same version is already published
Package 94/107HostnameOS / ArchINSTALLBUILDCHECKBUILD BIN
SplicingGraphs 1.32.0  (landing page)
H. Pagès
git_last_commit: 6066f74
git_last_commit_date: 2021-05-19 11:58:48 -0400
nebbiolo1Linux (Ubuntu 20.04.2 LTS) / x86_64  OK    OK    WARNINGS  UNNEEDED, same version is already published
tokay2Windows Server 2012 R2 Standard / x64  OK    OK    WARNINGS    OK  UNNEEDED, same version is already published
machv2macOS 10.14.6 Mojave / x86_64  OK    OK    WARNINGS    OK  UNNEEDED, same version is already published
Package 95/107HostnameOS / ArchINSTALLBUILDCHECKBUILD BIN
SPLINTER 1.18.0  (landing page)
Diana Low
git_last_commit: 9bb1aee
git_last_commit_date: 2021-05-19 12:23:18 -0400
nebbiolo1Linux (Ubuntu 20.04.2 LTS) / x86_64  OK    OK    OK  UNNEEDED, same version is already published
tokay2Windows Server 2012 R2 Standard / x64  OK    OK    WARNINGS    OK  UNNEEDED, same version is already published
machv2macOS 10.14.6 Mojave / x86_64  OK    OK    OK    OK  UNNEEDED, same version is already published
Package 96/107HostnameOS / ArchINSTALLBUILDCHECKBUILD BIN
srnadiff 1.12.2  (landing page)
Zytnicki Matthias
git_last_commit: 21bcbca
git_last_commit_date: 2021-06-02 10:17:41 -0400
nebbiolo1Linux (Ubuntu 20.04.2 LTS) / x86_64  OK    OK    OK  UNNEEDED, same version is already published
tokay2Windows Server 2012 R2 Standard / x64  OK    OK    TIMEOUT    OK  
machv2macOS 10.14.6 Mojave / x86_64  OK    OK    OK    OK  UNNEEDED, same version is already published
Package 97/107HostnameOS / ArchINSTALLBUILDCHECKBUILD BIN
strandCheckR 1.10.0  (landing page)
Thu-Hien To
git_last_commit: c7a42a9
git_last_commit_date: 2021-05-19 12:36:59 -0400
nebbiolo1Linux (Ubuntu 20.04.2 LTS) / x86_64  OK    OK    OK  UNNEEDED, same version is already published
tokay2Windows Server 2012 R2 Standard / x64  OK    OK    OK    OK  UNNEEDED, same version is already published
machv2macOS 10.14.6 Mojave / x86_64  OK    OK    OK    OK  UNNEEDED, same version is already published
Package 98/107HostnameOS / ArchINSTALLBUILDCHECKBUILD BIN
TAPseq 1.4.0  (landing page)
Andreas Gschwind
git_last_commit: cd5c228
git_last_commit_date: 2021-05-19 12:50:07 -0400
nebbiolo1Linux (Ubuntu 20.04.2 LTS) / x86_64  OK    OK    WARNINGS  UNNEEDED, same version is already published
tokay2Windows Server 2012 R2 Standard / x64  OK    OK    WARNINGS    OK  UNNEEDED, same version is already published
machv2macOS 10.14.6 Mojave / x86_64  OK    OK    WARNINGS    OK  UNNEEDED, same version is already published
Package 99/107HostnameOS / ArchINSTALLBUILDCHECKBUILD BIN
TarSeqQC 1.22.0  (landing page)
Gabriela Merino
git_last_commit: 2f87a51
git_last_commit_date: 2021-05-19 12:15:49 -0400
nebbiolo1Linux (Ubuntu 20.04.2 LTS) / x86_64  OK    OK    OK  UNNEEDED, same version is already published
tokay2Windows Server 2012 R2 Standard / x64  OK    OK    TIMEOUT    OK  
machv2macOS 10.14.6 Mojave / x86_64  OK    OK    OK    OK  UNNEEDED, same version is already published
Package 100/107HostnameOS / ArchINSTALLBUILDCHECKBUILD BIN
TCseq 1.16.0  (landing page)
Mengjun Wu
git_last_commit: fa7ce98
git_last_commit_date: 2021-05-19 12:25:15 -0400
nebbiolo1Linux (Ubuntu 20.04.2 LTS) / x86_64  OK    OK    OK  UNNEEDED, same version is already published
tokay2Windows Server 2012 R2 Standard / x64  OK    OK    OK    OK  UNNEEDED, same version is already published
machv2macOS 10.14.6 Mojave / x86_64  OK    OK    OK    OK  UNNEEDED, same version is already published
Package 101/107HostnameOS / ArchINSTALLBUILDCHECKBUILD BIN
trackViewer 1.28.1  (landing page)
Jianhong Ou
git_last_commit: 84fca6e
git_last_commit_date: 2021-07-06 12:09:25 -0400
nebbiolo1Linux (Ubuntu 20.04.2 LTS) / x86_64  OK    OK    OK  UNNEEDED, same version is already published
tokay2Windows Server 2012 R2 Standard / x64  OK    OK    OK    OK  UNNEEDED, same version is already published
machv2macOS 10.14.6 Mojave / x86_64  OK    OK    OK    OK  UNNEEDED, same version is already published
Package 102/107HostnameOS / ArchINSTALLBUILDCHECKBUILD BIN
transcriptR 1.20.0  (landing page)
Armen R. Karapetyan
git_last_commit: 812d92c
git_last_commit_date: 2021-05-19 12:17:06 -0400
nebbiolo1Linux (Ubuntu 20.04.2 LTS) / x86_64  OK    OK    OK  UNNEEDED, same version is already published
tokay2Windows Server 2012 R2 Standard / x64  OK    OK    OK    OK  UNNEEDED, same version is already published
machv2macOS 10.14.6 Mojave / x86_64  OK    OK    OK    OK  UNNEEDED, same version is already published
Package 103/107HostnameOS / ArchINSTALLBUILDCHECKBUILD BIN
TSRchitect 1.18.0  (landing page)
R. Taylor Raborn
git_last_commit: daeccc8
git_last_commit_date: 2021-05-19 12:27:50 -0400
nebbiolo1Linux (Ubuntu 20.04.2 LTS) / x86_64  OK    OK    WARNINGS  UNNEEDED, same version is already published
tokay2Windows Server 2012 R2 Standard / x64  OK    OK    WARNINGS    OK  UNNEEDED, same version is already published
machv2macOS 10.14.6 Mojave / x86_64  OK    OK    WARNINGS    OK  UNNEEDED, same version is already published
Package 104/107HostnameOS / ArchINSTALLBUILDCHECKBUILD BIN
Ularcirc 1.10.0  (landing page)
David Humphreys
git_last_commit: 5661ddd
git_last_commit_date: 2021-05-19 12:36:10 -0400
nebbiolo1Linux (Ubuntu 20.04.2 LTS) / x86_64  OK    OK    OK  UNNEEDED, same version is already published
tokay2Windows Server 2012 R2 Standard / x64  OK    OK    OK    OK  UNNEEDED, same version is already published
machv2macOS 10.14.6 Mojave / x86_64  OK    OK    OK    OK  UNNEEDED, same version is already published
Package 105/107HostnameOS / ArchINSTALLBUILDCHECKBUILD BIN
UMI4Cats 1.2.1  (landing page)
Mireia Ramos-Rodriguez
git_last_commit: a8ed2ca
git_last_commit_date: 2021-06-11 09:01:25 -0400
nebbiolo1Linux (Ubuntu 20.04.2 LTS) / x86_64  OK    OK    OK  UNNEEDED, same version is already published
tokay2Windows Server 2012 R2 Standard / x64  OK    OK    OK    OK  UNNEEDED, same version is already published
machv2macOS 10.14.6 Mojave / x86_64  OK    OK    OK    OK  UNNEEDED, same version is already published
Package 106/107HostnameOS / ArchINSTALLBUILDCHECKBUILD BIN
VaSP 1.4.0  (landing page)
Huihui Yu
git_last_commit: 634a71f
git_last_commit_date: 2021-05-19 12:49:43 -0400
nebbiolo1Linux (Ubuntu 20.04.2 LTS) / x86_64  OK    OK    OK  UNNEEDED, same version is already published
tokay2Windows Server 2012 R2 Standard / x64  OK    OK    OK    OK  UNNEEDED, same version is already published
machv2macOS 10.14.6 Mojave / x86_64  OK    OK    OK    OK  UNNEEDED, same version is already published
Package 107/107HostnameOS / ArchINSTALLBUILDCHECKBUILD BIN
VplotR 1.2.0  (landing page)
Jacques Serizay
git_last_commit: 8077df2
git_last_commit_date: 2021-05-19 12:54:43 -0400
nebbiolo1Linux (Ubuntu 20.04.2 LTS) / x86_64  OK    OK    OK  UNNEEDED, same version is already published
tokay2Windows Server 2012 R2 Standard / x64  OK    OK    OK    OK  UNNEEDED, same version is already published
machv2macOS 10.14.6 Mojave / x86_64  OK    OK    OK    OK  UNNEEDED, same version is already published