Back to Multiple platform build/check report for BioC 3.13
ABCDEF[G]HIJKLMNOPQRSTUVWXYZ

This page was generated on 2021-09-20 15:05:14 -0400 (Mon, 20 Sep 2021).

CHECK results for GenomeInfoDb on tokay2

To the developers/maintainers of the GenomeInfoDb package:
- Please allow up to 24 hours (and sometimes 48 hours) for your latest push to git@git.bioconductor.org:packages/GenomeInfoDb.git to
reflect on this report. See How and When does the builder pull? When will my changes propagate? here for more information.
- Make sure to use the following settings in order to reproduce any error or warning you see on this page.

raw results

Package 736/2041HostnameOS / ArchINSTALLBUILDCHECKBUILD BIN
GenomeInfoDb 1.28.4  (landing page)
Bioconductor Package Maintainer
Snapshot Date: 2021-09-19 04:50:10 -0400 (Sun, 19 Sep 2021)
git_url: https://git.bioconductor.org/packages/GenomeInfoDb
git_branch: RELEASE_3_13
git_last_commit: 3de2a41
git_last_commit_date: 2021-09-03 15:49:43 -0400 (Fri, 03 Sep 2021)
nebbiolo1Linux (Ubuntu 20.04.2 LTS) / x86_64  OK    OK    OK  UNNEEDED, same version is already published
tokay2Windows Server 2012 R2 Standard / x64  OK    OK    OK    OK  UNNEEDED, same version is already published
machv2macOS 10.14.6 Mojave / x86_64  OK    OK    OK    OK  UNNEEDED, same version is already published

Summary

Package: GenomeInfoDb
Version: 1.28.4
Command: C:\Users\biocbuild\bbs-3.13-bioc\R\bin\R.exe CMD check --force-multiarch --install=check:GenomeInfoDb.install-out.txt --library=C:\Users\biocbuild\bbs-3.13-bioc\R\library --no-vignettes --timings GenomeInfoDb_1.28.4.tar.gz
StartedAt: 2021-09-19 22:54:09 -0400 (Sun, 19 Sep 2021)
EndedAt: 2021-09-19 23:15:44 -0400 (Sun, 19 Sep 2021)
EllapsedTime: 1295.1 seconds
RetCode: 0
Status:   OK  
CheckDir: GenomeInfoDb.Rcheck
Warnings: 0

Command output

##############################################################################
##############################################################################
###
### Running command:
###
###   C:\Users\biocbuild\bbs-3.13-bioc\R\bin\R.exe CMD check --force-multiarch --install=check:GenomeInfoDb.install-out.txt --library=C:\Users\biocbuild\bbs-3.13-bioc\R\library --no-vignettes --timings GenomeInfoDb_1.28.4.tar.gz
###
##############################################################################
##############################################################################


* using log directory 'C:/Users/biocbuild/bbs-3.13-bioc/meat/GenomeInfoDb.Rcheck'
* using R version 4.1.1 (2021-08-10)
* using platform: x86_64-w64-mingw32 (64-bit)
* using session charset: ISO8859-1
* using option '--no-vignettes'
* checking for file 'GenomeInfoDb/DESCRIPTION' ... OK
* this is package 'GenomeInfoDb' version '1.28.4'
* package encoding: UTF-8
* checking package namespace information ... OK
* checking package dependencies ... OK
* checking if this is a source package ... OK
* checking if there is a namespace ... OK
* checking for hidden files and directories ... OK
* checking for portable file names ... OK
* checking whether package 'GenomeInfoDb' can be installed ... OK
* checking installed package size ... NOTE
  installed size is  5.2Mb
  sub-directories of 1Mb or more:
    extdata   3.5Mb
* checking package directory ... OK
* checking 'build' directory ... OK
* checking DESCRIPTION meta-information ... OK
* checking top-level files ... OK
* checking for left-over files ... OK
* checking index information ... OK
* checking package subdirectories ... OK
* checking R files for non-ASCII characters ... OK
* checking R files for syntax errors ... OK
* loading checks for arch 'i386'
** checking whether the package can be loaded ... OK
** checking whether the package can be loaded with stated dependencies ... OK
** checking whether the package can be unloaded cleanly ... OK
** checking whether the namespace can be loaded with stated dependencies ... OK
** checking whether the namespace can be unloaded cleanly ... OK
* loading checks for arch 'x64'
** checking whether the package can be loaded ... OK
** checking whether the package can be loaded with stated dependencies ... OK
** checking whether the package can be unloaded cleanly ... OK
** checking whether the namespace can be loaded with stated dependencies ... OK
** checking whether the namespace can be unloaded cleanly ... OK
* checking dependencies in R code ... NOTE
Unexported object imported by a ':::' call: 'utils:::.roman2numeric'
  See the note in ?`:::` about the use of this operator.
* checking S3 generic/method consistency ... OK
* checking replacement functions ... OK
* checking foreign function calls ... OK
* checking R code for possible problems ... OK
* checking Rd files ... OK
* checking Rd metadata ... OK
* checking Rd cross-references ... OK
* checking for missing documentation entries ... OK
* checking for code/documentation mismatches ... OK
* checking Rd \usage sections ... OK
* checking Rd contents ... OK
* checking for unstated dependencies in examples ... OK
* checking files in 'vignettes' ... OK
* checking examples ...
** running examples for arch 'i386' ... OK
Examples with CPU (user + system) or elapsed time > 5s
                        user system elapsed
loadTaxonomyDb          9.52   0.80   10.31
GenomeDescription-class 6.33   0.64    6.97
seqlevels-wrappers      4.66   1.16    5.82
seqinfo                 4.84   0.52    5.36
seqlevelsStyle          4.22   0.48   11.42
getChromInfoFromUCSC    2.66   1.09    6.73
getChromInfoFromEnsembl 0.87   0.11   59.41
getChromInfoFromNCBI    0.28   0.00    7.63
** running examples for arch 'x64' ... OK
Examples with CPU (user + system) or elapsed time > 5s
                        user system elapsed
loadTaxonomyDb          9.24   0.08    9.31
GenomeDescription-class 7.63   0.34    7.97
seqinfo                 5.56   0.31    5.93
seqlevelsStyle          4.84   0.33   12.08
getChromInfoFromUCSC    2.53   1.14    6.17
getChromInfoFromEnsembl 1.53   0.16   46.95
getChromInfoFromNCBI    0.25   0.08    7.25
* checking for unstated dependencies in 'tests' ... OK
* checking tests ...
** running tests for arch 'i386' ...
  Running 'run_unitTests.R'
 OK
** running tests for arch 'x64' ...
  Running 'run_unitTests.R'
 OK
* checking for unstated dependencies in vignettes ... OK
* checking package vignettes in 'inst/doc' ... OK
* checking running R code from vignettes ... SKIPPED
* checking re-building of vignette outputs ... SKIPPED
* checking PDF version of manual ... OK
* DONE

Status: 2 NOTEs
See
  'C:/Users/biocbuild/bbs-3.13-bioc/meat/GenomeInfoDb.Rcheck/00check.log'
for details.



Installation output

GenomeInfoDb.Rcheck/00install.out

##############################################################################
##############################################################################
###
### Running command:
###
###   C:\cygwin\bin\curl.exe -O http://155.52.207.165/BBS/3.13/bioc/src/contrib/GenomeInfoDb_1.28.4.tar.gz && rm -rf GenomeInfoDb.buildbin-libdir && mkdir GenomeInfoDb.buildbin-libdir && C:\Users\biocbuild\bbs-3.13-bioc\R\bin\R.exe CMD INSTALL --merge-multiarch --build --library=GenomeInfoDb.buildbin-libdir GenomeInfoDb_1.28.4.tar.gz && C:\Users\biocbuild\bbs-3.13-bioc\R\bin\R.exe CMD INSTALL GenomeInfoDb_1.28.4.zip && rm GenomeInfoDb_1.28.4.tar.gz GenomeInfoDb_1.28.4.zip
###
##############################################################################
##############################################################################


  % Total    % Received % Xferd  Average Speed   Time    Time     Time  Current
                                 Dload  Upload   Total   Spent    Left  Speed

  0     0    0     0    0     0      0      0 --:--:-- --:--:-- --:--:--     0
  0 3090k    0  6535    0     0  76106      0  0:00:41 --:--:--  0:00:41 75988
100 3090k  100 3090k    0     0  6247k      0 --:--:-- --:--:-- --:--:-- 6244k

install for i386

* installing *source* package 'GenomeInfoDb' ...
** using staged installation
** R
** inst
** byte-compile and prepare package for lazy loading
** help
*** installing help indices
  converting help for package 'GenomeInfoDb'
    finding HTML links ... done
    GenomeDescription-class                 html  
    GenomeInfoDb-internals                  html  
    Seqinfo-class                           html  
    fetchExtendedChromInfoFromUCSC          html  
    getChromInfoFromEnsembl                 html  
    getChromInfoFromNCBI                    html  
    getChromInfoFromUCSC                    html  
    loadTaxonomyDb                          html  
    mapGenomeBuilds                         html  
    rankSeqlevels                           html  
    seqinfo                                 html  
REDIRECT:topic	 Previous alias or file overwritten by alias: C:/Users/biocbuild/bbs-3.13-bioc/meat/GenomeInfoDb.buildbin-libdir/00LOCK-GenomeInfoDb/00new/GenomeInfoDb/help/seqinfo.html
    seqlevels-wrappers                      html  
    seqlevelsStyle                          html  
** building package indices
** installing vignettes
** testing if installed package can be loaded from temporary location
** testing if installed package can be loaded from final location
** testing if installed package keeps a record of temporary installation path

install for x64

* installing *source* package 'GenomeInfoDb' ...
** testing if installed package can be loaded
* MD5 sums
packaged installation of 'GenomeInfoDb' as GenomeInfoDb_1.28.4.zip
* DONE (GenomeInfoDb)
* installing to library 'C:/Users/biocbuild/bbs-3.13-bioc/R/library'
package 'GenomeInfoDb' successfully unpacked and MD5 sums checked

Tests output

GenomeInfoDb.Rcheck/tests_i386/run_unitTests.Rout


R version 4.1.1 (2021-08-10) -- "Kick Things"
Copyright (C) 2021 The R Foundation for Statistical Computing
Platform: i386-w64-mingw32/i386 (32-bit)

R is free software and comes with ABSOLUTELY NO WARRANTY.
You are welcome to redistribute it under certain conditions.
Type 'license()' or 'licence()' for distribution details.

R is a collaborative project with many contributors.
Type 'contributors()' for more information and
'citation()' on how to cite R or R packages in publications.

Type 'demo()' for some demos, 'help()' for on-line help, or
'help.start()' for an HTML browser interface to help.
Type 'q()' to quit R.

> require("GenomeInfoDb") || stop("unable to load GenomeInfoDb package")
Loading required package: GenomeInfoDb
Loading required package: BiocGenerics
Loading required package: parallel

Attaching package: 'BiocGenerics'

The following objects are masked from 'package:parallel':

    clusterApply, clusterApplyLB, clusterCall, clusterEvalQ,
    clusterExport, clusterMap, parApply, parCapply, parLapply,
    parLapplyLB, parRapply, parSapply, parSapplyLB

The following objects are masked from 'package:stats':

    IQR, mad, sd, var, xtabs

The following objects are masked from 'package:base':

    Filter, Find, Map, Position, Reduce, anyDuplicated, append,
    as.data.frame, basename, cbind, colnames, dirname, do.call,
    duplicated, eval, evalq, get, grep, grepl, intersect, is.unsorted,
    lapply, mapply, match, mget, order, paste, pmax, pmax.int, pmin,
    pmin.int, rank, rbind, rownames, sapply, setdiff, sort, table,
    tapply, union, unique, unsplit, which.max, which.min

Loading required package: S4Vectors
Loading required package: stats4

Attaching package: 'S4Vectors'

The following objects are masked from 'package:base':

    I, expand.grid, unname

Loading required package: IRanges

Attaching package: 'IRanges'

The following object is masked from 'package:grDevices':

    windows

[1] TRUE
> GenomeInfoDb:::.test()


RUNIT TEST PROTOCOL -- Sun Sep 19 23:07:13 2021 
*********************************************** 
Number of test functions: 21 
Number of errors: 0 
Number of failures: 0 

 
1 Test Suite : 
GenomeInfoDb RUnit Tests - 21 test functions, 0 errors, 0 failures
Number of test functions: 21 
Number of errors: 0 
Number of failures: 0 
There were 50 or more warnings (use warnings() to see the first 50)
> 
> proc.time()
   user  system elapsed 
 337.87   16.20  483.17 

GenomeInfoDb.Rcheck/tests_x64/run_unitTests.Rout


R version 4.1.1 (2021-08-10) -- "Kick Things"
Copyright (C) 2021 The R Foundation for Statistical Computing
Platform: x86_64-w64-mingw32/x64 (64-bit)

R is free software and comes with ABSOLUTELY NO WARRANTY.
You are welcome to redistribute it under certain conditions.
Type 'license()' or 'licence()' for distribution details.

R is a collaborative project with many contributors.
Type 'contributors()' for more information and
'citation()' on how to cite R or R packages in publications.

Type 'demo()' for some demos, 'help()' for on-line help, or
'help.start()' for an HTML browser interface to help.
Type 'q()' to quit R.

> require("GenomeInfoDb") || stop("unable to load GenomeInfoDb package")
Loading required package: GenomeInfoDb
Loading required package: BiocGenerics
Loading required package: parallel

Attaching package: 'BiocGenerics'

The following objects are masked from 'package:parallel':

    clusterApply, clusterApplyLB, clusterCall, clusterEvalQ,
    clusterExport, clusterMap, parApply, parCapply, parLapply,
    parLapplyLB, parRapply, parSapply, parSapplyLB

The following objects are masked from 'package:stats':

    IQR, mad, sd, var, xtabs

The following objects are masked from 'package:base':

    Filter, Find, Map, Position, Reduce, anyDuplicated, append,
    as.data.frame, basename, cbind, colnames, dirname, do.call,
    duplicated, eval, evalq, get, grep, grepl, intersect, is.unsorted,
    lapply, mapply, match, mget, order, paste, pmax, pmax.int, pmin,
    pmin.int, rank, rbind, rownames, sapply, setdiff, sort, table,
    tapply, union, unique, unsplit, which.max, which.min

Loading required package: S4Vectors
Loading required package: stats4

Attaching package: 'S4Vectors'

The following objects are masked from 'package:base':

    I, expand.grid, unname

Loading required package: IRanges

Attaching package: 'IRanges'

The following object is masked from 'package:grDevices':

    windows

[1] TRUE
> GenomeInfoDb:::.test()


RUNIT TEST PROTOCOL -- Sun Sep 19 23:15:33 2021 
*********************************************** 
Number of test functions: 21 
Number of errors: 0 
Number of failures: 0 

 
1 Test Suite : 
GenomeInfoDb RUnit Tests - 21 test functions, 0 errors, 0 failures
Number of test functions: 21 
Number of errors: 0 
Number of failures: 0 
There were 50 or more warnings (use warnings() to see the first 50)
> 
> proc.time()
   user  system elapsed 
 356.64   16.35  500.06 

Example timings

GenomeInfoDb.Rcheck/examples_i386/GenomeInfoDb-Ex.timings

nameusersystemelapsed
GenomeDescription-class6.330.646.97
Seqinfo-class0.390.150.55
fetchExtendedChromInfoFromUCSC000
getChromInfoFromEnsembl 0.87 0.1159.41
getChromInfoFromNCBI0.280.007.63
getChromInfoFromUCSC2.661.096.73
loadTaxonomyDb 9.52 0.8010.31
mapGenomeBuilds0.060.000.06
rankSeqlevels0.220.010.23
seqinfo4.840.525.36
seqlevels-wrappers4.661.165.82
seqlevelsStyle 4.22 0.4811.42

GenomeInfoDb.Rcheck/examples_x64/GenomeInfoDb-Ex.timings

nameusersystemelapsed
GenomeDescription-class7.630.347.97
Seqinfo-class0.390.000.39
fetchExtendedChromInfoFromUCSC000
getChromInfoFromEnsembl 1.53 0.1646.95
getChromInfoFromNCBI0.250.087.25
getChromInfoFromUCSC2.531.146.17
loadTaxonomyDb9.240.089.31
mapGenomeBuilds0.030.000.03
rankSeqlevels0.110.000.11
seqinfo5.560.315.93
seqlevels-wrappers3.600.133.82
seqlevelsStyle 4.84 0.3312.08