Back to Multiple platform build/check report for BioC 3.13
ABCDEF[G]HIJKLMNOPQRSTUVWXYZ

This page was generated on 2021-09-24 15:05:46 -0400 (Fri, 24 Sep 2021).

CHECK results for GenomeInfoDb on nebbiolo1

To the developers/maintainers of the GenomeInfoDb package:
- Please allow up to 24 hours (and sometimes 48 hours) for your latest push to git@git.bioconductor.org:packages/GenomeInfoDb.git to
reflect on this report. See How and When does the builder pull? When will my changes propagate? here for more information.
- Make sure to use the following settings in order to reproduce any error or warning you see on this page.

raw results

Package 736/2041HostnameOS / ArchINSTALLBUILDCHECKBUILD BIN
GenomeInfoDb 1.28.4  (landing page)
Bioconductor Package Maintainer
Snapshot Date: 2021-09-23 04:50:12 -0400 (Thu, 23 Sep 2021)
git_url: https://git.bioconductor.org/packages/GenomeInfoDb
git_branch: RELEASE_3_13
git_last_commit: 3de2a41
git_last_commit_date: 2021-09-03 15:49:43 -0400 (Fri, 03 Sep 2021)
nebbiolo1Linux (Ubuntu 20.04.2 LTS) / x86_64  OK    OK    OK  UNNEEDED, same version is already published
tokay2Windows Server 2012 R2 Standard / x64  OK    OK    ERROR    OK  
machv2macOS 10.14.6 Mojave / x86_64  OK    OK    OK    OK  UNNEEDED, same version is already published

Summary

Package: GenomeInfoDb
Version: 1.28.4
Command: /home/biocbuild/bbs-3.13-bioc/R/bin/R CMD check --install=check:GenomeInfoDb.install-out.txt --library=/home/biocbuild/bbs-3.13-bioc/R/library --no-vignettes --timings GenomeInfoDb_1.28.4.tar.gz
StartedAt: 2021-09-23 09:56:44 -0400 (Thu, 23 Sep 2021)
EndedAt: 2021-09-23 10:05:58 -0400 (Thu, 23 Sep 2021)
EllapsedTime: 553.8 seconds
RetCode: 0
Status:   OK  
CheckDir: GenomeInfoDb.Rcheck
Warnings: 0

Command output

##############################################################################
##############################################################################
###
### Running command:
###
###   /home/biocbuild/bbs-3.13-bioc/R/bin/R CMD check --install=check:GenomeInfoDb.install-out.txt --library=/home/biocbuild/bbs-3.13-bioc/R/library --no-vignettes --timings GenomeInfoDb_1.28.4.tar.gz
###
##############################################################################
##############################################################################


* using log directory ‘/home/biocbuild/bbs-3.13-bioc/meat/GenomeInfoDb.Rcheck’
* using R version 4.1.1 (2021-08-10)
* using platform: x86_64-pc-linux-gnu (64-bit)
* using session charset: UTF-8
* using option ‘--no-vignettes’
* checking for file ‘GenomeInfoDb/DESCRIPTION’ ... OK
* this is package ‘GenomeInfoDb’ version ‘1.28.4’
* package encoding: UTF-8
* checking package namespace information ... OK
* checking package dependencies ... OK
* checking if this is a source package ... OK
* checking if there is a namespace ... OK
* checking for hidden files and directories ... OK
* checking for portable file names ... OK
* checking for sufficient/correct file permissions ... OK
* checking whether package ‘GenomeInfoDb’ can be installed ... OK
* checking installed package size ... OK
* checking package directory ... OK
* checking ‘build’ directory ... OK
* checking DESCRIPTION meta-information ... OK
* checking top-level files ... OK
* checking for left-over files ... OK
* checking index information ... OK
* checking package subdirectories ... OK
* checking R files for non-ASCII characters ... OK
* checking R files for syntax errors ... OK
* checking whether the package can be loaded ... OK
* checking whether the package can be loaded with stated dependencies ... OK
* checking whether the package can be unloaded cleanly ... OK
* checking whether the namespace can be loaded with stated dependencies ... OK
* checking whether the namespace can be unloaded cleanly ... OK
* checking dependencies in R code ... NOTE
Unexported object imported by a ':::' call: ‘utils:::.roman2numeric’
  See the note in ?`:::` about the use of this operator.
* checking S3 generic/method consistency ... OK
* checking replacement functions ... OK
* checking foreign function calls ... OK
* checking R code for possible problems ... OK
* checking Rd files ... OK
* checking Rd metadata ... OK
* checking Rd cross-references ... OK
* checking for missing documentation entries ... OK
* checking for code/documentation mismatches ... OK
* checking Rd \usage sections ... OK
* checking Rd contents ... OK
* checking for unstated dependencies in examples ... OK
* checking files in ‘vignettes’ ... OK
* checking examples ... OK
Examples with CPU (user + system) or elapsed time > 5s
                         user system elapsed
loadTaxonomyDb          8.847  0.168   9.016
GenomeDescription-class 7.690  0.280   7.970
seqinfo                 5.248  0.168   5.462
seqlevelsStyle          2.995  0.117   6.747
getChromInfoFromEnsembl 0.564  0.104  57.023
* checking for unstated dependencies in ‘tests’ ... OK
* checking tests ...
  Running ‘run_unitTests.R’
 OK
* checking for unstated dependencies in vignettes ... OK
* checking package vignettes in ‘inst/doc’ ... OK
* checking running R code from vignettes ... SKIPPED
* checking re-building of vignette outputs ... SKIPPED
* checking PDF version of manual ... OK
* DONE

Status: 1 NOTE
See
  ‘/home/biocbuild/bbs-3.13-bioc/meat/GenomeInfoDb.Rcheck/00check.log’
for details.



Installation output

GenomeInfoDb.Rcheck/00install.out

##############################################################################
##############################################################################
###
### Running command:
###
###   /home/biocbuild/bbs-3.13-bioc/R/bin/R CMD INSTALL GenomeInfoDb
###
##############################################################################
##############################################################################


* installing to library ‘/home/biocbuild/bbs-3.13-bioc/R/library’
* installing *source* package ‘GenomeInfoDb’ ...
** using staged installation
** R
** inst
** byte-compile and prepare package for lazy loading
** help
*** installing help indices
** building package indices
** installing vignettes
** testing if installed package can be loaded from temporary location
** testing if installed package can be loaded from final location
** testing if installed package keeps a record of temporary installation path
* DONE (GenomeInfoDb)

Tests output

GenomeInfoDb.Rcheck/tests/run_unitTests.Rout


R version 4.1.1 (2021-08-10) -- "Kick Things"
Copyright (C) 2021 The R Foundation for Statistical Computing
Platform: x86_64-pc-linux-gnu (64-bit)

R is free software and comes with ABSOLUTELY NO WARRANTY.
You are welcome to redistribute it under certain conditions.
Type 'license()' or 'licence()' for distribution details.

R is a collaborative project with many contributors.
Type 'contributors()' for more information and
'citation()' on how to cite R or R packages in publications.

Type 'demo()' for some demos, 'help()' for on-line help, or
'help.start()' for an HTML browser interface to help.
Type 'q()' to quit R.

> require("GenomeInfoDb") || stop("unable to load GenomeInfoDb package")
Loading required package: GenomeInfoDb
Loading required package: BiocGenerics
Loading required package: parallel

Attaching package: 'BiocGenerics'

The following objects are masked from 'package:parallel':

    clusterApply, clusterApplyLB, clusterCall, clusterEvalQ,
    clusterExport, clusterMap, parApply, parCapply, parLapply,
    parLapplyLB, parRapply, parSapply, parSapplyLB

The following objects are masked from 'package:stats':

    IQR, mad, sd, var, xtabs

The following objects are masked from 'package:base':

    Filter, Find, Map, Position, Reduce, anyDuplicated, append,
    as.data.frame, basename, cbind, colnames, dirname, do.call,
    duplicated, eval, evalq, get, grep, grepl, intersect, is.unsorted,
    lapply, mapply, match, mget, order, paste, pmax, pmax.int, pmin,
    pmin.int, rank, rbind, rownames, sapply, setdiff, sort, table,
    tapply, union, unique, unsplit, which.max, which.min

Loading required package: S4Vectors
Loading required package: stats4

Attaching package: 'S4Vectors'

The following objects are masked from 'package:base':

    I, expand.grid, unname

Loading required package: IRanges
[1] TRUE
> GenomeInfoDb:::.test()


RUNIT TEST PROTOCOL -- Thu Sep 23 10:05:55 2021 
*********************************************** 
Number of test functions: 21 
Number of errors: 0 
Number of failures: 0 

 
1 Test Suite : 
GenomeInfoDb RUnit Tests - 21 test functions, 0 errors, 0 failures
Number of test functions: 21 
Number of errors: 0 
Number of failures: 0 
There were 50 or more warnings (use warnings() to see the first 50)
> 
> proc.time()
   user  system elapsed 
308.722   6.712 396.337 

Example timings

GenomeInfoDb.Rcheck/GenomeInfoDb-Ex.timings

nameusersystemelapsed
GenomeDescription-class7.690.287.97
Seqinfo-class0.2210.0240.245
fetchExtendedChromInfoFromUCSC0.0010.0000.000
getChromInfoFromEnsembl 0.564 0.10457.023
getChromInfoFromNCBI0.2040.0363.290
getChromInfoFromUCSC1.5640.2083.861
loadTaxonomyDb8.8470.1689.016
mapGenomeBuilds0.0400.0120.052
rankSeqlevels0.1160.0100.127
seqinfo5.2480.1685.462
seqlevels-wrappers3.4280.1803.609
seqlevelsStyle2.9950.1176.747