Back to Multiple platform build/check report for BioC 3.13
ABCDEF[G]HIJKLMNOPQRSTUVWXYZ

This page was generated on 2021-09-20 15:04:49 -0400 (Mon, 20 Sep 2021).

BUILD results for GenomeInfoDb on nebbiolo1

To the developers/maintainers of the GenomeInfoDb package:
- Please allow up to 24 hours (and sometimes 48 hours) for your latest push to git@git.bioconductor.org:packages/GenomeInfoDb.git to
reflect on this report. See How and When does the builder pull? When will my changes propagate? here for more information.
- Make sure to use the following settings in order to reproduce any error or warning you see on this page.

raw results

Package 736/2041HostnameOS / ArchINSTALLBUILDCHECKBUILD BIN
GenomeInfoDb 1.28.4  (landing page)
Bioconductor Package Maintainer
Snapshot Date: 2021-09-19 04:50:10 -0400 (Sun, 19 Sep 2021)
git_url: https://git.bioconductor.org/packages/GenomeInfoDb
git_branch: RELEASE_3_13
git_last_commit: 3de2a41
git_last_commit_date: 2021-09-03 15:49:43 -0400 (Fri, 03 Sep 2021)
nebbiolo1Linux (Ubuntu 20.04.2 LTS) / x86_64  OK    OK    OK  UNNEEDED, same version is already published
tokay2Windows Server 2012 R2 Standard / x64  OK    OK    OK    OK  UNNEEDED, same version is already published
machv2macOS 10.14.6 Mojave / x86_64  OK    OK    OK    OK  UNNEEDED, same version is already published

Summary

Package: GenomeInfoDb
Version: 1.28.4
Command: /home/biocbuild/bbs-3.13-bioc/R/bin/R CMD build --keep-empty-dirs --no-resave-data GenomeInfoDb
StartedAt: 2021-09-19 07:18:42 -0400 (Sun, 19 Sep 2021)
EndedAt: 2021-09-19 07:19:07 -0400 (Sun, 19 Sep 2021)
EllapsedTime: 24.8 seconds
RetCode: 0
Status:   OK  
PackageFile: GenomeInfoDb_1.28.4.tar.gz
PackageFileSize: 3.297 MiB

Command output

##############################################################################
##############################################################################
###
### Running command:
###
###   /home/biocbuild/bbs-3.13-bioc/R/bin/R CMD build --keep-empty-dirs --no-resave-data GenomeInfoDb
###
##############################################################################
##############################################################################


* checking for file ‘GenomeInfoDb/DESCRIPTION’ ... OK
* preparing ‘GenomeInfoDb’:
* checking DESCRIPTION meta-information ... OK
* installing the package to build vignettes
* creating vignettes ... OK
* checking for LF line-endings in source and make files and shell scripts
* checking for empty or unneeded directories
* building ‘GenomeInfoDb_1.28.4.tar.gz’