Back to Multiple platform build/check report for BioC 3.13
ABCDEF[G]HIJKLMNOPQRSTUVWXYZ

This page was generated on 2021-09-24 15:05:19 -0400 (Fri, 24 Sep 2021).

All results for package GenomeInfoDb

To the developers/maintainers of the GenomeInfoDb package:
- Please allow up to 24 hours (and sometimes 48 hours) for your latest push to git@git.bioconductor.org:packages/GenomeInfoDb.git to
reflect on this report. See How and When does the builder pull? When will my changes propagate? here for more information.
- Make sure to use the following settings in order to reproduce any error or warning you see on this page.

raw results

Package 736/2041HostnameOS / ArchINSTALLBUILDCHECKBUILD BIN
GenomeInfoDb 1.28.4  (landing page)
Bioconductor Package Maintainer
Snapshot Date: 2021-09-23 04:50:12 -0400 (Thu, 23 Sep 2021)
git_url: https://git.bioconductor.org/packages/GenomeInfoDb
git_branch: RELEASE_3_13
git_last_commit: 3de2a41
git_last_commit_date: 2021-09-03 15:49:43 -0400 (Fri, 03 Sep 2021)
nebbiolo1Linux (Ubuntu 20.04.2 LTS) / x86_64  OK    OK    OK  UNNEEDED, same version is already published
tokay2Windows Server 2012 R2 Standard / x64  OK    OK    ERROR    OK  
machv2macOS 10.14.6 Mojave / x86_64  OK    OK    OK    OK  UNNEEDED, same version is already published

Results for Bioconductor software packages that depend directly on package GenomeInfoDb

QUICK STATSOS / ArchINSTALLBUILDCHECKBUILD BIN
nebbiolo1Linux (Ubuntu 20.04.2 LTS) / x86_64
00260
06254
0753194
tokay2Windows Server 2012 R2 Standard / x64
00252
023229
2949169
00229
machv2macOS 10.14.6 Mojave / x86_64
00259
029230
0646178
00230
Package 1/260HostnameOS / ArchINSTALLBUILDCHECKBUILD BIN
AllelicImbalance 1.30.0  (landing page)
Jesper R Gadin
git_last_commit: 5e00a1f
git_last_commit_date: 2021-05-19 12:00:58 -0400
nebbiolo1Linux (Ubuntu 20.04.2 LTS) / x86_64  OK    OK    OK  UNNEEDED, same version is already published
tokay2Windows Server 2012 R2 Standard / x64  OK    OK    OK    OK  UNNEEDED, same version is already published
machv2macOS 10.14.6 Mojave / x86_64  OK    OK    OK    OK  UNNEEDED, same version is already published
Package 2/260HostnameOS / ArchINSTALLBUILDCHECKBUILD BIN
alpine 1.18.0  (landing page)
Michael Love
git_last_commit: 06257d2
git_last_commit_date: 2021-05-19 12:22:33 -0400
nebbiolo1Linux (Ubuntu 20.04.2 LTS) / x86_64  OK    OK    OK  UNNEEDED, same version is already published
tokay2Windows Server 2012 R2 Standard / x64  OK    OK    OK    OK  UNNEEDED, same version is already published
machv2macOS 10.14.6 Mojave / x86_64  OK    OK    OK    OK  UNNEEDED, same version is already published
Package 3/260HostnameOS / ArchINSTALLBUILDCHECKBUILD BIN
amplican 1.14.0  (landing page)
Eivind Valen
git_last_commit: e994104
git_last_commit_date: 2021-05-19 12:30:12 -0400
nebbiolo1Linux (Ubuntu 20.04.2 LTS) / x86_64  OK    OK    OK  UNNEEDED, same version is already published
tokay2Windows Server 2012 R2 Standard / x64  OK    OK    OK    OK  UNNEEDED, same version is already published
machv2macOS 10.14.6 Mojave / x86_64  OK    OK    OK    OK  UNNEEDED, same version is already published
Package 4/260HostnameOS / ArchINSTALLBUILDCHECKBUILD BIN
AneuFinder 1.20.0  (landing page)
Aaron Taudt
git_last_commit: 1c7aed6
git_last_commit_date: 2021-05-19 12:19:05 -0400
nebbiolo1Linux (Ubuntu 20.04.2 LTS) / x86_64  OK    OK    OK  UNNEEDED, same version is already published
tokay2Windows Server 2012 R2 Standard / x64  OK    ERROR  skippedskipped
machv2macOS 10.14.6 Mojave / x86_64  OK    ERROR  skippedskipped
Package 5/260HostnameOS / ArchINSTALLBUILDCHECKBUILD BIN
AnnotationHubData 1.22.0  (landing page)
Bioconductor Package Maintainer
git_last_commit: c2a76fb
git_last_commit_date: 2021-05-19 12:15:21 -0400
nebbiolo1Linux (Ubuntu 20.04.2 LTS) / x86_64  OK    OK    WARNINGS  UNNEEDED, same version is already published
tokay2Windows Server 2012 R2 Standard / x64  OK    OK    WARNINGS    OK  UNNEEDED, same version is already published
machv2macOS 10.14.6 Mojave / x86_64  OK    OK    WARNINGS    OK  UNNEEDED, same version is already published
Package 6/260HostnameOS / ArchINSTALLBUILDCHECKBUILD BIN
annotatr 1.18.1  (landing page)
Raymond G. Cavalcante
git_last_commit: 0066d80
git_last_commit_date: 2021-07-12 10:41:46 -0400
nebbiolo1Linux (Ubuntu 20.04.2 LTS) / x86_64  OK    OK    WARNINGS  UNNEEDED, same version is already published
tokay2Windows Server 2012 R2 Standard / x64  OK    ERROR  skippedskipped
machv2macOS 10.14.6 Mojave / x86_64  OK    ERROR  skippedskipped
Package 7/260HostnameOS / ArchINSTALLBUILDCHECKBUILD BIN
ASpediaFI 1.6.0  (landing page)
Doyeong Yu
git_last_commit: a36105f
git_last_commit_date: 2021-05-19 12:47:16 -0400
nebbiolo1Linux (Ubuntu 20.04.2 LTS) / x86_64  OK    OK    OK  UNNEEDED, same version is already published
tokay2Windows Server 2012 R2 Standard / x64  OK    OK    OK    OK  UNNEEDED, same version is already published
machv2macOS 10.14.6 Mojave / x86_64  OK    OK    OK    OK  UNNEEDED, same version is already published
Package 8/260HostnameOS / ArchINSTALLBUILDCHECKBUILD BIN
ATACseqQC 1.16.0  (landing page)
Jianhong Ou
git_last_commit: e345154
git_last_commit_date: 2021-05-19 12:27:43 -0400
nebbiolo1Linux (Ubuntu 20.04.2 LTS) / x86_64  OK    OK    OK  UNNEEDED, same version is already published
tokay2Windows Server 2012 R2 Standard / x64  OK    OK    OK    OK  UNNEEDED, same version is already published
machv2macOS 10.14.6 Mojave / x86_64  OK    OK    OK    OK  UNNEEDED, same version is already published
Package 9/260HostnameOS / ArchINSTALLBUILDCHECKBUILD BIN
BaalChIP 1.18.0  (landing page)
Ines de Santiago
git_last_commit: 49e2ae7
git_last_commit_date: 2021-05-19 12:22:59 -0400
nebbiolo1Linux (Ubuntu 20.04.2 LTS) / x86_64  OK    OK    WARNINGS  UNNEEDED, same version is already published
tokay2Windows Server 2012 R2 Standard / x64  OK    OK    WARNINGS    OK  UNNEEDED, same version is already published
machv2macOS 10.14.6 Mojave / x86_64  OK    OK    WARNINGS    OK  UNNEEDED, same version is already published
Package 10/260HostnameOS / ArchINSTALLBUILDCHECKBUILD BIN
ballgown 2.24.0  (landing page)
Jack Fu
git_last_commit: 34829e1
git_last_commit_date: 2021-05-19 12:06:23 -0400
nebbiolo1Linux (Ubuntu 20.04.2 LTS) / x86_64  OK    OK    OK  UNNEEDED, same version is already published
tokay2Windows Server 2012 R2 Standard / x64  OK    OK    OK    OK  UNNEEDED, same version is already published
machv2macOS 10.14.6 Mojave / x86_64  OK    OK    OK    OK  UNNEEDED, same version is already published
Package 11/260HostnameOS / ArchINSTALLBUILDCHECKBUILD BIN
bambu 1.2.1  (landing page)
Ying Chen
git_last_commit: 1c71eae
git_last_commit_date: 2021-08-30 02:22:04 -0400
nebbiolo1Linux (Ubuntu 20.04.2 LTS) / x86_64  OK    OK    OK  UNNEEDED, same version is already published
tokay2Windows Server 2012 R2 Standard / x64  OK    OK    OK    OK  UNNEEDED, same version is already published
machv2macOS 10.14.6 Mojave / x86_64  OK    OK    OK    OK  UNNEEDED, same version is already published
Package 12/260HostnameOS / ArchINSTALLBUILDCHECKBUILD BIN
BasicSTARRseq 1.20.0  (landing page)
Annika Buerger
git_last_commit: 6542fef
git_last_commit_date: 2021-05-19 12:17:47 -0400
nebbiolo1Linux (Ubuntu 20.04.2 LTS) / x86_64  OK    OK    OK  UNNEEDED, same version is already published
tokay2Windows Server 2012 R2 Standard / x64  OK    OK    OK    OK  UNNEEDED, same version is already published
machv2macOS 10.14.6 Mojave / x86_64  OK    OK    OK    OK  UNNEEDED, same version is already published
Package 13/260HostnameOS / ArchINSTALLBUILDCHECKBUILD BIN
Biostrings 2.60.2  (landing page)
H. Pagès
git_last_commit: 2024073
git_last_commit_date: 2021-08-04 00:39:03 -0400
nebbiolo1Linux (Ubuntu 20.04.2 LTS) / x86_64  OK    OK    WARNINGS  UNNEEDED, same version is already published
tokay2Windows Server 2012 R2 Standard / x64  OK    OK    WARNINGS    OK  UNNEEDED, same version is already published
machv2macOS 10.14.6 Mojave / x86_64  OK    OK    WARNINGS    OK  UNNEEDED, same version is already published
Package 14/260HostnameOS / ArchINSTALLBUILDCHECKBUILD BIN
biovizBase 1.40.0  (landing page)
Michael Lawrence
git_last_commit: e741735
git_last_commit_date: 2021-05-19 11:50:05 -0400
nebbiolo1Linux (Ubuntu 20.04.2 LTS) / x86_64  OK    OK    WARNINGS  UNNEEDED, same version is already published
tokay2Windows Server 2012 R2 Standard / x64  OK    OK    WARNINGS    OK  UNNEEDED, same version is already published
machv2macOS 10.14.6 Mojave / x86_64  OK    OK    WARNINGS    OK  UNNEEDED, same version is already published
Package 15/260HostnameOS / ArchINSTALLBUILDCHECKBUILD BIN
biscuiteer 1.6.0  (landing page)
"Jacob Morrison"
git_last_commit: 6d86b7b
git_last_commit_date: 2021-05-19 12:47:26 -0400
nebbiolo1Linux (Ubuntu 20.04.2 LTS) / x86_64  OK    OK    WARNINGS  UNNEEDED, same version is already published
tokay2Windows Server 2012 R2 Standard / x64  OK    OK    WARNINGS    OK  UNNEEDED, same version is already published
machv2macOS 10.14.6 Mojave / x86_64  OK    OK    WARNINGS    OK  UNNEEDED, same version is already published
Package 16/260HostnameOS / ArchINSTALLBUILDCHECKBUILD BIN
BiSeq 1.32.0  (landing page)
Katja Hebestreit
git_last_commit: d5b9175
git_last_commit_date: 2021-05-19 11:58:45 -0400
nebbiolo1Linux (Ubuntu 20.04.2 LTS) / x86_64  OK    OK    OK  UNNEEDED, same version is already published
tokay2Windows Server 2012 R2 Standard / x64  OK    OK    OK    OK  UNNEEDED, same version is already published
machv2macOS 10.14.6 Mojave / x86_64  OK    OK    OK    OK  UNNEEDED, same version is already published
Package 17/260HostnameOS / ArchINSTALLBUILDCHECKBUILD BIN
bnbc 1.14.0  (landing page)
Kipper Fletez-Brant
git_last_commit: 210c4d2
git_last_commit_date: 2021-05-19 12:31:07 -0400
nebbiolo1Linux (Ubuntu 20.04.2 LTS) / x86_64  OK    OK    OK  UNNEEDED, same version is already published
tokay2Windows Server 2012 R2 Standard / x64  OK    OK    OK    OK  UNNEEDED, same version is already published
machv2macOS 10.14.6 Mojave / x86_64  OK    OK    OK    OK  UNNEEDED, same version is already published
Package 18/260HostnameOS / ArchINSTALLBUILDCHECKBUILD BIN
branchpointer 1.18.0  (landing page)
Beth Signal
git_last_commit: 0e0e947
git_last_commit_date: 2021-05-19 12:26:29 -0400
nebbiolo1Linux (Ubuntu 20.04.2 LTS) / x86_64  OK    OK    OK  UNNEEDED, same version is already published
tokay2Windows Server 2012 R2 Standard / x64  OK    OK    OK    OK  UNNEEDED, same version is already published
machv2macOS 10.14.6 Mojave / x86_64  OK    OK    OK    OK  UNNEEDED, same version is already published
Package 19/260HostnameOS / ArchINSTALLBUILDCHECKBUILD BIN
breakpointR 1.10.0  (landing page)
David Porubsky
git_last_commit: c1d2077
git_last_commit_date: 2021-05-19 12:38:04 -0400
nebbiolo1Linux (Ubuntu 20.04.2 LTS) / x86_64  OK    OK    OK  UNNEEDED, same version is already published
tokay2Windows Server 2012 R2 Standard / x64  OK    OK    OK    OK  UNNEEDED, same version is already published
machv2macOS 10.14.6 Mojave / x86_64  OK    OK    OK    OK  UNNEEDED, same version is already published
Package 20/260HostnameOS / ArchINSTALLBUILDCHECKBUILD BIN
BRGenomics 1.4.0  (landing page)
Mike DeBerardine
git_last_commit: b006074
git_last_commit_date: 2021-05-19 12:50:47 -0400
nebbiolo1Linux (Ubuntu 20.04.2 LTS) / x86_64  OK    OK    WARNINGS  UNNEEDED, same version is already published
tokay2Windows Server 2012 R2 Standard / x64  OK    OK    WARNINGS    OK  UNNEEDED, same version is already published
machv2macOS 10.14.6 Mojave / x86_64  OK    OK    WARNINGS    OK  UNNEEDED, same version is already published
Package 21/260HostnameOS / ArchINSTALLBUILDCHECKBUILD BIN
BSgenome 1.60.0  (landing page)
H. Pagès
git_last_commit: 6643064
git_last_commit_date: 2021-05-19 11:37:32 -0400
nebbiolo1Linux (Ubuntu 20.04.2 LTS) / x86_64  OK    OK    WARNINGS  UNNEEDED, same version is already published
tokay2Windows Server 2012 R2 Standard / x64  OK    OK    WARNINGS    OK  UNNEEDED, same version is already published
machv2macOS 10.14.6 Mojave / x86_64  OK    OK    WARNINGS    OK  UNNEEDED, same version is already published
Package 22/260HostnameOS / ArchINSTALLBUILDCHECKBUILD BIN
bsseq 1.28.0  (landing page)
Kasper Daniel Hansen
git_last_commit: 57084fa
git_last_commit_date: 2021-05-19 11:53:03 -0400
nebbiolo1Linux (Ubuntu 20.04.2 LTS) / x86_64  OK    OK    OK  UNNEEDED, same version is already published
tokay2Windows Server 2012 R2 Standard / x64  OK    OK    OK    OK  UNNEEDED, same version is already published
machv2macOS 10.14.6 Mojave / x86_64  OK    OK    OK    OK  UNNEEDED, same version is already published
Package 23/260HostnameOS / ArchINSTALLBUILDCHECKBUILD BIN
bumphunter 1.34.0  (landing page)
Rafael A. Irizarry
git_last_commit: 905ec98
git_last_commit_date: 2021-05-19 11:54:54 -0400
nebbiolo1Linux (Ubuntu 20.04.2 LTS) / x86_64  OK    OK    OK  UNNEEDED, same version is already published
tokay2Windows Server 2012 R2 Standard / x64  OK    OK    OK    OK  UNNEEDED, same version is already published
machv2macOS 10.14.6 Mojave / x86_64  OK    OK    OK    OK  UNNEEDED, same version is already published
Package 24/260HostnameOS / ArchINSTALLBUILDCHECKBUILD BIN
BUSpaRse 1.6.1  (landing page)
Lambda Moses
git_last_commit: 10db5d4
git_last_commit_date: 2021-06-07 21:09:14 -0400
nebbiolo1Linux (Ubuntu 20.04.2 LTS) / x86_64  OK    OK    OK  UNNEEDED, same version is already published
tokay2Windows Server 2012 R2 Standard / x64  OK    OK    OK    OK  UNNEEDED, same version is already published
machv2macOS 10.14.6 Mojave / x86_64  OK    OK    OK    OK  UNNEEDED, same version is already published
Package 25/260HostnameOS / ArchINSTALLBUILDCHECKBUILD BIN
CAGEfightR 1.12.0  (landing page)
Malte Thodberg
git_last_commit: f776ea4
git_last_commit_date: 2021-05-19 12:35:42 -0400
nebbiolo1Linux (Ubuntu 20.04.2 LTS) / x86_64  OK    OK    OK  UNNEEDED, same version is already published
tokay2Windows Server 2012 R2 Standard / x64  OK    OK    OK    OK  UNNEEDED, same version is already published
machv2macOS 10.14.6 Mojave / x86_64  OK    OK    OK    OK  UNNEEDED, same version is already published
Package 26/260HostnameOS / ArchINSTALLBUILDCHECKBUILD BIN
CAGEr 1.34.0  (landing page)
Charles Plessy
git_last_commit: 8e7ccda
git_last_commit_date: 2021-05-19 11:57:42 -0400
nebbiolo1Linux (Ubuntu 20.04.2 LTS) / x86_64  OK    OK    WARNINGS  UNNEEDED, same version is already published
tokay2Windows Server 2012 R2 Standard / x64  OK    OK    WARNINGS    OK  UNNEEDED, same version is already published
machv2macOS 10.14.6 Mojave / x86_64  OK    OK    WARNINGS    OK  UNNEEDED, same version is already published
Package 27/260HostnameOS / ArchINSTALLBUILDCHECKBUILD BIN
casper 2.26.0  (landing page)
David Rossell
git_last_commit: 3de669e
git_last_commit_date: 2021-05-19 11:57:16 -0400
nebbiolo1Linux (Ubuntu 20.04.2 LTS) / x86_64  OK    OK    WARNINGS  UNNEEDED, same version is already published
tokay2Windows Server 2012 R2 Standard / x64  OK    OK    WARNINGS    OK  UNNEEDED, same version is already published
machv2macOS 10.14.6 Mojave / x86_64  OK    OK    WARNINGS    OK  UNNEEDED, same version is already published
Package 28/260HostnameOS / ArchINSTALLBUILDCHECKBUILD BIN
cBioPortalData 2.4.8  (landing page)
Marcel Ramos
git_last_commit: 3a43ce4
git_last_commit_date: 2021-08-23 15:35:27 -0400
nebbiolo1Linux (Ubuntu 20.04.2 LTS) / x86_64  OK    OK    WARNINGS  UNNEEDED, same version is already published
tokay2Windows Server 2012 R2 Standard / x64  OK    OK    WARNINGS    OK  UNNEEDED, same version is already published
machv2macOS 10.14.6 Mojave / x86_64  OK    OK    WARNINGS    OK  UNNEEDED, same version is already published
Package 29/260HostnameOS / ArchINSTALLBUILDCHECKBUILD BIN
CexoR 1.30.1  (landing page)
Pedro Madrigal
git_last_commit: 167fbd0
git_last_commit_date: 2021-09-11 20:58:58 -0400
nebbiolo1Linux (Ubuntu 20.04.2 LTS) / x86_64  OK    OK    ERROR  
tokay2Windows Server 2012 R2 Standard / x64  OK    OK    ERROR    OK  
machv2macOS 10.14.6 Mojave / x86_64  OK    OK    ERROR    OK  
Package 30/260HostnameOS / ArchINSTALLBUILDCHECKBUILD BIN
chimeraviz 1.18.0  (landing page)
Stian Lågstad
git_last_commit: bc2b277
git_last_commit_date: 2021-05-19 12:24:46 -0400
nebbiolo1Linux (Ubuntu 20.04.2 LTS) / x86_64  OK    OK    OK  UNNEEDED, same version is already published
tokay2Windows Server 2012 R2 Standard / x64  OK    ERROR  skippedskipped
machv2macOS 10.14.6 Mojave / x86_64  OK    ERROR  skippedskipped
Package 31/260HostnameOS / ArchINSTALLBUILDCHECKBUILD BIN
ChIPanalyser 1.14.0  (landing page)
Patrick C.N. Martin
git_last_commit: 68caeca
git_last_commit_date: 2021-05-19 12:29:58 -0400
nebbiolo1Linux (Ubuntu 20.04.2 LTS) / x86_64  OK    OK    OK  UNNEEDED, same version is already published
tokay2Windows Server 2012 R2 Standard / x64  OK    OK    OK    OK  UNNEEDED, same version is already published
machv2macOS 10.14.6 Mojave / x86_64  OK    OK    OK    OK  UNNEEDED, same version is already published
Package 32/260HostnameOS / ArchINSTALLBUILDCHECKBUILD BIN
ChIPComp 1.22.0  (landing page)
Li Chen
git_last_commit: 2b6dc05
git_last_commit_date: 2021-05-19 12:15:10 -0400
nebbiolo1Linux (Ubuntu 20.04.2 LTS) / x86_64  OK    OK    OK  UNNEEDED, same version is already published
tokay2Windows Server 2012 R2 Standard / x64  OK    OK    OK    OK  UNNEEDED, same version is already published
machv2macOS 10.14.6 Mojave / x86_64  OK    OK    OK    OK  UNNEEDED, same version is already published
Package 33/260HostnameOS / ArchINSTALLBUILDCHECKBUILD BIN
chipenrich 2.16.0  (landing page)
Raymond G. Cavalcante
git_last_commit: 4653bc8
git_last_commit_date: 2021-05-19 12:00:32 -0400
nebbiolo1Linux (Ubuntu 20.04.2 LTS) / x86_64  OK    OK    WARNINGS  UNNEEDED, same version is already published
tokay2Windows Server 2012 R2 Standard / x64  OK    OK    WARNINGS    OK  UNNEEDED, same version is already published
machv2macOS 10.14.6 Mojave / x86_64  OK    OK    WARNINGS    OK  UNNEEDED, same version is already published
Package 34/260HostnameOS / ArchINSTALLBUILDCHECKBUILD BIN
ChIPexoQual 1.16.0  (landing page)
Rene Welch
git_last_commit: ed02199
git_last_commit_date: 2021-05-19 12:25:27 -0400
nebbiolo1Linux (Ubuntu 20.04.2 LTS) / x86_64  OK    OK    OK  UNNEEDED, same version is already published
tokay2Windows Server 2012 R2 Standard / x64  OK    OK    OK    OK  UNNEEDED, same version is already published
machv2macOS 10.14.6 Mojave / x86_64  OK    OK    OK    OK  UNNEEDED, same version is already published
Package 35/260HostnameOS / ArchINSTALLBUILDCHECKBUILD BIN
ChIPpeakAnno 3.26.4  (landing page)
Jianhong Ou
git_last_commit: 5104b7d
git_last_commit_date: 2021-09-09 15:41:30 -0400
nebbiolo1Linux (Ubuntu 20.04.2 LTS) / x86_64  OK    OK    OK  UNNEEDED, same version is already published
tokay2Windows Server 2012 R2 Standard / x64  OK    ERROR  skippedskipped
machv2macOS 10.14.6 Mojave / x86_64  OK    ERROR  skippedskipped
Package 36/260HostnameOS / ArchINSTALLBUILDCHECKBUILD BIN
ChIPseeker 1.28.3  (landing page)
Guangchuang Yu
git_last_commit: 2c3e718
git_last_commit_date: 2021-05-21 05:08:25 -0400
nebbiolo1Linux (Ubuntu 20.04.2 LTS) / x86_64  OK    OK    OK  UNNEEDED, same version is already published
tokay2Windows Server 2012 R2 Standard / x64  OK    OK    OK    OK  UNNEEDED, same version is already published
machv2macOS 10.14.6 Mojave / x86_64  OK    OK    OK    OK  UNNEEDED, same version is already published
Package 37/260HostnameOS / ArchINSTALLBUILDCHECKBUILD BIN
chromstaR 1.18.0  (landing page)
Aaron Taudt
git_last_commit: 8f44dd4
git_last_commit_date: 2021-05-19 12:21:16 -0400
nebbiolo1Linux (Ubuntu 20.04.2 LTS) / x86_64  OK    ERROR  skipped
tokay2Windows Server 2012 R2 Standard / x64  OK    ERROR  skippedskipped
machv2macOS 10.14.6 Mojave / x86_64  OK    ERROR  skippedskipped
Package 38/260HostnameOS / ArchINSTALLBUILDCHECKBUILD BIN
chromVAR 1.14.0  (landing page)
Alicia Schep
git_last_commit: 2dc5547
git_last_commit_date: 2021-05-19 12:30:52 -0400
nebbiolo1Linux (Ubuntu 20.04.2 LTS) / x86_64  OK    OK    OK  UNNEEDED, same version is already published
tokay2Windows Server 2012 R2 Standard / x64  OK    OK    OK    OK  UNNEEDED, same version is already published
machv2macOS 10.14.6 Mojave / x86_64  OK    OK    OK    OK  UNNEEDED, same version is already published
Package 39/260HostnameOS / ArchINSTALLBUILDCHECKBUILD BIN
CINdex 1.20.0  (landing page)
Yuriy Gusev
git_last_commit: 9a99af4
git_last_commit_date: 2021-05-19 12:19:26 -0400
nebbiolo1Linux (Ubuntu 20.04.2 LTS) / x86_64  OK    OK    WARNINGS  UNNEEDED, same version is already published
tokay2Windows Server 2012 R2 Standard / x64  OK    OK    WARNINGS    OK  UNNEEDED, same version is already published
machv2macOS 10.14.6 Mojave / x86_64  OK    OK    WARNINGS    OK  UNNEEDED, same version is already published
Package 40/260HostnameOS / ArchINSTALLBUILDCHECKBUILD BIN
circRNAprofiler 1.6.0  (landing page)
Simona Aufiero
git_last_commit: 405f392
git_last_commit_date: 2021-05-19 12:44:52 -0400
nebbiolo1Linux (Ubuntu 20.04.2 LTS) / x86_64  OK    OK    OK  UNNEEDED, same version is already published
tokay2Windows Server 2012 R2 Standard / x64  OK    OK    OK    OK  UNNEEDED, same version is already published
machv2macOS 10.14.6 Mojave / x86_64  OK    OK    OK    OK  UNNEEDED, same version is already published
Package 41/260HostnameOS / ArchINSTALLBUILDCHECKBUILD BIN
cleanUpdTSeq 1.30.0  (landing page)
Jianhong Ou ; Lihua Julie Zhu
git_last_commit: 45e4e8b
git_last_commit_date: 2021-05-19 11:59:31 -0400
nebbiolo1Linux (Ubuntu 20.04.2 LTS) / x86_64  OK    OK    OK  UNNEEDED, same version is already published
tokay2Windows Server 2012 R2 Standard / x64  OK    OK    OK    OK  UNNEEDED, same version is already published
machv2macOS 10.14.6 Mojave / x86_64  OK    OK    OK    OK  UNNEEDED, same version is already published
Package 42/260HostnameOS / ArchINSTALLBUILDCHECKBUILD BIN
cn.mops 1.38.0  (landing page)
Gundula Povysil
git_last_commit: c1ccf44
git_last_commit_date: 2021-05-19 11:50:48 -0400
nebbiolo1Linux (Ubuntu 20.04.2 LTS) / x86_64  OK    OK    OK  UNNEEDED, same version is already published
tokay2Windows Server 2012 R2 Standard / x64  OK    OK    OK    OK  UNNEEDED, same version is already published
machv2macOS 10.14.6 Mojave / x86_64  OK    OK    OK    OK  UNNEEDED, same version is already published
Package 43/260HostnameOS / ArchINSTALLBUILDCHECKBUILD BIN
CNEr 1.28.0  (landing page)
Ge Tan
git_last_commit: fdeac98
git_last_commit_date: 2021-05-19 12:02:51 -0400
nebbiolo1Linux (Ubuntu 20.04.2 LTS) / x86_64  OK    OK    OK  UNNEEDED, same version is already published
tokay2Windows Server 2012 R2 Standard / x64  OK    OK    WARNINGS    OK  UNNEEDED, same version is already published
machv2macOS 10.14.6 Mojave / x86_64  OK    OK    WARNINGS    OK  UNNEEDED, same version is already published
Package 44/260HostnameOS / ArchINSTALLBUILDCHECKBUILD BIN
CNVfilteR 1.6.2  (landing page)
Jose Marcos Moreno-Cabrera
git_last_commit: a422dc0
git_last_commit_date: 2021-09-08 10:40:43 -0400
nebbiolo1Linux (Ubuntu 20.04.2 LTS) / x86_64  OK    OK    OK  UNNEEDED, same version is already published
tokay2Windows Server 2012 R2 Standard / x64  OK    OK    OK    OK  UNNEEDED, same version is already published
machv2macOS 10.14.6 Mojave / x86_64  OK    OK    OK    OK  UNNEEDED, same version is already published
Package 45/260HostnameOS / ArchINSTALLBUILDCHECKBUILD BIN
CNVPanelizer 1.24.0  (landing page)
Thomas Wolf
git_last_commit: b0dc959
git_last_commit_date: 2021-05-19 12:14:20 -0400
nebbiolo1Linux (Ubuntu 20.04.2 LTS) / x86_64  OK    OK    OK  UNNEEDED, same version is already published
tokay2Windows Server 2012 R2 Standard / x64  OK    OK    OK    OK  UNNEEDED, same version is already published
machv2macOS 10.14.6 Mojave / x86_64  OK    OK    OK    OK  UNNEEDED, same version is already published
Package 46/260HostnameOS / ArchINSTALLBUILDCHECKBUILD BIN
CNVRanger 1.8.0  (landing page)
Ludwig Geistlinger
git_last_commit: dfb9864
git_last_commit_date: 2021-05-19 12:40:54 -0400
nebbiolo1Linux (Ubuntu 20.04.2 LTS) / x86_64  OK    OK    OK  UNNEEDED, same version is already published
tokay2Windows Server 2012 R2 Standard / x64  OK    ERROR  skippedskipped
machv2macOS 10.14.6 Mojave / x86_64  OK    ERROR  skippedskipped
Package 47/260HostnameOS / ArchINSTALLBUILDCHECKBUILD BIN
CODEX 1.24.0  (landing page)
Yuchao Jiang
git_last_commit: 0051ee2
git_last_commit_date: 2021-05-19 12:10:21 -0400
nebbiolo1Linux (Ubuntu 20.04.2 LTS) / x86_64  OK    OK    OK  UNNEEDED, same version is already published
tokay2Windows Server 2012 R2 Standard / x64  OK    OK    OK    OK  UNNEEDED, same version is already published
machv2macOS 10.14.6 Mojave / x86_64  OK    OK    OK    OK  UNNEEDED, same version is already published
Package 48/260HostnameOS / ArchINSTALLBUILDCHECKBUILD BIN
compEpiTools 1.26.0  (landing page)
Kamal Kishore
git_last_commit: cefdb04
git_last_commit_date: 2021-05-19 12:06:54 -0400
nebbiolo1Linux (Ubuntu 20.04.2 LTS) / x86_64  OK    OK    OK  UNNEEDED, same version is already published
tokay2Windows Server 2012 R2 Standard / x64  OK    OK    OK    OK  UNNEEDED, same version is already published
machv2macOS 10.14.6 Mojave / x86_64  OK    OK    OK    OK  UNNEEDED, same version is already published
Package 49/260HostnameOS / ArchINSTALLBUILDCHECKBUILD BIN
consensusSeekeR 1.20.0  (landing page)
Astrid Deschenes
git_last_commit: e7f757a
git_last_commit_date: 2021-05-19 12:16:42 -0400
nebbiolo1Linux (Ubuntu 20.04.2 LTS) / x86_64  OK    OK    OK  UNNEEDED, same version is already published
tokay2Windows Server 2012 R2 Standard / x64  OK    OK    OK    OK  UNNEEDED, same version is already published
machv2macOS 10.14.6 Mojave / x86_64  OK    OK    OK    OK  UNNEEDED, same version is already published
Package 50/260HostnameOS / ArchINSTALLBUILDCHECKBUILD BIN
conumee 1.26.0  (landing page)
Volker Hovestadt
git_last_commit: f49dd58
git_last_commit_date: 2021-05-19 12:13:03 -0400
nebbiolo1Linux (Ubuntu 20.04.2 LTS) / x86_64  OK    OK    OK  UNNEEDED, same version is already published
tokay2Windows Server 2012 R2 Standard / x64... NOT SUPPORTED ...
machv2macOS 10.14.6 Mojave / x86_64  OK    OK    OK    OK  UNNEEDED, same version is already published
Package 51/260HostnameOS / ArchINSTALLBUILDCHECKBUILD BIN
CopyNumberPlots 1.8.0  (landing page)
Bernat Gel
git_last_commit: 474e67e
git_last_commit_date: 2021-05-19 12:43:11 -0400
nebbiolo1Linux (Ubuntu 20.04.2 LTS) / x86_64  OK    OK    OK  UNNEEDED, same version is already published
tokay2Windows Server 2012 R2 Standard / x64  OK    OK    OK    OK  UNNEEDED, same version is already published
machv2macOS 10.14.6 Mojave / x86_64  OK    OK    OK    OK  UNNEEDED, same version is already published
Package 52/260HostnameOS / ArchINSTALLBUILDCHECKBUILD BIN
CopywriteR 2.24.0  (landing page)
Oscar Krijgsman
git_last_commit: 5957876
git_last_commit_date: 2021-05-19 12:12:51 -0400
nebbiolo1Linux (Ubuntu 20.04.2 LTS) / x86_64  OK    OK    OK  UNNEEDED, same version is already published
tokay2Windows Server 2012 R2 Standard / x64  OK    OK    OK    OK  UNNEEDED, same version is already published
machv2macOS 10.14.6 Mojave / x86_64  OK    OK    OK    OK  UNNEEDED, same version is already published
Package 53/260HostnameOS / ArchINSTALLBUILDCHECKBUILD BIN
CrispRVariants 1.20.0  (landing page)
Helen Lindsay
git_last_commit: 6789cce
git_last_commit_date: 2021-05-19 12:17:13 -0400
nebbiolo1Linux (Ubuntu 20.04.2 LTS) / x86_64  OK    OK    WARNINGS  UNNEEDED, same version is already published
tokay2Windows Server 2012 R2 Standard / x64  OK    OK    WARNINGS    OK  UNNEEDED, same version is already published
machv2macOS 10.14.6 Mojave / x86_64  OK    OK    WARNINGS    OK  UNNEEDED, same version is already published
Package 54/260HostnameOS / ArchINSTALLBUILDCHECKBUILD BIN
CSAR 1.44.0  (landing page)
Jose M Muino
git_last_commit: 3eef45f
git_last_commit_date: 2021-05-19 11:44:30 -0400
nebbiolo1Linux (Ubuntu 20.04.2 LTS) / x86_64  OK    OK    OK  UNNEEDED, same version is already published
tokay2Windows Server 2012 R2 Standard / x64  OK    OK    OK    OK  UNNEEDED, same version is already published
machv2macOS 10.14.6 Mojave / x86_64  OK    OK    OK    OK  UNNEEDED, same version is already published
Package 55/260HostnameOS / ArchINSTALLBUILDCHECKBUILD BIN
csaw 1.26.0  (landing page)
Aaron Lun
git_last_commit: d3850f3
git_last_commit_date: 2021-05-19 12:08:51 -0400
nebbiolo1Linux (Ubuntu 20.04.2 LTS) / x86_64  OK    OK    OK  UNNEEDED, same version is already published
tokay2Windows Server 2012 R2 Standard / x64  OK    OK    OK    OK  UNNEEDED, same version is already published
machv2macOS 10.14.6 Mojave / x86_64  OK    OK    OK    OK  UNNEEDED, same version is already published
Package 56/260HostnameOS / ArchINSTALLBUILDCHECKBUILD BIN
customProDB 1.32.0  (landing page)
Xiaojing Wang
git_last_commit: 6c740d6
git_last_commit_date: 2021-05-19 11:59:12 -0400
nebbiolo1Linux (Ubuntu 20.04.2 LTS) / x86_64  OK    OK    OK  UNNEEDED, same version is already published
tokay2Windows Server 2012 R2 Standard / x64  OK    ERROR  skippedskipped
machv2macOS 10.14.6 Mojave / x86_64  OK    ERROR  skippedskipped
Package 57/260HostnameOS / ArchINSTALLBUILDCHECKBUILD BIN
DAMEfinder 1.4.0  (landing page)
Stephany Orjuela
git_last_commit: a0da475
git_last_commit_date: 2021-05-19 12:49:06 -0400
nebbiolo1Linux (Ubuntu 20.04.2 LTS) / x86_64  OK    OK    OK  UNNEEDED, same version is already published
tokay2Windows Server 2012 R2 Standard / x64  OK    OK    OK    OK  UNNEEDED, same version is already published
machv2macOS 10.14.6 Mojave / x86_64  OK    OK    OK    OK  UNNEEDED, same version is already published
Package 58/260HostnameOS / ArchINSTALLBUILDCHECKBUILD BIN
dasper 1.2.0  (landing page)
David Zhang
git_last_commit: 9bf018b
git_last_commit_date: 2021-05-19 12:57:36 -0400
nebbiolo1Linux (Ubuntu 20.04.2 LTS) / x86_64  OK    OK    ERROR  
tokay2Windows Server 2012 R2 Standard / x64  OK    OK    OK    OK  UNNEEDED, same version is already published
machv2macOS 10.14.6 Mojave / x86_64  OK    OK    OK    OK  UNNEEDED, same version is already published
Package 59/260HostnameOS / ArchINSTALLBUILDCHECKBUILD BIN
decompTumor2Sig 2.8.0  (landing page)
Rosario M. Piro
git_last_commit: 974c2b7
git_last_commit_date: 2021-05-19 12:39:46 -0400
nebbiolo1Linux (Ubuntu 20.04.2 LTS) / x86_64  OK    OK    OK  UNNEEDED, same version is already published
tokay2Windows Server 2012 R2 Standard / x64  OK    OK    OK    OK  UNNEEDED, same version is already published
machv2macOS 10.14.6 Mojave / x86_64  OK    OK    OK    OK  UNNEEDED, same version is already published
Package 60/260HostnameOS / ArchINSTALLBUILDCHECKBUILD BIN
DeepBlueR 1.18.0  (landing page)
Felipe Albrecht , Markus List
git_last_commit: 96a5591
git_last_commit_date: 2021-05-19 12:21:41 -0400
nebbiolo1Linux (Ubuntu 20.04.2 LTS) / x86_64  OK    OK    OK  UNNEEDED, same version is already published
tokay2Windows Server 2012 R2 Standard / x64  OK    ERROR  skippedskipped
machv2macOS 10.14.6 Mojave / x86_64  OK    ERROR  skippedskipped
Package 61/260HostnameOS / ArchINSTALLBUILDCHECKBUILD BIN
derfinder 1.26.0  (landing page)
Leonardo Collado-Torres
git_last_commit: 7fc343a
git_last_commit_date: 2021-05-19 12:08:08 -0400
nebbiolo1Linux (Ubuntu 20.04.2 LTS) / x86_64  OK    OK    OK  UNNEEDED, same version is already published
tokay2Windows Server 2012 R2 Standard / x64  OK    ERROR  skippedskipped
machv2macOS 10.14.6 Mojave / x86_64  OK    ERROR  skippedskipped
Package 62/260HostnameOS / ArchINSTALLBUILDCHECKBUILD BIN
derfinderPlot 1.26.0  (landing page)
Leonardo Collado-Torres
git_last_commit: 41d3249
git_last_commit_date: 2021-05-19 12:08:11 -0400
nebbiolo1Linux (Ubuntu 20.04.2 LTS) / x86_64  OK    OK    OK  UNNEEDED, same version is already published
tokay2Windows Server 2012 R2 Standard / x64  OK    ERROR  skippedskipped
machv2macOS 10.14.6 Mojave / x86_64  OK    ERROR  skippedskipped
Package 63/260HostnameOS / ArchINSTALLBUILDCHECKBUILD BIN
DEScan2 1.12.0  (landing page)
Dario Righelli
git_last_commit: 004c7f5
git_last_commit_date: 2021-05-19 12:33:58 -0400
nebbiolo1Linux (Ubuntu 20.04.2 LTS) / x86_64  OK    OK    OK  UNNEEDED, same version is already published
tokay2Windows Server 2012 R2 Standard / x64  OK    ERROR  skippedskipped
machv2macOS 10.14.6 Mojave / x86_64  OK    ERROR  skippedskipped
Package 64/260HostnameOS / ArchINSTALLBUILDCHECKBUILD BIN
DEWSeq 1.6.0  (landing page)
bioinformatics team Hentze
git_last_commit: 34f4829
git_last_commit_date: 2021-05-19 12:47:29 -0400
nebbiolo1Linux (Ubuntu 20.04.2 LTS) / x86_64  OK    OK    OK  UNNEEDED, same version is already published
tokay2Windows Server 2012 R2 Standard / x64  OK    OK    OK    OK  UNNEEDED, same version is already published
machv2macOS 10.14.6 Mojave / x86_64  OK    OK    OK    OK  UNNEEDED, same version is already published
Package 65/260HostnameOS / ArchINSTALLBUILDCHECKBUILD BIN
diffHic 1.24.1  (landing page)
Aaron Lun
git_last_commit: a505f6d
git_last_commit_date: 2021-07-15 04:46:22 -0400
nebbiolo1Linux (Ubuntu 20.04.2 LTS) / x86_64  OK    OK    OK  UNNEEDED, same version is already published
tokay2Windows Server 2012 R2 Standard / x64  OK    OK    OK    OK  UNNEEDED, same version is already published
machv2macOS 10.14.6 Mojave / x86_64  OK    OK    OK    OK  UNNEEDED, same version is already published
Package 66/260HostnameOS / ArchINSTALLBUILDCHECKBUILD BIN
diffloop 1.20.0  (landing page)
Caleb Lareau
git_last_commit: 900a5e1
git_last_commit_date: 2021-05-19 12:20:17 -0400
nebbiolo1Linux (Ubuntu 20.04.2 LTS) / x86_64  OK    OK    OK  UNNEEDED, same version is already published
tokay2Windows Server 2012 R2 Standard / x64  OK    OK    WARNINGS    OK  UNNEEDED, same version is already published
machv2macOS 10.14.6 Mojave / x86_64  OK    OK    OK    OK  UNNEEDED, same version is already published
Package 67/260HostnameOS / ArchINSTALLBUILDCHECKBUILD BIN
diffUTR 1.0.0  (landing page)
Pierre-Luc Germain
git_last_commit: 948e593
git_last_commit_date: 2021-05-19 13:03:14 -0400
nebbiolo1Linux (Ubuntu 20.04.2 LTS) / x86_64  OK    OK    OK  UNNEEDED, same version is already published
tokay2Windows Server 2012 R2 Standard / x64  OK    OK    OK    OK  UNNEEDED, same version is already published
machv2macOS 10.14.6 Mojave / x86_64  OK    OK    OK    OK  UNNEEDED, same version is already published
Package 68/260HostnameOS / ArchINSTALLBUILDCHECKBUILD BIN
DMRcate 2.6.0  (landing page)
Tim Peters
git_last_commit: d7de4ca
git_last_commit_date: 2021-05-19 12:03:06 -0400
nebbiolo1Linux (Ubuntu 20.04.2 LTS) / x86_64  OK    OK    WARNINGS  UNNEEDED, same version is already published
tokay2Windows Server 2012 R2 Standard / x64  OK    ERROR  skippedskipped
machv2macOS 10.14.6 Mojave / x86_64  OK    ERROR  skippedskipped
Package 69/260HostnameOS / ArchINSTALLBUILDCHECKBUILD BIN
DMRScan 1.14.0  (landing page)
Christian M Page
git_last_commit: 8fa94c3
git_last_commit_date: 2021-05-19 12:25:25 -0400
nebbiolo1Linux (Ubuntu 20.04.2 LTS) / x86_64  OK    OK    OK  UNNEEDED, same version is already published
tokay2Windows Server 2012 R2 Standard / x64  OK    OK    OK    OK  UNNEEDED, same version is already published
machv2macOS 10.14.6 Mojave / x86_64  OK    OK    OK    OK  UNNEEDED, same version is already published
Package 70/260HostnameOS / ArchINSTALLBUILDCHECKBUILD BIN
dmrseq 1.12.0  (landing page)
Keegan Korthauer
git_last_commit: e8485f3
git_last_commit_date: 2021-05-19 12:33:43 -0400
nebbiolo1Linux (Ubuntu 20.04.2 LTS) / x86_64  OK    OK    WARNINGS  UNNEEDED, same version is already published
tokay2Windows Server 2012 R2 Standard / x64  OK    OK    WARNINGS    OK  UNNEEDED, same version is already published
machv2macOS 10.14.6 Mojave / x86_64  OK    OK    WARNINGS    OK  UNNEEDED, same version is already published
Package 71/260HostnameOS / ArchINSTALLBUILDCHECKBUILD BIN
DominoEffect 1.12.0  (landing page)
Marija Buljan
git_last_commit: bce8fe8
git_last_commit_date: 2021-05-19 12:33:35 -0400
nebbiolo1Linux (Ubuntu 20.04.2 LTS) / x86_64  OK    OK    OK  UNNEEDED, same version is already published
tokay2Windows Server 2012 R2 Standard / x64  OK    OK    OK    OK  UNNEEDED, same version is already published
machv2macOS 10.14.6 Mojave / x86_64  OK    OK    OK    OK  UNNEEDED, same version is already published
Package 72/260HostnameOS / ArchINSTALLBUILDCHECKBUILD BIN
easyRNASeq 2.28.0  (landing page)
Nicolas Delhomme
git_last_commit: 6d18522
git_last_commit_date: 2021-05-19 11:51:10 -0400
nebbiolo1Linux (Ubuntu 20.04.2 LTS) / x86_64  OK    OK    OK  UNNEEDED, same version is already published
tokay2Windows Server 2012 R2 Standard / x64  OK    OK    OK    OK  UNNEEDED, same version is already published
machv2macOS 10.14.6 Mojave / x86_64  OK    OK    OK    OK  UNNEEDED, same version is already published
Package 73/260HostnameOS / ArchINSTALLBUILDCHECKBUILD BIN
ELMER 2.16.0  (landing page)
Tiago Chedraoui Silva
git_last_commit: 31e996d
git_last_commit_date: 2021-05-19 12:13:57 -0400
nebbiolo1Linux (Ubuntu 20.04.2 LTS) / x86_64  OK    OK    OK  UNNEEDED, same version is already published
tokay2Windows Server 2012 R2 Standard / x64  OK    ERROR  skippedskipped
machv2macOS 10.14.6 Mojave / x86_64  OK    ERROR  skippedskipped
Package 74/260HostnameOS / ArchINSTALLBUILDCHECKBUILD BIN
ENCODExplorer 2.18.0  (landing page)
Charles Joly Beauparlant
git_last_commit: 618ef8e
git_last_commit_date: 2021-05-19 12:13:26 -0400
nebbiolo1Linux (Ubuntu 20.04.2 LTS) / x86_64  OK    OK    ERROR  
tokay2Windows Server 2012 R2 Standard / x64  OK    OK    ERROR    OK  
machv2macOS 10.14.6 Mojave / x86_64  OK    OK    ERROR    OK  
Package 75/260HostnameOS / ArchINSTALLBUILDCHECKBUILD BIN
enrichTF 1.8.0  (landing page)
Zheng Wei
git_last_commit: 956c94b
git_last_commit_date: 2021-05-19 12:43:30 -0400
nebbiolo1Linux (Ubuntu 20.04.2 LTS) / x86_64  OK    OK    OK  UNNEEDED, same version is already published
tokay2Windows Server 2012 R2 Standard / x64  OK    OK    OK    OK  UNNEEDED, same version is already published
machv2macOS 10.14.6 Mojave / x86_64  OK    OK    OK    OK  UNNEEDED, same version is already published
Package 76/260HostnameOS / ArchINSTALLBUILDCHECKBUILD BIN
ensembldb 2.16.4  (landing page)
Johannes Rainer
git_last_commit: 130dbcc
git_last_commit_date: 2021-08-04 10:18:05 -0400
nebbiolo1Linux (Ubuntu 20.04.2 LTS) / x86_64  OK    OK    OK  UNNEEDED, same version is already published
tokay2Windows Server 2012 R2 Standard / x64  OK    OK    OK    OK  UNNEEDED, same version is already published
machv2macOS 10.14.6 Mojave / x86_64  OK    OK    OK    OK  UNNEEDED, same version is already published
Package 77/260HostnameOS / ArchINSTALLBUILDCHECKBUILD BIN
ensemblVEP 1.34.0  (landing page)
Bioconductor Package Maintainer
git_last_commit: 71a49c5
git_last_commit_date: 2021-05-19 11:54:59 -0400
nebbiolo1Linux (Ubuntu 20.04.2 LTS) / x86_64  OK    OK    OK  UNNEEDED, same version is already published
tokay2Windows Server 2012 R2 Standard / x64... NOT SUPPORTED ...
machv2macOS 10.14.6 Mojave / x86_64  OK    OK    OK    OK  UNNEEDED, same version is already published
Package 78/260HostnameOS / ArchINSTALLBUILDCHECKBUILD BIN
epialleleR 1.0.0  (landing page)
Oleksii Nikolaienko
git_last_commit: b01940d
git_last_commit_date: 2021-05-19 13:03:23 -0400
nebbiolo1Linux (Ubuntu 20.04.2 LTS) / x86_64  OK    OK    WARNINGS  UNNEEDED, same version is already published
tokay2Windows Server 2012 R2 Standard / x64  OK    OK    WARNINGS    OK  UNNEEDED, same version is already published
machv2macOS 10.14.6 Mojave / x86_64  OK    OK    OK    OK  UNNEEDED, same version is already published
Package 79/260HostnameOS / ArchINSTALLBUILDCHECKBUILD BIN
epigenomix 1.32.0  (landing page)
Hans-Ulrich Klein
git_last_commit: dc1b2d5
git_last_commit_date: 2021-05-19 11:57:59 -0400
nebbiolo1Linux (Ubuntu 20.04.2 LTS) / x86_64  OK    OK    OK  UNNEEDED, same version is already published
tokay2Windows Server 2012 R2 Standard / x64  OK    OK    OK    OK  UNNEEDED, same version is already published
machv2macOS 10.14.6 Mojave / x86_64  OK    OK    OK    OK  UNNEEDED, same version is already published
Package 80/260HostnameOS / ArchINSTALLBUILDCHECKBUILD BIN
epigraHMM 1.0.4  (landing page)
Pedro Baldoni
git_last_commit: 7904249
git_last_commit_date: 2021-09-22 07:24:37 -0400
nebbiolo1Linux (Ubuntu 20.04.2 LTS) / x86_64  OK    OK    OK  YES
tokay2Windows Server 2012 R2 Standard / x64  OK    ERROR  skippedskipped
machv2macOS 10.14.6 Mojave / x86_64  OK    ERROR  skippedskipped
Package 81/260HostnameOS / ArchINSTALLBUILDCHECKBUILD BIN
EpiTxDb 1.4.0  (landing page)
Felix G.M. Ernst
git_last_commit: 14681e3
git_last_commit_date: 2021-05-19 12:50:24 -0400
nebbiolo1Linux (Ubuntu 20.04.2 LTS) / x86_64  OK    OK    OK  UNNEEDED, same version is already published
tokay2Windows Server 2012 R2 Standard / x64  OK    OK    OK    OK  UNNEEDED, same version is already published
machv2macOS 10.14.6 Mojave / x86_64  OK    OK    OK    OK  UNNEEDED, same version is already published
Package 82/260HostnameOS / ArchINSTALLBUILDCHECKBUILD BIN
epivizr 2.22.0  (landing page)
Hector Corrada Bravo
git_last_commit: f93816c
git_last_commit_date: 2021-05-19 12:01:10 -0400
nebbiolo1Linux (Ubuntu 20.04.2 LTS) / x86_64  OK    OK    OK  UNNEEDED, same version is already published
tokay2Windows Server 2012 R2 Standard / x64  OK    OK    OK    OK  UNNEEDED, same version is already published
machv2macOS 10.14.6 Mojave / x86_64  OK    OK    OK    OK  UNNEEDED, same version is already published
Package 83/260HostnameOS / ArchINSTALLBUILDCHECKBUILD BIN
epivizrData 1.20.0  (landing page)
Hector Corrada Bravo
git_last_commit: ac055c8
git_last_commit_date: 2021-05-19 12:20:14 -0400
nebbiolo1Linux (Ubuntu 20.04.2 LTS) / x86_64  OK    OK    OK  UNNEEDED, same version is already published
tokay2Windows Server 2012 R2 Standard / x64  OK    OK    OK    OK  UNNEEDED, same version is already published
machv2macOS 10.14.6 Mojave / x86_64  OK    OK    OK    OK  UNNEEDED, same version is already published
Package 84/260HostnameOS / ArchINSTALLBUILDCHECKBUILD BIN
epivizrStandalone 1.20.0  (landing page)
Hector Corrada Bravo
git_last_commit: fd34eef
git_last_commit_date: 2021-05-19 12:20:32 -0400
nebbiolo1Linux (Ubuntu 20.04.2 LTS) / x86_64  OK    OK    OK  UNNEEDED, same version is already published
tokay2Windows Server 2012 R2 Standard / x64  OK    OK    OK    OK  UNNEEDED, same version is already published
machv2macOS 10.14.6 Mojave / x86_64  OK    OK    OK    OK  UNNEEDED, same version is already published
Package 85/260HostnameOS / ArchINSTALLBUILDCHECKBUILD BIN
erma 1.8.0  (landing page)
VJ Carey
git_last_commit: 6958ee9
git_last_commit_date: 2021-05-19 12:14:10 -0400
nebbiolo1Linux (Ubuntu 20.04.2 LTS) / x86_64  OK    OK    OK  UNNEEDED, same version is already published
tokay2Windows Server 2012 R2 Standard / x64  OK    OK    OK    OK  UNNEEDED, same version is already published
machv2macOS 10.14.6 Mojave / x86_64  OK    OK    OK    OK  UNNEEDED, same version is already published
Package 86/260HostnameOS / ArchINSTALLBUILDCHECKBUILD BIN
esATAC 1.14.0  (landing page)
Zheng Wei
git_last_commit: 2939dd0
git_last_commit_date: 2021-05-19 12:31:59 -0400
nebbiolo1Linux (Ubuntu 20.04.2 LTS) / x86_64  OK    OK    WARNINGS  UNNEEDED, same version is already published
tokay2Windows Server 2012 R2 Standard / x64  OK    OK    WARNINGS    OK  UNNEEDED, same version is already published
machv2macOS 10.14.6 Mojave / x86_64  OK    OK    WARNINGS    OK  UNNEEDED, same version is already published
Package 87/260HostnameOS / ArchINSTALLBUILDCHECKBUILD BIN
EventPointer 3.0.0  (landing page)
Juan A. Ferrer-Bonsoms
git_last_commit: e4f2123
git_last_commit_date: 2021-05-19 12:26:09 -0400
nebbiolo1Linux (Ubuntu 20.04.2 LTS) / x86_64  OK    OK    OK  UNNEEDED, same version is already published
tokay2Windows Server 2012 R2 Standard / x64  OK    OK    OK    OK  UNNEEDED, same version is already published
machv2macOS 10.14.6 Mojave / x86_64  OK    OK    OK    OK  UNNEEDED, same version is already published
Package 88/260HostnameOS / ArchINSTALLBUILDCHECKBUILD BIN
exomeCopy 1.38.0  (landing page)
Michael Love
git_last_commit: 4f9c531
git_last_commit_date: 2021-05-19 11:50:34 -0400
nebbiolo1Linux (Ubuntu 20.04.2 LTS) / x86_64  OK    OK    OK  UNNEEDED, same version is already published
tokay2Windows Server 2012 R2 Standard / x64  OK    OK    OK    OK  UNNEEDED, same version is already published
machv2macOS 10.14.6 Mojave / x86_64  OK    OK    OK    OK  UNNEEDED, same version is already published
Package 89/260HostnameOS / ArchINSTALLBUILDCHECKBUILD BIN
exomePeak2 1.4.2  (landing page)
Zhen Wei
git_last_commit: d8d75f9
git_last_commit_date: 2021-09-07 12:28:10 -0400
nebbiolo1Linux (Ubuntu 20.04.2 LTS) / x86_64  OK    OK    OK  UNNEEDED, same version is already published
tokay2Windows Server 2012 R2 Standard / x64  OK    OK    OK    OK  UNNEEDED, same version is already published
machv2macOS 10.14.6 Mojave / x86_64  OK    OK    OK    OK  UNNEEDED, same version is already published
Package 90/260HostnameOS / ArchINSTALLBUILDCHECKBUILD BIN
FRASER 1.4.0  (landing page)
Christian Mertes
git_last_commit: 926f313
git_last_commit_date: 2021-05-19 12:51:54 -0400
nebbiolo1Linux (Ubuntu 20.04.2 LTS) / x86_64  OK    OK    OK  UNNEEDED, same version is already published
tokay2Windows Server 2012 R2 Standard / x64  OK    OK    OK    OK  UNNEEDED, same version is already published
machv2macOS 10.14.6 Mojave / x86_64  OK    OK    OK    OK  UNNEEDED, same version is already published
Package 91/260HostnameOS / ArchINSTALLBUILDCHECKBUILD BIN
FunChIP 1.18.0  (landing page)
Alice Parodi
git_last_commit: 4981a2b
git_last_commit_date: 2021-05-19 12:20:50 -0400
nebbiolo1Linux (Ubuntu 20.04.2 LTS) / x86_64  OK    OK    WARNINGS  UNNEEDED, same version is already published
tokay2Windows Server 2012 R2 Standard / x64  OK    OK    WARNINGS    OK  UNNEEDED, same version is already published
machv2macOS 10.14.6 Mojave / x86_64  OK    OK    WARNINGS    OK  UNNEEDED, same version is already published
Package 92/260HostnameOS / ArchINSTALLBUILDCHECKBUILD BIN
funtooNorm 1.16.0  (landing page)
Kathleen Klein
git_last_commit: 3256fea
git_last_commit_date: 2021-05-19 12:25:22 -0400
nebbiolo1Linux (Ubuntu 20.04.2 LTS) / x86_64  OK    OK    WARNINGS  UNNEEDED, same version is already published
tokay2Windows Server 2012 R2 Standard / x64  OK    OK    WARNINGS    OK  UNNEEDED, same version is already published
machv2macOS 10.14.6 Mojave / x86_64  OK    OK    WARNINGS    OK  UNNEEDED, same version is already published
Package 93/260HostnameOS / ArchINSTALLBUILDCHECKBUILD BIN
GA4GHclient 1.16.0  (landing page)
Welliton Souza
git_last_commit: d3644e7
git_last_commit_date: 2021-05-19 12:26:45 -0400
nebbiolo1Linux (Ubuntu 20.04.2 LTS) / x86_64  OK    OK    OK  UNNEEDED, same version is already published
tokay2Windows Server 2012 R2 Standard / x64  OK    ERROR  skippedskipped
machv2macOS 10.14.6 Mojave / x86_64  OK    ERROR  skippedskipped
Package 94/260HostnameOS / ArchINSTALLBUILDCHECKBUILD BIN
GA4GHshiny 1.14.0  (landing page)
Welliton Souza
git_last_commit: 8c2cb31
git_last_commit_date: 2021-05-19 12:27:58 -0400
nebbiolo1Linux (Ubuntu 20.04.2 LTS) / x86_64  OK    OK    OK  UNNEEDED, same version is already published
tokay2Windows Server 2012 R2 Standard / x64  OK    OK    OK    OK  UNNEEDED, same version is already published
machv2macOS 10.14.6 Mojave / x86_64  OK    OK    OK    OK  UNNEEDED, same version is already published
Package 95/260HostnameOS / ArchINSTALLBUILDCHECKBUILD BIN
gcapc 1.16.0  (landing page)
Mingxiang Teng
git_last_commit: 38a05b9
git_last_commit_date: 2021-05-19 12:24:48 -0400
nebbiolo1Linux (Ubuntu 20.04.2 LTS) / x86_64  OK    OK    OK  UNNEEDED, same version is already published
tokay2Windows Server 2012 R2 Standard / x64  OK    OK    OK    OK  UNNEEDED, same version is already published
machv2macOS 10.14.6 Mojave / x86_64  OK    OK    OK    OK  UNNEEDED, same version is already published
Package 96/260HostnameOS / ArchINSTALLBUILDCHECKBUILD BIN
genbankr 1.20.0  (landing page)
Gabriel Becker
git_last_commit: 968c425
git_last_commit_date: 2021-05-19 12:19:55 -0400
nebbiolo1Linux (Ubuntu 20.04.2 LTS) / x86_64  OK    OK    OK  UNNEEDED, same version is already published
tokay2Windows Server 2012 R2 Standard / x64  OK    OK    OK    OK  UNNEEDED, same version is already published
machv2macOS 10.14.6 Mojave / x86_64  OK    OK    OK    OK  UNNEEDED, same version is already published
Package 97/260HostnameOS / ArchINSTALLBUILDCHECKBUILD BIN
geneAttribution 1.18.0  (landing page)
Arthur Wuster
git_last_commit: e7e4262
git_last_commit_date: 2021-05-19 12:22:44 -0400
nebbiolo1Linux (Ubuntu 20.04.2 LTS) / x86_64  OK    OK    OK  UNNEEDED, same version is already published
tokay2Windows Server 2012 R2 Standard / x64  OK    OK    OK    OK  UNNEEDED, same version is already published
machv2macOS 10.14.6 Mojave / x86_64  OK    OK    OK    OK  UNNEEDED, same version is already published
Package 98/260HostnameOS / ArchINSTALLBUILDCHECKBUILD BIN
GenoGAM 2.10.0  (landing page)
Georg Stricker
git_last_commit: 3b86b0c
git_last_commit_date: 2021-05-19 12:19:19 -0400
nebbiolo1Linux (Ubuntu 20.04.2 LTS) / x86_64  OK    OK    WARNINGS  UNNEEDED, same version is already published
tokay2Windows Server 2012 R2 Standard / x64  OK    OK    WARNINGS    OK  UNNEEDED, same version is already published
machv2macOS 10.14.6 Mojave / x86_64  OK    OK    WARNINGS    OK  UNNEEDED, same version is already published
Package 99/260HostnameOS / ArchINSTALLBUILDCHECKBUILD BIN
genomation 1.24.0  (landing page)
Altuna Akalin , Vedran Franke
git_last_commit: 94f0278
git_last_commit_date: 2021-05-19 12:09:55 -0400
nebbiolo1Linux (Ubuntu 20.04.2 LTS) / x86_64  OK    OK    WARNINGS  UNNEEDED, same version is already published
tokay2Windows Server 2012 R2 Standard / x64  OK    OK    WARNINGS    OK  UNNEEDED, same version is already published
machv2macOS 10.14.6 Mojave / x86_64  OK    OK    WARNINGS    OK  UNNEEDED, same version is already published
Package 100/260HostnameOS / ArchINSTALLBUILDCHECKBUILD BIN
genomeIntervals 1.48.0  (landing page)
Julien Gagneur
git_last_commit: ab17e64
git_last_commit_date: 2021-05-19 11:42:47 -0400
nebbiolo1Linux (Ubuntu 20.04.2 LTS) / x86_64  OK    OK    OK  UNNEEDED, same version is already published
tokay2Windows Server 2012 R2 Standard / x64  OK    OK    OK    OK  UNNEEDED, same version is already published
machv2macOS 10.14.6 Mojave / x86_64  OK    OK    OK    OK  UNNEEDED, same version is already published
Package 101/260HostnameOS / ArchINSTALLBUILDCHECKBUILD BIN
GenomicAlignments 1.28.0  (landing page)
Bioconductor Package Maintainer
git_last_commit: e755dc1
git_last_commit_date: 2021-05-19 12:01:53 -0400
nebbiolo1Linux (Ubuntu 20.04.2 LTS) / x86_64  OK    OK    OK  UNNEEDED, same version is already published
tokay2Windows Server 2012 R2 Standard / x64  OK    OK    OK    OK  UNNEEDED, same version is already published
machv2macOS 10.14.6 Mojave / x86_64  OK    OK    OK    OK  UNNEEDED, same version is already published
Package 102/260HostnameOS / ArchINSTALLBUILDCHECKBUILD BIN
GenomicFeatures 1.44.2  (landing page)
Bioconductor Package Maintainer
git_last_commit: 49566bc
git_last_commit_date: 2021-08-26 00:53:36 -0400
nebbiolo1Linux (Ubuntu 20.04.2 LTS) / x86_64  OK    OK    WARNINGS  UNNEEDED, same version is already published
tokay2Windows Server 2012 R2 Standard / x64  OK    ERROR  skippedskipped
machv2macOS 10.14.6 Mojave / x86_64  OK    ERROR  skippedskipped
Package 103/260HostnameOS / ArchINSTALLBUILDCHECKBUILD BIN
GenomicFiles 1.28.0  (landing page)
Bioconductor Package Maintainer
git_last_commit: b7b64cb
git_last_commit_date: 2021-05-19 12:04:46 -0400
nebbiolo1Linux (Ubuntu 20.04.2 LTS) / x86_64  OK    OK    OK  UNNEEDED, same version is already published
tokay2Windows Server 2012 R2 Standard / x64  OK    OK    OK    OK  UNNEEDED, same version is already published
machv2macOS 10.14.6 Mojave / x86_64  OK    OK    OK    OK  UNNEEDED, same version is already published
Package 104/260HostnameOS / ArchINSTALLBUILDCHECKBUILD BIN
GenomicInteractions 1.26.0  (landing page)
Liz Ing-Simmons
git_last_commit: 54f6f7e
git_last_commit_date: 2021-05-19 12:07:53 -0400
nebbiolo1Linux (Ubuntu 20.04.2 LTS) / x86_64  OK    OK    OK  UNNEEDED, same version is already published
tokay2Windows Server 2012 R2 Standard / x64  OK    OK    OK    OK  UNNEEDED, same version is already published
machv2macOS 10.14.6 Mojave / x86_64  OK    OK    OK    OK  UNNEEDED, same version is already published
Package 105/260HostnameOS / ArchINSTALLBUILDCHECKBUILD BIN
GenomicOZone 1.6.0  (landing page)
Hua Zhong, Mingzhou Song
git_last_commit: a1e58fc
git_last_commit_date: 2021-05-19 12:45:28 -0400
nebbiolo1Linux (Ubuntu 20.04.2 LTS) / x86_64  OK    OK    OK  UNNEEDED, same version is already published
tokay2Windows Server 2012 R2 Standard / x64  OK    OK    OK    OK  UNNEEDED, same version is already published
machv2macOS 10.14.6 Mojave / x86_64  OK    OK    OK    OK  UNNEEDED, same version is already published
Package 106/260HostnameOS / ArchINSTALLBUILDCHECKBUILD BIN
GenomicRanges 1.44.0  (landing page)
Bioconductor Package Maintainer
git_last_commit: d27fdc8
git_last_commit_date: 2021-05-19 11:44:56 -0400
nebbiolo1Linux (Ubuntu 20.04.2 LTS) / x86_64  OK    OK    OK  UNNEEDED, same version is already published
tokay2Windows Server 2012 R2 Standard / x64  OK    OK    OK    OK  UNNEEDED, same version is already published
machv2macOS 10.14.6 Mojave / x86_64  OK    OK    OK    OK  UNNEEDED, same version is already published
Package 107/260HostnameOS / ArchINSTALLBUILDCHECKBUILD BIN
GenomicScores 2.4.0  (landing page)
Robert Castelo
git_last_commit: 4b46561
git_last_commit_date: 2021-05-19 12:27:15 -0400
nebbiolo1Linux (Ubuntu 20.04.2 LTS) / x86_64  OK    OK    OK  UNNEEDED, same version is already published
tokay2Windows Server 2012 R2 Standard / x64  OK    OK    OK    OK  UNNEEDED, same version is already published
machv2macOS 10.14.6 Mojave / x86_64  OK    OK    OK    OK  UNNEEDED, same version is already published
Package 108/260HostnameOS / ArchINSTALLBUILDCHECKBUILD BIN
GenomicTuples 1.26.0  (landing page)
Peter Hickey
git_last_commit: c82b526
git_last_commit_date: 2021-05-19 12:08:40 -0400
nebbiolo1Linux (Ubuntu 20.04.2 LTS) / x86_64  OK    OK    OK  UNNEEDED, same version is already published
tokay2Windows Server 2012 R2 Standard / x64  OK    OK    OK    OK  UNNEEDED, same version is already published
machv2macOS 10.14.6 Mojave / x86_64  OK    OK    OK    OK  UNNEEDED, same version is already published
Package 109/260HostnameOS / ArchINSTALLBUILDCHECKBUILD BIN
genoset 1.48.0  (landing page)
Peter M. Haverty
git_last_commit: 6006c44
git_last_commit_date: 2021-05-19 11:48:08 -0400
nebbiolo1Linux (Ubuntu 20.04.2 LTS) / x86_64  OK    ERROR  skipped
tokay2Windows Server 2012 R2 Standard / x64  OK    ERROR  skippedskipped
machv2macOS 10.14.6 Mojave / x86_64  OK    ERROR  skippedskipped
Package 110/260HostnameOS / ArchINSTALLBUILDCHECKBUILD BIN
genotypeeval 1.24.0  (landing page)
Jennifer Tom
git_last_commit: ddb6801
git_last_commit_date: 2021-05-19 12:14:37 -0400
nebbiolo1Linux (Ubuntu 20.04.2 LTS) / x86_64  OK    OK    WARNINGS  UNNEEDED, same version is already published
tokay2Windows Server 2012 R2 Standard / x64  OK    OK    WARNINGS    OK  UNNEEDED, same version is already published
machv2macOS 10.14.6 Mojave / x86_64  OK    OK    WARNINGS    OK  UNNEEDED, same version is already published
Package 111/260HostnameOS / ArchINSTALLBUILDCHECKBUILD BIN
GenVisR 1.24.0  (landing page)
Zachary Skidmore
git_last_commit: 3b6abcf
git_last_commit_date: 2021-05-19 12:17:38 -0400
nebbiolo1Linux (Ubuntu 20.04.2 LTS) / x86_64  OK    OK    OK  UNNEEDED, same version is already published
tokay2Windows Server 2012 R2 Standard / x64  OK    OK    OK    OK  UNNEEDED, same version is already published
machv2macOS 10.14.6 Mojave / x86_64  OK    OK    OK    OK  UNNEEDED, same version is already published
Package 112/260HostnameOS / ArchINSTALLBUILDCHECKBUILD BIN
ggbio 1.40.0  (landing page)
Michael Lawrence
git_last_commit: c084632
git_last_commit_date: 2021-05-19 11:50:29 -0400
nebbiolo1Linux (Ubuntu 20.04.2 LTS) / x86_64  OK    OK    WARNINGS  UNNEEDED, same version is already published
tokay2Windows Server 2012 R2 Standard / x64  OK    OK    WARNINGS    OK  UNNEEDED, same version is already published
machv2macOS 10.14.6 Mojave / x86_64  OK    OK    WARNINGS    OK  UNNEEDED, same version is already published
Package 113/260HostnameOS / ArchINSTALLBUILDCHECKBUILD BIN
gmapR 1.34.0  (landing page)
Michael Lawrence
git_last_commit: 3262a4e
git_last_commit_date: 2021-05-19 11:53:08 -0400
nebbiolo1Linux (Ubuntu 20.04.2 LTS) / x86_64  OK    OK    WARNINGS  UNNEEDED, same version is already published
tokay2Windows Server 2012 R2 Standard / x64... NOT SUPPORTED ...
machv2macOS 10.14.6 Mojave / x86_64  OK    OK    WARNINGS    OK  UNNEEDED, same version is already published
Package 114/260HostnameOS / ArchINSTALLBUILDCHECKBUILD BIN
gmoviz 1.4.0  (landing page)
Kathleen Zeglinski
git_last_commit: 8eb5807
git_last_commit_date: 2021-05-19 12:50:37 -0400
nebbiolo1Linux (Ubuntu 20.04.2 LTS) / x86_64  OK    OK    OK  UNNEEDED, same version is already published
tokay2Windows Server 2012 R2 Standard / x64  OK    OK    OK    OK  UNNEEDED, same version is already published
machv2macOS 10.14.6 Mojave / x86_64  OK    OK    OK    OK  UNNEEDED, same version is already published
Package 115/260HostnameOS / ArchINSTALLBUILDCHECKBUILD BIN
GOTHiC 1.28.0  (landing page)
Borbala Mifsud
git_last_commit: 4898bfc
git_last_commit_date: 2021-05-19 12:44:42 -0400
nebbiolo1Linux (Ubuntu 20.04.2 LTS) / x86_64  OK    OK    OK  UNNEEDED, same version is already published
tokay2Windows Server 2012 R2 Standard / x64  OK    OK    OK    OK  UNNEEDED, same version is already published
machv2macOS 10.14.6 Mojave / x86_64  OK    OK    OK    OK  UNNEEDED, same version is already published
Package 116/260HostnameOS / ArchINSTALLBUILDCHECKBUILD BIN
GreyListChIP 1.24.0  (landing page)
Gordon Brown
git_last_commit: 2a86668
git_last_commit_date: 2021-05-19 12:10:56 -0400
nebbiolo1Linux (Ubuntu 20.04.2 LTS) / x86_64  OK    OK    OK  UNNEEDED, same version is already published
tokay2Windows Server 2012 R2 Standard / x64  OK    OK    OK    OK  UNNEEDED, same version is already published
machv2macOS 10.14.6 Mojave / x86_64  OK    OK    OK    OK  UNNEEDED, same version is already published
Package 117/260HostnameOS / ArchINSTALLBUILDCHECKBUILD BIN
groHMM 1.26.0  (landing page)
Anusha Nagari , Tulip Nandu , W. Lee Kraus
git_last_commit: 6be33d3
git_last_commit_date: 2021-05-19 12:09:04 -0400
nebbiolo1Linux (Ubuntu 20.04.2 LTS) / x86_64  OK    OK    OK  UNNEEDED, same version is already published
tokay2Windows Server 2012 R2 Standard / x64  OK    OK    OK    OK  UNNEEDED, same version is already published
machv2macOS 10.14.6 Mojave / x86_64  OK    OK    OK    OK  UNNEEDED, same version is already published
Package 118/260HostnameOS / ArchINSTALLBUILDCHECKBUILD BIN
GUIDEseq 1.22.0  (landing page)
Lihua Julie Zhu
git_last_commit: d6c83e7
git_last_commit_date: 2021-05-19 12:16:19 -0400
nebbiolo1Linux (Ubuntu 20.04.2 LTS) / x86_64  OK    OK    OK  UNNEEDED, same version is already published
tokay2Windows Server 2012 R2 Standard / x64  OK    OK    OK    OK  UNNEEDED, same version is already published
machv2macOS 10.14.6 Mojave / x86_64  OK    OK    OK    OK  UNNEEDED, same version is already published
Package 119/260HostnameOS / ArchINSTALLBUILDCHECKBUILD BIN
Gviz 1.36.2  (landing page)
Robert Ivanek
git_last_commit: 742ed80
git_last_commit_date: 2021-07-02 05:34:16 -0400
nebbiolo1Linux (Ubuntu 20.04.2 LTS) / x86_64  OK    OK    OK  UNNEEDED, same version is already published
tokay2Windows Server 2012 R2 Standard / x64  OK    ERROR  skippedskipped
machv2macOS 10.14.6 Mojave / x86_64  OK    ERROR  skippedskipped
Package 120/260HostnameOS / ArchINSTALLBUILDCHECKBUILD BIN
gwascat 2.24.0  (landing page)
VJ Carey
git_last_commit: d251baa
git_last_commit_date: 2021-05-19 11:51:31 -0400
nebbiolo1Linux (Ubuntu 20.04.2 LTS) / x86_64  OK    OK    OK  UNNEEDED, same version is already published
tokay2Windows Server 2012 R2 Standard / x64  OK    OK    OK    OK  UNNEEDED, same version is already published
machv2macOS 10.14.6 Mojave / x86_64  OK    OK    OK    OK  UNNEEDED, same version is already published
Package 121/260HostnameOS / ArchINSTALLBUILDCHECKBUILD BIN
h5vc 2.26.1  (landing page)
Paul Theodor Pyl
git_last_commit: 95d3f8b
git_last_commit_date: 2021-05-21 16:31:59 -0400
nebbiolo1Linux (Ubuntu 20.04.2 LTS) / x86_64  OK    OK    WARNINGS  UNNEEDED, same version is already published
tokay2Windows Server 2012 R2 Standard / x64  OK    OK    WARNINGS    OK  UNNEEDED, same version is already published
machv2macOS 10.14.6 Mojave / x86_64  OK    OK    WARNINGS    OK  UNNEEDED, same version is already published
Package 122/260HostnameOS / ArchINSTALLBUILDCHECKBUILD BIN
heatmaps 1.16.0  (landing page)
Malcolm Perry
git_last_commit: c35acce
git_last_commit_date: 2021-05-19 12:27:40 -0400
nebbiolo1Linux (Ubuntu 20.04.2 LTS) / x86_64  OK    OK    OK  UNNEEDED, same version is already published
tokay2Windows Server 2012 R2 Standard / x64  OK    OK    OK    OK  UNNEEDED, same version is already published
machv2macOS 10.14.6 Mojave / x86_64  OK    OK    OK    OK  UNNEEDED, same version is already published
Package 123/260HostnameOS / ArchINSTALLBUILDCHECKBUILD BIN
HelloRanges 1.18.0  (landing page)
Michael Lawrence
git_last_commit: e9067d1
git_last_commit_date: 2021-05-19 12:23:56 -0400
nebbiolo1Linux (Ubuntu 20.04.2 LTS) / x86_64  OK    OK    WARNINGS  UNNEEDED, same version is already published
tokay2Windows Server 2012 R2 Standard / x64  OK    OK    WARNINGS    OK  UNNEEDED, same version is already published
machv2macOS 10.14.6 Mojave / x86_64  OK    ERROR  skippedskipped
Package 124/260HostnameOS / ArchINSTALLBUILDCHECKBUILD BIN
HiCBricks 1.10.0  (landing page)
Koustav Pal
git_last_commit: f242bbd
git_last_commit_date: 2021-05-19 12:38:53 -0400
nebbiolo1Linux (Ubuntu 20.04.2 LTS) / x86_64  OK    OK    OK  UNNEEDED, same version is already published
tokay2Windows Server 2012 R2 Standard / x64  OK    OK    OK    OK  UNNEEDED, same version is already published
machv2macOS 10.14.6 Mojave / x86_64  OK    OK    OK    OK  UNNEEDED, same version is already published
Package 125/260HostnameOS / ArchINSTALLBUILDCHECKBUILD BIN
HiCDCPlus 1.0.0  (landing page)
Merve Sahin
git_last_commit: c666131
git_last_commit_date: 2021-05-19 12:59:52 -0400
nebbiolo1Linux (Ubuntu 20.04.2 LTS) / x86_64  OK    OK    OK  UNNEEDED, same version is already published
tokay2Windows Server 2012 R2 Standard / x64  OK    OK    OK    OK  UNNEEDED, same version is already published
machv2macOS 10.14.6 Mojave / x86_64  OK    OK    OK    OK  UNNEEDED, same version is already published
Package 126/260HostnameOS / ArchINSTALLBUILDCHECKBUILD BIN
HiTC 1.36.0  (landing page)
Nicolas Servant
git_last_commit: 012dec8
git_last_commit_date: 2021-05-19 11:52:11 -0400
nebbiolo1Linux (Ubuntu 20.04.2 LTS) / x86_64  OK    OK    OK  UNNEEDED, same version is already published
tokay2Windows Server 2012 R2 Standard / x64  OK    OK    OK    OK  UNNEEDED, same version is already published
machv2macOS 10.14.6 Mojave / x86_64  OK    OK    OK    OK  UNNEEDED, same version is already published
Package 127/260HostnameOS / ArchINSTALLBUILDCHECKBUILD BIN
HTSeqGenie 4.22.0  (landing page)
Jens Reeder
git_last_commit: ddd1eb5
git_last_commit_date: 2021-05-19 11:54:22 -0400
nebbiolo1Linux (Ubuntu 20.04.2 LTS) / x86_64  OK    OK    OK  UNNEEDED, same version is already published
tokay2Windows Server 2012 R2 Standard / x64... NOT SUPPORTED ...
machv2macOS 10.14.6 Mojave / x86_64... NOT SUPPORTED ...
Package 128/260HostnameOS / ArchINSTALLBUILDCHECKBUILD BIN
IdeoViz 1.28.0  (landing page)
Shraddha Pai
git_last_commit: d115002
git_last_commit_date: 2021-05-19 12:08:23 -0400
nebbiolo1Linux (Ubuntu 20.04.2 LTS) / x86_64  OK    OK    WARNINGS  UNNEEDED, same version is already published
tokay2Windows Server 2012 R2 Standard / x64  OK    OK    WARNINGS    OK  UNNEEDED, same version is already published
machv2macOS 10.14.6 Mojave / x86_64  OK    ERROR  skippedskipped
Package 129/260HostnameOS / ArchINSTALLBUILDCHECKBUILD BIN
idr2d 1.6.0  (landing page)
Konstantin Krismer
git_last_commit: df5b4c8
git_last_commit_date: 2021-05-19 12:46:03 -0400
nebbiolo1Linux (Ubuntu 20.04.2 LTS) / x86_64  OK    OK    OK  UNNEEDED, same version is already published
tokay2Windows Server 2012 R2 Standard / x64  OK    OK    OK    OK  UNNEEDED, same version is already published
machv2macOS 10.14.6 Mojave / x86_64  OK    OK    OK    OK  UNNEEDED, same version is already published
Package 130/260HostnameOS / ArchINSTALLBUILDCHECKBUILD BIN
IMAS 1.16.0  (landing page)
Seonggyun Han
git_last_commit: b45a2cb
git_last_commit_date: 2021-05-19 12:27:18 -0400
nebbiolo1Linux (Ubuntu 20.04.2 LTS) / x86_64  OK    OK    OK  UNNEEDED, same version is already published
tokay2Windows Server 2012 R2 Standard / x64  OK    OK    OK    OK  UNNEEDED, same version is already published
machv2macOS 10.14.6 Mojave / x86_64  OK    OK    OK    OK  UNNEEDED, same version is already published
Package 131/260HostnameOS / ArchINSTALLBUILDCHECKBUILD BIN
InPAS 2.0.0  (landing page)
Jianhong Ou
git_last_commit: d402f5c
git_last_commit_date: 2021-05-19 12:12:03 -0400
nebbiolo1Linux (Ubuntu 20.04.2 LTS) / x86_64  OK    OK    OK  UNNEEDED, same version is already published
tokay2Windows Server 2012 R2 Standard / x64  OK    OK    OK    OK  UNNEEDED, same version is already published
machv2macOS 10.14.6 Mojave / x86_64  OK    OK    OK    OK  UNNEEDED, same version is already published
Package 132/260HostnameOS / ArchINSTALLBUILDCHECKBUILD BIN
INSPEcT 1.22.0  (landing page)
Stefano de Pretis
git_last_commit: b877791
git_last_commit_date: 2021-05-19 12:14:25 -0400
nebbiolo1Linux (Ubuntu 20.04.2 LTS) / x86_64  OK    OK    OK  UNNEEDED, same version is already published
tokay2Windows Server 2012 R2 Standard / x64  OK    OK    OK    OK  UNNEEDED, same version is already published
machv2macOS 10.14.6 Mojave / x86_64  OK    OK    OK    OK  UNNEEDED, same version is already published
Package 133/260HostnameOS / ArchINSTALLBUILDCHECKBUILD BIN
InteractionSet 1.20.0  (landing page)
Aaron Lun
git_last_commit: 020b6c6
git_last_commit_date: 2021-05-19 12:19:59 -0400
nebbiolo1Linux (Ubuntu 20.04.2 LTS) / x86_64  OK    OK    OK  UNNEEDED, same version is already published
tokay2Windows Server 2012 R2 Standard / x64  OK    OK    OK    OK  UNNEEDED, same version is already published
machv2macOS 10.14.6 Mojave / x86_64  OK    OK    OK    OK  UNNEEDED, same version is already published
Package 134/260HostnameOS / ArchINSTALLBUILDCHECKBUILD BIN
IsoformSwitchAnalyzeR 1.14.0  (landing page)
Kristoffer Vitting-Seerup
git_last_commit: e42bc78
git_last_commit_date: 2021-05-19 12:28:14 -0400
nebbiolo1Linux (Ubuntu 20.04.2 LTS) / x86_64  OK    ERROR  skipped
tokay2Windows Server 2012 R2 Standard / x64  OK    ERROR  skippedskipped
machv2macOS 10.14.6 Mojave / x86_64  OK    ERROR  skippedskipped
Package 135/260HostnameOS / ArchINSTALLBUILDCHECKBUILD BIN
IVAS 2.12.0  (landing page)
Seonggyun Han
git_last_commit: 72bbdb6
git_last_commit_date: 2021-05-19 12:10:52 -0400
nebbiolo1Linux (Ubuntu 20.04.2 LTS) / x86_64  OK    OK    WARNINGS  UNNEEDED, same version is already published
tokay2Windows Server 2012 R2 Standard / x64  OK    OK    WARNINGS    OK  UNNEEDED, same version is already published
machv2macOS 10.14.6 Mojave / x86_64  OK    OK    WARNINGS    OK  UNNEEDED, same version is already published
Package 136/260HostnameOS / ArchINSTALLBUILDCHECKBUILD BIN
karyoploteR 1.18.0  (landing page)
Bernat Gel
git_last_commit: 7dcb80b
git_last_commit_date: 2021-05-19 12:25:36 -0400
nebbiolo1Linux (Ubuntu 20.04.2 LTS) / x86_64  OK    OK    OK  UNNEEDED, same version is already published
tokay2Windows Server 2012 R2 Standard / x64  OK    OK    OK    OK  UNNEEDED, same version is already published
machv2macOS 10.14.6 Mojave / x86_64  OK    OK    OK    OK  UNNEEDED, same version is already published
Package 137/260HostnameOS / ArchINSTALLBUILDCHECKBUILD BIN
ldblock 1.22.1  (landing page)
VJ Carey
git_last_commit: 6c98ba3
git_last_commit_date: 2021-07-28 17:02:28 -0400
nebbiolo1Linux (Ubuntu 20.04.2 LTS) / x86_64  OK    OK    OK  UNNEEDED, same version is already published
tokay2Windows Server 2012 R2 Standard / x64  OK    OK    OK    OK  UNNEEDED, same version is already published
machv2macOS 10.14.6 Mojave / x86_64  OK    OK    OK    OK  UNNEEDED, same version is already published
Package 138/260HostnameOS / ArchINSTALLBUILDCHECKBUILD BIN
MACPET 1.12.0  (landing page)
Ioannis Vardaxis
git_last_commit: 2e34842
git_last_commit_date: 2021-05-19 12:33:30 -0400
nebbiolo1Linux (Ubuntu 20.04.2 LTS) / x86_64  OK    OK    OK  UNNEEDED, same version is already published
tokay2Windows Server 2012 R2 Standard / x64  OK    OK    OK    OK  UNNEEDED, same version is already published
machv2macOS 10.14.6 Mojave / x86_64  OK    OK    OK    OK  UNNEEDED, same version is already published
Package 139/260HostnameOS / ArchINSTALLBUILDCHECKBUILD BIN
MADSEQ 1.18.0  (landing page)
Yu Kong
git_last_commit: 64cfc9c
git_last_commit_date: 2021-05-19 12:20:58 -0400
nebbiolo1Linux (Ubuntu 20.04.2 LTS) / x86_64  OK    OK    OK  UNNEEDED, same version is already published
tokay2Windows Server 2012 R2 Standard / x64  OK    OK    OK    OK  UNNEEDED, same version is already published
machv2macOS 10.14.6 Mojave / x86_64  OK    OK    OK    OK  UNNEEDED, same version is already published
Package 140/260HostnameOS / ArchINSTALLBUILDCHECKBUILD BIN
maser 1.10.0  (landing page)
Diogo F.T. Veiga
git_last_commit: c37ef16
git_last_commit_date: 2021-05-19 12:35:59 -0400
nebbiolo1Linux (Ubuntu 20.04.2 LTS) / x86_64  OK    OK    OK  UNNEEDED, same version is already published
tokay2Windows Server 2012 R2 Standard / x64  OK    OK    OK    OK  UNNEEDED, same version is already published
machv2macOS 10.14.6 Mojave / x86_64  OK    OK    OK    OK  UNNEEDED, same version is already published
Package 141/260HostnameOS / ArchINSTALLBUILDCHECKBUILD BIN
metagene 2.24.0  (landing page)
Charles Joly Beauparlant
git_last_commit: f85b3d4
git_last_commit_date: 2021-05-19 12:06:34 -0400
nebbiolo1Linux (Ubuntu 20.04.2 LTS) / x86_64  OK    OK    ERROR  
tokay2Windows Server 2012 R2 Standard / x64  OK    OK    ERROR    OK  
machv2macOS 10.14.6 Mojave / x86_64  OK    OK    ERROR    OK  
Package 142/260HostnameOS / ArchINSTALLBUILDCHECKBUILD BIN
metagene2 1.8.1  (landing page)
Eric Fournier
git_last_commit: d1121a9
git_last_commit_date: 2021-07-13 14:38:40 -0400
nebbiolo1Linux (Ubuntu 20.04.2 LTS) / x86_64  OK    OK    OK  UNNEEDED, same version is already published
tokay2Windows Server 2012 R2 Standard / x64  OK    OK    OK    OK  UNNEEDED, same version is already published
machv2macOS 10.14.6 Mojave / x86_64  OK    OK    OK    OK  UNNEEDED, same version is already published
Package 143/260HostnameOS / ArchINSTALLBUILDCHECKBUILD BIN
metaseqR2 1.4.11  (landing page)
Panagiotis Moulos
git_last_commit: 56cb2d4
git_last_commit_date: 2021-09-19 06:50:06 -0400
nebbiolo1Linux (Ubuntu 20.04.2 LTS) / x86_64  OK    ERROR  skipped
tokay2Windows Server 2012 R2 Standard / x64  OK    ERROR  skippedskipped
machv2macOS 10.14.6 Mojave / x86_64  OK    ERROR  skippedskipped
Package 144/260HostnameOS / ArchINSTALLBUILDCHECKBUILD BIN
metavizr 1.16.0  (landing page)
Hector Corrada Bravo
git_last_commit: 1817a55
git_last_commit_date: 2021-05-19 12:27:30 -0400
nebbiolo1Linux (Ubuntu 20.04.2 LTS) / x86_64  OK    ERROR  skipped
tokay2Windows Server 2012 R2 Standard / x64  OK    ERROR  skippedskipped
machv2macOS 10.14.6 Mojave / x86_64  OK    ERROR  skippedskipped
Package 145/260HostnameOS / ArchINSTALLBUILDCHECKBUILD BIN
MethCP 1.6.0  (landing page)
Boying Gong
git_last_commit: 4b722d1
git_last_commit_date: 2021-05-19 12:47:24 -0400
nebbiolo1Linux (Ubuntu 20.04.2 LTS) / x86_64  OK    OK    OK  UNNEEDED, same version is already published
tokay2Windows Server 2012 R2 Standard / x64  OK    OK    OK    OK  UNNEEDED, same version is already published
machv2macOS 10.14.6 Mojave / x86_64  OK    OK    OK    OK  UNNEEDED, same version is already published
Package 146/260HostnameOS / ArchINSTALLBUILDCHECKBUILD BIN
methimpute 1.14.0  (landing page)
Aaron Taudt
git_last_commit: b24384b
git_last_commit_date: 2021-05-19 12:30:55 -0400
nebbiolo1Linux (Ubuntu 20.04.2 LTS) / x86_64  OK    OK    OK  UNNEEDED, same version is already published
tokay2Windows Server 2012 R2 Standard / x64  OK    OK    OK    OK  UNNEEDED, same version is already published
machv2macOS 10.14.6 Mojave / x86_64  OK    OK    OK    OK  UNNEEDED, same version is already published
Package 147/260HostnameOS / ArchINSTALLBUILDCHECKBUILD BIN
methInheritSim 1.14.0  (landing page)
Pascal Belleau
git_last_commit: b70d290
git_last_commit_date: 2021-05-19 12:28:06 -0400
nebbiolo1Linux (Ubuntu 20.04.2 LTS) / x86_64  OK    OK    OK  UNNEEDED, same version is already published
tokay2Windows Server 2012 R2 Standard / x64  OK    OK    OK    OK  UNNEEDED, same version is already published
machv2macOS 10.14.6 Mojave / x86_64  OK    OK    OK    OK  UNNEEDED, same version is already published
Package 148/260HostnameOS / ArchINSTALLBUILDCHECKBUILD BIN
methyAnalysis 1.34.0  (landing page)
Lei Huang
git_last_commit: 96aa183
git_last_commit_date: 2021-05-19 11:53:36 -0400
nebbiolo1Linux (Ubuntu 20.04.2 LTS) / x86_64  OK    OK    WARNINGS  UNNEEDED, same version is already published
tokay2Windows Server 2012 R2 Standard / x64... NOT SUPPORTED ...
machv2macOS 10.14.6 Mojave / x86_64  OK    ERROR  skippedskipped
Package 149/260HostnameOS / ArchINSTALLBUILDCHECKBUILD BIN
methylKit 1.18.0  (landing page)
Altuna Akalin , Alexander Gosdschan
git_last_commit: 8fef778
git_last_commit_date: 2021-05-19 12:21:44 -0400
nebbiolo1Linux (Ubuntu 20.04.2 LTS) / x86_64  OK    OK    WARNINGS  UNNEEDED, same version is already published
tokay2Windows Server 2012 R2 Standard / x64  OK    OK    WARNINGS    OK  UNNEEDED, same version is already published
machv2macOS 10.14.6 Mojave / x86_64  OK    OK    WARNINGS    OK  UNNEEDED, same version is already published
Package 150/260HostnameOS / ArchINSTALLBUILDCHECKBUILD BIN
methylPipe 1.26.0  (landing page)
Kamal Kishore
git_last_commit: ca8dade
git_last_commit_date: 2021-05-19 12:07:06 -0400
nebbiolo1Linux (Ubuntu 20.04.2 LTS) / x86_64  OK    OK    WARNINGS  UNNEEDED, same version is already published
tokay2Windows Server 2012 R2 Standard / x64  OK    OK    WARNINGS    OK  UNNEEDED, same version is already published
machv2macOS 10.14.6 Mojave / x86_64  OK    ERROR  skippedskipped
Package 151/260HostnameOS / ArchINSTALLBUILDCHECKBUILD BIN
methylSig 1.4.0  (landing page)
Raymond G. Cavalcante
git_last_commit: a8c68a6
git_last_commit_date: 2021-05-19 12:51:51 -0400
nebbiolo1Linux (Ubuntu 20.04.2 LTS) / x86_64  OK    OK    OK  UNNEEDED, same version is already published
tokay2Windows Server 2012 R2 Standard / x64  OK    OK    OK    OK  UNNEEDED, same version is already published
machv2macOS 10.14.6 Mojave / x86_64  OK    OK    OK    OK  UNNEEDED, same version is already published
Package 152/260HostnameOS / ArchINSTALLBUILDCHECKBUILD BIN
methylumi 2.38.0  (landing page)
Sean Davis
git_last_commit: 13b2e06
git_last_commit_date: 2021-05-19 11:43:15 -0400
nebbiolo1Linux (Ubuntu 20.04.2 LTS) / x86_64  OK    OK    WARNINGS  UNNEEDED, same version is already published
tokay2Windows Server 2012 R2 Standard / x64  OK    OK    ERROR    OK  
machv2macOS 10.14.6 Mojave / x86_64  OK    OK    WARNINGS    OK  UNNEEDED, same version is already published
Package 153/260HostnameOS / ArchINSTALLBUILDCHECKBUILD BIN
minfi 1.38.0  (landing page)
Kasper Daniel Hansen
git_last_commit: ff3bf4a
git_last_commit_date: 2021-05-19 11:50:18 -0400
nebbiolo1Linux (Ubuntu 20.04.2 LTS) / x86_64  OK    OK    OK  UNNEEDED, same version is already published
tokay2Windows Server 2012 R2 Standard / x64  OK    OK    OK    OK  UNNEEDED, same version is already published
machv2macOS 10.14.6 Mojave / x86_64  OK    OK    OK    OK  UNNEEDED, same version is already published
Package 154/260HostnameOS / ArchINSTALLBUILDCHECKBUILD BIN
MinimumDistance 1.36.0  (landing page)
Robert Scharpf
git_last_commit: 9e0f7b9
git_last_commit_date: 2021-05-19 11:52:19 -0400
nebbiolo1Linux (Ubuntu 20.04.2 LTS) / x86_64  OK    OK    WARNINGS  UNNEEDED, same version is already published
tokay2Windows Server 2012 R2 Standard / x64  OK    OK    WARNINGS    OK  UNNEEDED, same version is already published
machv2macOS 10.14.6 Mojave / x86_64  OK    OK    WARNINGS    OK  UNNEEDED, same version is already published
Package 155/260HostnameOS / ArchINSTALLBUILDCHECKBUILD BIN
MMAPPR2 1.6.0  (landing page)
Jonathon Hill
git_last_commit: 7c16b5e
git_last_commit_date: 2021-05-19 12:44:29 -0400
nebbiolo1Linux (Ubuntu 20.04.2 LTS) / x86_64  OK    OK    OK  UNNEEDED, same version is already published
tokay2Windows Server 2012 R2 Standard / x64... NOT SUPPORTED ...
machv2macOS 10.14.6 Mojave / x86_64  OK    OK    OK    OK  UNNEEDED, same version is already published
Package 156/260HostnameOS / ArchINSTALLBUILDCHECKBUILD BIN
mosaics 2.30.0  (landing page)
Dongjun Chung
git_last_commit: d9cceee
git_last_commit_date: 2021-05-19 11:47:19 -0400
nebbiolo1Linux (Ubuntu 20.04.2 LTS) / x86_64  OK    OK    OK  UNNEEDED, same version is already published
tokay2Windows Server 2012 R2 Standard / x64  OK    OK    OK    OK  UNNEEDED, same version is already published
machv2macOS 10.14.6 Mojave / x86_64  OK    OK    OK    OK  UNNEEDED, same version is already published
Package 157/260HostnameOS / ArchINSTALLBUILDCHECKBUILD BIN
motifbreakR 2.6.1  (landing page)
Simon Gert Coetzee
git_last_commit: ed220a9
git_last_commit_date: 2021-07-20 16:57:08 -0400
nebbiolo1Linux (Ubuntu 20.04.2 LTS) / x86_64  OK    OK    WARNINGS  UNNEEDED, same version is already published
tokay2Windows Server 2012 R2 Standard / x64  OK    OK    WARNINGS    OK  UNNEEDED, same version is already published
machv2macOS 10.14.6 Mojave / x86_64  OK    OK    WARNINGS    OK  UNNEEDED, same version is already published
Package 158/260HostnameOS / ArchINSTALLBUILDCHECKBUILD BIN
motifmatchr 1.14.0  (landing page)
Alicia Schep
git_last_commit: b395fda
git_last_commit_date: 2021-05-19 12:28:12 -0400
nebbiolo1Linux (Ubuntu 20.04.2 LTS) / x86_64  OK    OK    OK  UNNEEDED, same version is already published
tokay2Windows Server 2012 R2 Standard / x64  OK    OK    OK    OK  UNNEEDED, same version is already published
machv2macOS 10.14.6 Mojave / x86_64  OK    OK    OK    OK  UNNEEDED, same version is already published
Package 159/260HostnameOS / ArchINSTALLBUILDCHECKBUILD BIN
MouseFM 1.2.0  (landing page)
Matthias Munz
git_last_commit: b73aa9e
git_last_commit_date: 2021-05-19 12:53:20 -0400
nebbiolo1Linux (Ubuntu 20.04.2 LTS) / x86_64  OK    OK    ERROR  
tokay2Windows Server 2012 R2 Standard / x64  OK    OK    ERROR    OK  
machv2macOS 10.14.6 Mojave / x86_64  OK    OK    ERROR    OK  
Package 160/260HostnameOS / ArchINSTALLBUILDCHECKBUILD BIN
msgbsR 1.16.0  (landing page)
Benjamin Mayne
git_last_commit: eee8300
git_last_commit_date: 2021-05-19 12:27:52 -0400
nebbiolo1Linux (Ubuntu 20.04.2 LTS) / x86_64  OK    OK    WARNINGS  UNNEEDED, same version is already published
tokay2Windows Server 2012 R2 Standard / x64  OK    OK    WARNINGS    OK  UNNEEDED, same version is already published
machv2macOS 10.14.6 Mojave / x86_64  OK    OK    WARNINGS    OK  UNNEEDED, same version is already published
Package 161/260HostnameOS / ArchINSTALLBUILDCHECKBUILD BIN
multicrispr 1.2.0  (landing page)
Aditya Bhagwat
git_last_commit: 88c1a4f
git_last_commit_date: 2021-05-19 12:53:01 -0400
nebbiolo1Linux (Ubuntu 20.04.2 LTS) / x86_64  OK    OK    OK  UNNEEDED, same version is already published
tokay2Windows Server 2012 R2 Standard / x64  OK    OK    OK    OK  UNNEEDED, same version is already published
machv2macOS 10.14.6 Mojave / x86_64  OK    OK    OK    OK  UNNEEDED, same version is already published
Package 162/260HostnameOS / ArchINSTALLBUILDCHECKBUILD BIN
multiHiCcompare 1.10.0  (landing page)
John Stansfield , Mikhail Dozmorov
git_last_commit: 7780e80
git_last_commit_date: 2021-05-19 12:37:18 -0400
nebbiolo1Linux (Ubuntu 20.04.2 LTS) / x86_64  OK    OK    OK  UNNEEDED, same version is already published
tokay2Windows Server 2012 R2 Standard / x64  OK    OK    OK    OK  UNNEEDED, same version is already published
machv2macOS 10.14.6 Mojave / x86_64  OK    OK    OK    OK  UNNEEDED, same version is already published
Package 163/260HostnameOS / ArchINSTALLBUILDCHECKBUILD BIN
musicatk 1.2.0  (landing page)
Aaron Chevalier
git_last_commit: c207280
git_last_commit_date: 2021-05-19 12:57:08 -0400
nebbiolo1Linux (Ubuntu 20.04.2 LTS) / x86_64  OK    OK    OK  UNNEEDED, same version is already published
tokay2Windows Server 2012 R2 Standard / x64  OK    OK    OK    OK  UNNEEDED, same version is already published
machv2macOS 10.14.6 Mojave / x86_64  OK    OK    OK    OK  UNNEEDED, same version is already published
Package 164/260HostnameOS / ArchINSTALLBUILDCHECKBUILD BIN
MutationalPatterns 3.2.0  (landing page)
Rurika Oka
git_last_commit: 80fd57a
git_last_commit_date: 2021-05-19 12:23:54 -0400
nebbiolo1Linux (Ubuntu 20.04.2 LTS) / x86_64  OK    OK    OK  UNNEEDED, same version is already published
tokay2Windows Server 2012 R2 Standard / x64  OK    OK    OK    OK  UNNEEDED, same version is already published
machv2macOS 10.14.6 Mojave / x86_64  OK    OK    OK    OK  UNNEEDED, same version is already published
Package 165/260HostnameOS / ArchINSTALLBUILDCHECKBUILD BIN
myvariant 1.22.0  (landing page)
Adam Mark, Chunlei Wu
git_last_commit: 926053d
git_last_commit_date: 2021-05-19 12:15:12 -0400
nebbiolo1Linux (Ubuntu 20.04.2 LTS) / x86_64  OK    OK    OK  UNNEEDED, same version is already published
tokay2Windows Server 2012 R2 Standard / x64  OK    OK    OK    OK  UNNEEDED, same version is already published
machv2macOS 10.14.6 Mojave / x86_64  OK    OK    OK    OK  UNNEEDED, same version is already published
Package 166/260HostnameOS / ArchINSTALLBUILDCHECKBUILD BIN
NADfinder 1.16.0  (landing page)
Jianhong Ou
git_last_commit: e592a6b
git_last_commit_date: 2021-05-19 12:26:57 -0400
nebbiolo1Linux (Ubuntu 20.04.2 LTS) / x86_64  OK    OK    OK  UNNEEDED, same version is already published
tokay2Windows Server 2012 R2 Standard / x64  OK    OK    OK    OK  UNNEEDED, same version is already published
machv2macOS 10.14.6 Mojave / x86_64  OK    OK    OK    OK  UNNEEDED, same version is already published
Package 167/260HostnameOS / ArchINSTALLBUILDCHECKBUILD BIN
nearBynding 1.2.0  (landing page)
Veronica Busa
git_last_commit: cb38368
git_last_commit_date: 2021-05-19 12:55:36 -0400
nebbiolo1Linux (Ubuntu 20.04.2 LTS) / x86_64  OK    OK    OK  UNNEEDED, same version is already published
tokay2Windows Server 2012 R2 Standard / x64  OK    OK    OK    OK  UNNEEDED, same version is already published
machv2macOS 10.14.6 Mojave / x86_64  OK    OK    OK    OK  UNNEEDED, same version is already published
Package 168/260HostnameOS / ArchINSTALLBUILDCHECKBUILD BIN
netDx 1.4.3  (landing page)
Shraddha Pai
git_last_commit: 4f053f2
git_last_commit_date: 2021-08-18 18:41:08 -0400
nebbiolo1Linux (Ubuntu 20.04.2 LTS) / x86_64  OK    OK    WARNINGS  UNNEEDED, same version is already published
tokay2Windows Server 2012 R2 Standard / x64... NOT SUPPORTED ...
machv2macOS 10.14.6 Mojave / x86_64  OK    OK    WARNINGS    OK  UNNEEDED, same version is already published
Package 169/260HostnameOS / ArchINSTALLBUILDCHECKBUILD BIN
normr 1.18.1  (landing page)
Johannes Helmuth
git_last_commit: f1d3f26
git_last_commit_date: 2021-09-20 10:47:57 -0400
nebbiolo1Linux (Ubuntu 20.04.2 LTS) / x86_64  OK    OK    OK  UNNEEDED, same version is already published
tokay2Windows Server 2012 R2 Standard / x64  OK    OK    WARNINGS    OK  UNNEEDED, same version is already published
machv2macOS 10.14.6 Mojave / x86_64  OK    ERROR  skippedskipped
Package 170/260HostnameOS / ArchINSTALLBUILDCHECKBUILD BIN
nucleR 2.24.0  (landing page)
Alba Sala
git_last_commit: b7e30e8
git_last_commit_date: 2021-05-19 11:49:18 -0400
nebbiolo1Linux (Ubuntu 20.04.2 LTS) / x86_64  OK    OK    WARNINGS  UNNEEDED, same version is already published
tokay2Windows Server 2012 R2 Standard / x64  OK    OK    WARNINGS    OK  UNNEEDED, same version is already published
machv2macOS 10.14.6 Mojave / x86_64  OK    OK    WARNINGS    OK  UNNEEDED, same version is already published
Package 171/260HostnameOS / ArchINSTALLBUILDCHECKBUILD BIN
OMICsPCA 1.10.0  (landing page)
Subhadeep Das
git_last_commit: d08002d
git_last_commit_date: 2021-05-19 12:38:16 -0400
nebbiolo1Linux (Ubuntu 20.04.2 LTS) / x86_64  OK    OK    OK  UNNEEDED, same version is already published
tokay2Windows Server 2012 R2 Standard / x64  OK    OK    OK    OK  UNNEEDED, same version is already published
machv2macOS 10.14.6 Mojave / x86_64  OK    OK    OK    OK  UNNEEDED, same version is already published
Package 172/260HostnameOS / ArchINSTALLBUILDCHECKBUILD BIN
ORFik 1.12.11  (landing page)
Haakon Tjeldnes
git_last_commit: bcb1d83
git_last_commit_date: 2021-08-27 05:15:17 -0400
nebbiolo1Linux (Ubuntu 20.04.2 LTS) / x86_64  OK    OK    OK  UNNEEDED, same version is already published
tokay2Windows Server 2012 R2 Standard / x64  OK    OK    OK    OK  UNNEEDED, same version is already published
machv2macOS 10.14.6 Mojave / x86_64  OK    OK    OK    OK  UNNEEDED, same version is already published
Package 173/260HostnameOS / ArchINSTALLBUILDCHECKBUILD BIN
Organism.dplyr 1.20.0  (landing page)
Martin Morgan
git_last_commit: 1806248
git_last_commit_date: 2021-05-19 12:26:12 -0400
nebbiolo1Linux (Ubuntu 20.04.2 LTS) / x86_64  OK    OK    OK  UNNEEDED, same version is already published
tokay2Windows Server 2012 R2 Standard / x64  OK    OK    OK    OK  UNNEEDED, same version is already published
machv2macOS 10.14.6 Mojave / x86_64  OK    OK    OK    OK  UNNEEDED, same version is already published
Package 174/260HostnameOS / ArchINSTALLBUILDCHECKBUILD BIN
panelcn.mops 1.14.0  (landing page)
Gundula Povysil
git_last_commit: 88ac1dc
git_last_commit_date: 2021-05-19 12:30:31 -0400
nebbiolo1Linux (Ubuntu 20.04.2 LTS) / x86_64  OK    OK    OK  UNNEEDED, same version is already published
tokay2Windows Server 2012 R2 Standard / x64  OK    OK    OK    OK  UNNEEDED, same version is already published
machv2macOS 10.14.6 Mojave / x86_64  OK    OK    OK    OK  UNNEEDED, same version is already published
Package 175/260HostnameOS / ArchINSTALLBUILDCHECKBUILD BIN
periodicDNA 1.2.0  (landing page)
Jacques Serizay
git_last_commit: 0a265ed
git_last_commit_date: 2021-05-19 12:55:16 -0400
nebbiolo1Linux (Ubuntu 20.04.2 LTS) / x86_64  OK    OK    OK  UNNEEDED, same version is already published
tokay2Windows Server 2012 R2 Standard / x64  OK    OK    OK    OK  UNNEEDED, same version is already published
machv2macOS 10.14.6 Mojave / x86_64  OK    OK    OK    OK  UNNEEDED, same version is already published
Package 176/260HostnameOS / ArchINSTALLBUILDCHECKBUILD BIN
Pi 2.4.0  (landing page)
Hai Fang
git_last_commit: e5fb99d
git_last_commit_date: 2021-05-19 12:23:10 -0400
nebbiolo1Linux (Ubuntu 20.04.2 LTS) / x86_64  OK    OK    WARNINGS  UNNEEDED, same version is already published
tokay2Windows Server 2012 R2 Standard / x64  OK    OK    WARNINGS    OK  UNNEEDED, same version is already published
machv2macOS 10.14.6 Mojave / x86_64  OK    OK    WARNINGS    OK  UNNEEDED, same version is already published
Package 177/260HostnameOS / ArchINSTALLBUILDCHECKBUILD BIN
pipeFrame 1.8.0  (landing page)
Zheng Wei
git_last_commit: e733729
git_last_commit_date: 2021-05-19 12:43:19 -0400
nebbiolo1Linux (Ubuntu 20.04.2 LTS) / x86_64  OK    OK    OK  UNNEEDED, same version is already published
tokay2Windows Server 2012 R2 Standard / x64  OK    OK    OK    OK  UNNEEDED, same version is already published
machv2macOS 10.14.6 Mojave / x86_64  OK    OK    OK    OK  UNNEEDED, same version is already published
Package 178/260HostnameOS / ArchINSTALLBUILDCHECKBUILD BIN
plyranges 1.12.1  (landing page)
Stuart Lee
git_last_commit: e3563e8
git_last_commit_date: 2021-06-27 21:18:53 -0400
nebbiolo1Linux (Ubuntu 20.04.2 LTS) / x86_64  OK    OK    OK  UNNEEDED, same version is already published
tokay2Windows Server 2012 R2 Standard / x64  OK    OK    OK    OK  UNNEEDED, same version is already published
machv2macOS 10.14.6 Mojave / x86_64  OK    OK    OK    OK  UNNEEDED, same version is already published
Package 179/260HostnameOS / ArchINSTALLBUILDCHECKBUILD BIN
podkat 1.24.0  (landing page)
Ulrich Bodenhofer
git_last_commit: 01fa5e3
git_last_commit_date: 2021-05-19 12:12:22 -0400
nebbiolo1Linux (Ubuntu 20.04.2 LTS) / x86_64  OK    OK    OK  UNNEEDED, same version is already published
tokay2Windows Server 2012 R2 Standard / x64  OK    OK    OK    OK  UNNEEDED, same version is already published
machv2macOS 10.14.6 Mojave / x86_64  OK    OK    OK    OK  UNNEEDED, same version is already published
Package 180/260HostnameOS / ArchINSTALLBUILDCHECKBUILD BIN
pram 1.8.0  (landing page)
Peng Liu
git_last_commit: 3e967c2
git_last_commit_date: 2021-05-19 12:41:41 -0400
nebbiolo1Linux (Ubuntu 20.04.2 LTS) / x86_64  OK    OK    OK  UNNEEDED, same version is already published
tokay2Windows Server 2012 R2 Standard / x64  OK    OK    OK    OK  UNNEEDED, same version is already published
machv2macOS 10.14.6 Mojave / x86_64  OK    OK    OK    OK  UNNEEDED, same version is already published
Package 181/260HostnameOS / ArchINSTALLBUILDCHECKBUILD BIN
prebs 1.32.0  (landing page)
Karolis Uziela
git_last_commit: 67c681b
git_last_commit_date: 2021-05-19 11:58:40 -0400
nebbiolo1Linux (Ubuntu 20.04.2 LTS) / x86_64  OK    OK    OK  UNNEEDED, same version is already published
tokay2Windows Server 2012 R2 Standard / x64  OK    OK    OK    OK  UNNEEDED, same version is already published
machv2macOS 10.14.6 Mojave / x86_64  OK    OK    OK    OK  UNNEEDED, same version is already published
Package 182/260HostnameOS / ArchINSTALLBUILDCHECKBUILD BIN
proActiv 1.2.0  (landing page)
Joseph Lee
git_last_commit: 0a66788
git_last_commit_date: 2021-05-19 12:55:29 -0400
nebbiolo1Linux (Ubuntu 20.04.2 LTS) / x86_64  OK    OK    OK  UNNEEDED, same version is already published
tokay2Windows Server 2012 R2 Standard / x64  OK    OK    OK    OK  UNNEEDED, same version is already published
machv2macOS 10.14.6 Mojave / x86_64  OK    OK    OK    OK  UNNEEDED, same version is already published
Package 183/260HostnameOS / ArchINSTALLBUILDCHECKBUILD BIN
profileplyr 1.8.1  (landing page)
Tom Carroll , Doug Barrows
git_last_commit: 7623d2f
git_last_commit_date: 2021-08-09 11:06:54 -0400
nebbiolo1Linux (Ubuntu 20.04.2 LTS) / x86_64  OK    OK    OK  UNNEEDED, same version is already published
tokay2Windows Server 2012 R2 Standard / x64  OK    OK    OK    OK  UNNEEDED, same version is already published
machv2macOS 10.14.6 Mojave / x86_64  OK    OK    OK    OK  UNNEEDED, same version is already published
Package 184/260HostnameOS / ArchINSTALLBUILDCHECKBUILD BIN
ProteomicsAnnotationHubData 1.22.0  (landing page)
Laurent Gatto
git_last_commit: f070c64
git_last_commit_date: 2021-05-19 12:15:31 -0400
nebbiolo1Linux (Ubuntu 20.04.2 LTS) / x86_64  OK    OK    OK  UNNEEDED, same version is already published
tokay2Windows Server 2012 R2 Standard / x64  OK    OK    OK    OK  UNNEEDED, same version is already published
machv2macOS 10.14.6 Mojave / x86_64  OK    OK    OK    OK  UNNEEDED, same version is already published
Package 185/260HostnameOS / ArchINSTALLBUILDCHECKBUILD BIN
PureCN 1.22.2  (landing page)
Markus Riester
git_last_commit: 1d595f4
git_last_commit_date: 2021-07-01 13:33:13 -0400
nebbiolo1Linux (Ubuntu 20.04.2 LTS) / x86_64  OK    OK    OK  UNNEEDED, same version is already published
tokay2Windows Server 2012 R2 Standard / x64  OK    OK    OK    OK  UNNEEDED, same version is already published
machv2macOS 10.14.6 Mojave / x86_64  OK    OK    OK    OK  UNNEEDED, same version is already published
Package 186/260HostnameOS / ArchINSTALLBUILDCHECKBUILD BIN
qpgraph 2.26.0  (landing page)
Robert Castelo
git_last_commit: 80062b5
git_last_commit_date: 2021-05-19 11:42:31 -0400
nebbiolo1Linux (Ubuntu 20.04.2 LTS) / x86_64  OK    OK    WARNINGS  UNNEEDED, same version is already published
tokay2Windows Server 2012 R2 Standard / x64  OK    OK    WARNINGS    OK  UNNEEDED, same version is already published
machv2macOS 10.14.6 Mojave / x86_64  OK    OK    WARNINGS    OK  UNNEEDED, same version is already published
Package 187/260HostnameOS / ArchINSTALLBUILDCHECKBUILD BIN
qsea 1.18.0  (landing page)
Matthias Lienhard
git_last_commit: f23006b
git_last_commit_date: 2021-05-19 12:21:24 -0400
nebbiolo1Linux (Ubuntu 20.04.2 LTS) / x86_64  OK    OK    OK  UNNEEDED, same version is already published
tokay2Windows Server 2012 R2 Standard / x64  OK    OK    OK    OK  UNNEEDED, same version is already published
machv2macOS 10.14.6 Mojave / x86_64  OK    OK    OK    OK  UNNEEDED, same version is already published
Package 188/260HostnameOS / ArchINSTALLBUILDCHECKBUILD BIN
QuasR 1.32.0  (landing page)
Michael Stadler
git_last_commit: b24d275
git_last_commit_date: 2021-05-19 11:55:11 -0400
nebbiolo1Linux (Ubuntu 20.04.2 LTS) / x86_64  OK    OK    OK  UNNEEDED, same version is already published
tokay2Windows Server 2012 R2 Standard / x64  OK    OK    OK    OK  UNNEEDED, same version is already published
machv2macOS 10.14.6 Mojave / x86_64  OK    OK    OK    OK  UNNEEDED, same version is already published
Package 189/260HostnameOS / ArchINSTALLBUILDCHECKBUILD BIN
R3CPET 1.24.0  (landing page)
Mohamed Nadhir Djekidel
git_last_commit: 577029f
git_last_commit_date: 2021-05-19 12:13:16 -0400
nebbiolo1Linux (Ubuntu 20.04.2 LTS) / x86_64  OK    OK    OK  UNNEEDED, same version is already published
tokay2Windows Server 2012 R2 Standard / x64  OK    OK    OK    OK  UNNEEDED, same version is already published
machv2macOS 10.14.6 Mojave / x86_64  OK    OK    OK    OK  UNNEEDED, same version is already published
Package 190/260HostnameOS / ArchINSTALLBUILDCHECKBUILD BIN
r3Cseq 1.38.0  (landing page)
Supat Thongjuea or
git_last_commit: f159c04
git_last_commit_date: 2021-05-19 11:50:26 -0400
nebbiolo1Linux (Ubuntu 20.04.2 LTS) / x86_64  OK    OK    OK  UNNEEDED, same version is already published
tokay2Windows Server 2012 R2 Standard / x64  OK    OK    OK    OK  UNNEEDED, same version is already published
machv2macOS 10.14.6 Mojave / x86_64  OK    OK    OK    OK  UNNEEDED, same version is already published
Package 191/260HostnameOS / ArchINSTALLBUILDCHECKBUILD BIN
RaggedExperiment 1.16.0  (landing page)
Martin Morgan
git_last_commit: a1c10f7
git_last_commit_date: 2021-05-19 12:27:07 -0400
nebbiolo1Linux (Ubuntu 20.04.2 LTS) / x86_64  OK    OK    OK  UNNEEDED, same version is already published
tokay2Windows Server 2012 R2 Standard / x64  OK    OK    OK    OK  UNNEEDED, same version is already published
machv2macOS 10.14.6 Mojave / x86_64  OK    OK    OK    OK  UNNEEDED, same version is already published
Package 192/260HostnameOS / ArchINSTALLBUILDCHECKBUILD BIN
RareVariantVis 2.20.0  (landing page)
Tomasz Stokowy
git_last_commit: 2e6f87c
git_last_commit_date: 2021-05-19 12:14:00 -0400
nebbiolo1Linux (Ubuntu 20.04.2 LTS) / x86_64  OK    OK    OK  UNNEEDED, same version is already published
tokay2Windows Server 2012 R2 Standard / x64  OK    OK    OK    OK  UNNEEDED, same version is already published
machv2macOS 10.14.6 Mojave / x86_64  OK    OK    OK    OK  UNNEEDED, same version is already published
Package 193/260HostnameOS / ArchINSTALLBUILDCHECKBUILD BIN
Rcade 1.34.0  (landing page)
Jonathan Cairns
git_last_commit: d311ac7
git_last_commit_date: 2021-05-19 11:54:24 -0400
nebbiolo1Linux (Ubuntu 20.04.2 LTS) / x86_64  OK    OK    OK  UNNEEDED, same version is already published
tokay2Windows Server 2012 R2 Standard / x64  OK    OK    OK    OK  UNNEEDED, same version is already published
machv2macOS 10.14.6 Mojave / x86_64  OK    OK    OK    OK  UNNEEDED, same version is already published
Package 194/260HostnameOS / ArchINSTALLBUILDCHECKBUILD BIN
RCAS 1.18.0  (landing page)
Bora Uyar
git_last_commit: ffebafc
git_last_commit_date: 2021-05-19 12:21:54 -0400
nebbiolo1Linux (Ubuntu 20.04.2 LTS) / x86_64  OK    OK    OK  UNNEEDED, same version is already published
tokay2Windows Server 2012 R2 Standard / x64  OK    OK    OK    OK  UNNEEDED, same version is already published
machv2macOS 10.14.6 Mojave / x86_64  OK    OK    OK    OK  UNNEEDED, same version is already published
Package 195/260HostnameOS / ArchINSTALLBUILDCHECKBUILD BIN
rCGH 1.22.0  (landing page)
Frederic Commo
git_last_commit: 23845ef
git_last_commit_date: 2021-05-19 12:14:32 -0400
nebbiolo1Linux (Ubuntu 20.04.2 LTS) / x86_64  OK    OK    OK  UNNEEDED, same version is already published
tokay2Windows Server 2012 R2 Standard / x64  OK    OK    OK    OK  UNNEEDED, same version is already published
machv2macOS 10.14.6 Mojave / x86_64  OK    OK    OK    OK  UNNEEDED, same version is already published
Package 196/260HostnameOS / ArchINSTALLBUILDCHECKBUILD BIN
RcisTarget 1.12.0  (landing page)
Sara Aibar
git_last_commit: da8bb0d
git_last_commit_date: 2021-05-19 12:32:51 -0400
nebbiolo1Linux (Ubuntu 20.04.2 LTS) / x86_64  OK    OK    WARNINGS  UNNEEDED, same version is already published
tokay2Windows Server 2012 R2 Standard / x64  OK    OK    WARNINGS    OK  UNNEEDED, same version is already published
machv2macOS 10.14.6 Mojave / x86_64  OK    OK    WARNINGS    OK  UNNEEDED, same version is already published
Package 197/260HostnameOS / ArchINSTALLBUILDCHECKBUILD BIN
recount 1.18.1  (landing page)
Leonardo Collado-Torres
git_last_commit: 64a92e6
git_last_commit_date: 2021-08-09 23:03:59 -0400
nebbiolo1Linux (Ubuntu 20.04.2 LTS) / x86_64  OK    OK    OK  UNNEEDED, same version is already published
tokay2Windows Server 2012 R2 Standard / x64  OK    OK    ERROR    OK  
machv2macOS 10.14.6 Mojave / x86_64  OK    OK    OK    OK  UNNEEDED, same version is already published
Package 198/260HostnameOS / ArchINSTALLBUILDCHECKBUILD BIN
recoup 1.20.0  (landing page)
Panagiotis Moulos
git_last_commit: 1b90812
git_last_commit_date: 2021-05-19 12:19:08 -0400
nebbiolo1Linux (Ubuntu 20.04.2 LTS) / x86_64  OK    OK    ERROR  
tokay2Windows Server 2012 R2 Standard / x64  OK    OK    ERROR    OK  
machv2macOS 10.14.6 Mojave / x86_64  OK    OK    ERROR    OK  
Package 199/260HostnameOS / ArchINSTALLBUILDCHECKBUILD BIN
regioneR 1.24.0  (landing page)
Bernat Gel
git_last_commit: 3cbcdab
git_last_commit_date: 2021-05-19 12:12:34 -0400
nebbiolo1Linux (Ubuntu 20.04.2 LTS) / x86_64  OK    OK    OK  UNNEEDED, same version is already published
tokay2Windows Server 2012 R2 Standard / x64  OK    OK    OK    OK  UNNEEDED, same version is already published
machv2macOS 10.14.6 Mojave / x86_64  OK    OK    OK    OK  UNNEEDED, same version is already published
Package 200/260HostnameOS / ArchINSTALLBUILDCHECKBUILD BIN
regionReport 1.26.0  (landing page)
Leonardo Collado-Torres
git_last_commit: 985fa5a
git_last_commit_date: 2021-05-19 12:08:17 -0400
nebbiolo1Linux (Ubuntu 20.04.2 LTS) / x86_64  OK    OK    OK  UNNEEDED, same version is already published
tokay2Windows Server 2012 R2 Standard / x64  OK    OK    ERROR    OK  
machv2macOS 10.14.6 Mojave / x86_64  OK    ERROR  skippedskipped
Package 201/260HostnameOS / ArchINSTALLBUILDCHECKBUILD BIN
REMP 1.16.0  (landing page)
Yinan Zheng
git_last_commit: 9be0aa3
git_last_commit_date: 2021-05-19 12:25:51 -0400
nebbiolo1Linux (Ubuntu 20.04.2 LTS) / x86_64  OK    OK    OK  UNNEEDED, same version is already published
tokay2Windows Server 2012 R2 Standard / x64  OK    OK    OK    OK  UNNEEDED, same version is already published
machv2macOS 10.14.6 Mojave / x86_64  OK    ERROR  skippedskipped
Package 202/260HostnameOS / ArchINSTALLBUILDCHECKBUILD BIN
Repitools 1.38.0  (landing page)
Mark Robinson
git_last_commit: dc767d1
git_last_commit_date: 2021-05-19 11:49:04 -0400
nebbiolo1Linux (Ubuntu 20.04.2 LTS) / x86_64  OK    OK    OK  UNNEEDED, same version is already published
tokay2Windows Server 2012 R2 Standard / x64  OK    OK    OK    OK  UNNEEDED, same version is already published
machv2macOS 10.14.6 Mojave / x86_64  OK    OK    OK    OK  UNNEEDED, same version is already published
Package 203/260HostnameOS / ArchINSTALLBUILDCHECKBUILD BIN
RiboProfiling 1.22.0  (landing page)
A. Popa
git_last_commit: a315cdd
git_last_commit_date: 2021-05-19 12:16:23 -0400
nebbiolo1Linux (Ubuntu 20.04.2 LTS) / x86_64  OK    OK    WARNINGS  UNNEEDED, same version is already published
tokay2Windows Server 2012 R2 Standard / x64  OK    OK    WARNINGS    OK  UNNEEDED, same version is already published
machv2macOS 10.14.6 Mojave / x86_64  OK    OK    WARNINGS    OK  UNNEEDED, same version is already published
Package 204/260HostnameOS / ArchINSTALLBUILDCHECKBUILD BIN
riboSeqR 1.26.0  (landing page)
Thomas J. Hardcastle
git_last_commit: 8c2c4ed
git_last_commit_date: 2021-05-19 12:05:43 -0400
nebbiolo1Linux (Ubuntu 20.04.2 LTS) / x86_64  OK    OK    OK  UNNEEDED, same version is already published
tokay2Windows Server 2012 R2 Standard / x64  OK    OK    OK    OK  UNNEEDED, same version is already published
machv2macOS 10.14.6 Mojave / x86_64  OK    OK    OK    OK  UNNEEDED, same version is already published
Package 205/260HostnameOS / ArchINSTALLBUILDCHECKBUILD BIN
ribosomeProfilingQC 1.4.0  (landing page)
Jianhong Ou
git_last_commit: 482e0e7
git_last_commit_date: 2021-05-19 12:49:46 -0400
nebbiolo1Linux (Ubuntu 20.04.2 LTS) / x86_64  OK    OK    OK  UNNEEDED, same version is already published
tokay2Windows Server 2012 R2 Standard / x64  OK    OK    OK    OK  UNNEEDED, same version is already published
machv2macOS 10.14.6 Mojave / x86_64  OK    OK    OK    OK  UNNEEDED, same version is already published
Package 206/260HostnameOS / ArchINSTALLBUILDCHECKBUILD BIN
RJMCMCNucleosomes 1.16.0  (landing page)
Astrid Deschênes
git_last_commit: ff26964
git_last_commit_date: 2021-05-19 12:25:12 -0400
nebbiolo1Linux (Ubuntu 20.04.2 LTS) / x86_64  OK    OK    OK  UNNEEDED, same version is already published
tokay2Windows Server 2012 R2 Standard / x64  OK    OK    OK    OK  UNNEEDED, same version is already published
machv2macOS 10.14.6 Mojave / x86_64  OK    OK    OK    OK  UNNEEDED, same version is already published
Package 207/260HostnameOS / ArchINSTALLBUILDCHECKBUILD BIN
rnaEditr 1.2.0  (landing page)
Lanyu Zhang
git_last_commit: 377f691
git_last_commit_date: 2021-05-19 12:56:26 -0400
nebbiolo1Linux (Ubuntu 20.04.2 LTS) / x86_64  OK    OK    OK  UNNEEDED, same version is already published
tokay2Windows Server 2012 R2 Standard / x64  OK    OK    OK    OK  UNNEEDED, same version is already published
machv2macOS 10.14.6 Mojave / x86_64  OK    OK    OK    OK  UNNEEDED, same version is already published
Package 208/260HostnameOS / ArchINSTALLBUILDCHECKBUILD BIN
RNAmodR 1.6.0  (landing page)
Felix G.M. Ernst
git_last_commit: c7b25bf
git_last_commit_date: 2021-05-19 12:44:18 -0400
nebbiolo1Linux (Ubuntu 20.04.2 LTS) / x86_64  OK    OK    OK  UNNEEDED, same version is already published
tokay2Windows Server 2012 R2 Standard / x64  OK    OK    OK    OK  UNNEEDED, same version is already published
machv2macOS 10.14.6 Mojave / x86_64  OK    OK    OK    OK  UNNEEDED, same version is already published
Package 209/260HostnameOS / ArchINSTALLBUILDCHECKBUILD BIN
roar 1.28.0  (landing page)
Elena Grassi
git_last_commit: 34c7fa7
git_last_commit_date: 2021-05-19 12:02:13 -0400
nebbiolo1Linux (Ubuntu 20.04.2 LTS) / x86_64  OK    OK    OK  UNNEEDED, same version is already published
tokay2Windows Server 2012 R2 Standard / x64  OK    OK    OK    OK  UNNEEDED, same version is already published
machv2macOS 10.14.6 Mojave / x86_64  OK    OK    OK    OK  UNNEEDED, same version is already published
Package 210/260HostnameOS / ArchINSTALLBUILDCHECKBUILD BIN
Rsamtools 2.8.0  (landing page)
Bioconductor Package Maintainer
git_last_commit: 45d46ab
git_last_commit_date: 2021-05-19 11:45:07 -0400
nebbiolo1Linux (Ubuntu 20.04.2 LTS) / x86_64  OK    OK    WARNINGS  UNNEEDED, same version is already published
tokay2Windows Server 2012 R2 Standard / x64  OK    OK    WARNINGS    OK  UNNEEDED, same version is already published
machv2macOS 10.14.6 Mojave / x86_64  OK    OK    WARNINGS    OK  UNNEEDED, same version is already published
Package 211/260HostnameOS / ArchINSTALLBUILDCHECKBUILD BIN
RTCGAToolbox 2.22.1  (landing page)
Marcel Ramos
git_last_commit: adc18d9
git_last_commit_date: 2021-06-14 16:46:27 -0400
nebbiolo1Linux (Ubuntu 20.04.2 LTS) / x86_64  OK    OK    OK  UNNEEDED, same version is already published
tokay2Windows Server 2012 R2 Standard / x64  OK    OK    OK    OK  UNNEEDED, same version is already published
machv2macOS 10.14.6 Mojave / x86_64  OK    OK    OK    OK  UNNEEDED, same version is already published
Package 212/260HostnameOS / ArchINSTALLBUILDCHECKBUILD BIN