Back to Multiple platform build/check report for BioC 3.13
ABCDEF[G]HIJKLMNOPQRSTUVWXYZ

This page was generated on 2021-09-24 15:05:46 -0400 (Fri, 24 Sep 2021).

BUILD results for GenoGAM on nebbiolo1

To the developers/maintainers of the GenoGAM package:
- Please allow up to 24 hours (and sometimes 48 hours) for your latest push to git@git.bioconductor.org:packages/GenoGAM.git to
reflect on this report. See How and When does the builder pull? When will my changes propagate? here for more information.
- Make sure to use the following settings in order to reproduce any error or warning you see on this page.

raw results

Package 734/2041HostnameOS / ArchINSTALLBUILDCHECKBUILD BIN
GenoGAM 2.10.0  (landing page)
Georg Stricker
Snapshot Date: 2021-09-23 04:50:12 -0400 (Thu, 23 Sep 2021)
git_url: https://git.bioconductor.org/packages/GenoGAM
git_branch: RELEASE_3_13
git_last_commit: 3b86b0c
git_last_commit_date: 2021-05-19 12:19:19 -0400 (Wed, 19 May 2021)
nebbiolo1Linux (Ubuntu 20.04.2 LTS) / x86_64  OK    OK    WARNINGS  UNNEEDED, same version is already published
tokay2Windows Server 2012 R2 Standard / x64  OK    OK    WARNINGS    OK  UNNEEDED, same version is already published
machv2macOS 10.14.6 Mojave / x86_64  OK    OK    WARNINGS    OK  UNNEEDED, same version is already published

Summary

Package: GenoGAM
Version: 2.10.0
Command: /home/biocbuild/bbs-3.13-bioc/R/bin/R CMD build --keep-empty-dirs --no-resave-data GenoGAM
StartedAt: 2021-09-23 07:18:26 -0400 (Thu, 23 Sep 2021)
EndedAt: 2021-09-23 07:20:21 -0400 (Thu, 23 Sep 2021)
EllapsedTime: 114.8 seconds
RetCode: 0
Status:   OK  
PackageFile: GenoGAM_2.10.0.tar.gz
PackageFileSize: 3.805 MiB

Command output

##############################################################################
##############################################################################
###
### Running command:
###
###   /home/biocbuild/bbs-3.13-bioc/R/bin/R CMD build --keep-empty-dirs --no-resave-data GenoGAM
###
##############################################################################
##############################################################################


* checking for file ‘GenoGAM/DESCRIPTION’ ... OK
* preparing ‘GenoGAM’:
* checking DESCRIPTION meta-information ... OK
* cleaning src
* installing the package to build vignettes
* creating vignettes ... OK
* cleaning src
* checking for LF line-endings in source and make files and shell scripts
* checking for empty or unneeded directories
Omitted ‘LazyData’ from DESCRIPTION
* building ‘GenoGAM_2.10.0.tar.gz’