Back to Multiple platform build/check report for BioC 3.13
ABCDEF[G]HIJKLMNOPQRSTUVWXYZ

This page was generated on 2021-09-13 15:06:58 -0400 (Mon, 13 Sep 2021).

BUILD BIN results for GenoGAM on machv2

To the developers/maintainers of the GenoGAM package:
- Please allow up to 24 hours (and sometimes 48 hours) for your latest push to git@git.bioconductor.org:packages/GenoGAM.git to
reflect on this report. See How and When does the builder pull? When will my changes propagate? here for more information.
- Make sure to use the following settings in order to reproduce any error or warning you see on this page.

raw results

Package 734/2041HostnameOS / ArchINSTALLBUILDCHECKBUILD BIN
GenoGAM 2.10.0  (landing page)
Georg Stricker
Snapshot Date: 2021-09-12 04:50:10 -0400 (Sun, 12 Sep 2021)
git_url: https://git.bioconductor.org/packages/GenoGAM
git_branch: RELEASE_3_13
git_last_commit: 3b86b0c
git_last_commit_date: 2021-05-19 12:19:19 -0400 (Wed, 19 May 2021)
nebbiolo1Linux (Ubuntu 20.04.2 LTS) / x86_64  OK    OK    WARNINGS  UNNEEDED, same version is already published
tokay2Windows Server 2012 R2 Standard / x64  OK    OK    WARNINGS    OK  UNNEEDED, same version is already published
machv2macOS 10.14.6 Mojave / x86_64  OK    OK    WARNINGS    OK  UNNEEDED, same version is already published

Summary

Package: GenoGAM
Version: 2.10.0
Command: rm -rf GenoGAM.buildbin-libdir && mkdir GenoGAM.buildbin-libdir && /Users/biocbuild/BBS/utils/build-universal.sh GenoGAM_2.10.0.tar.gz /Library/Frameworks/R.framework/Versions/Current/Resources/bin/R GenoGAM.buildbin-libdir
StartedAt: 2021-09-13 02:33:34 -0400 (Mon, 13 Sep 2021)
EndedAt: 2021-09-13 02:34:45 -0400 (Mon, 13 Sep 2021)
EllapsedTime: 70.5 seconds
RetCode: 0
Status:   OK  
PackageFile: GenoGAM_2.10.0.tgz
PackageFileSize: 4.919 MiB

Command output

##############################################################################
##############################################################################
###
### Running command:
###
###   rm -rf GenoGAM.buildbin-libdir && mkdir GenoGAM.buildbin-libdir && /Users/biocbuild/BBS/utils/build-universal.sh GenoGAM_2.10.0.tar.gz /Library/Frameworks/R.framework/Versions/Current/Resources/bin/R GenoGAM.buildbin-libdir
###
##############################################################################
##############################################################################


>>>>>>> 
>>>>>>> INSTALLATION WITH 'R CMD INSTALL --preclean --no-multiarch --library=GenoGAM.buildbin-libdir GenoGAM_2.10.0.tar.gz'
>>>>>>> 

* installing *source* package ‘GenoGAM’ ...
** using staged installation
** libs
clang++ -mmacosx-version-min=10.13 -std=gnu++11 -I"/Library/Frameworks/R.framework/Resources/include" -DNDEBUG -I../inst/include -DARMA_64BIT_WORD=1 -I'/Library/Frameworks/R.framework/Versions/4.1/Resources/library/Rcpp/include' -I'/Library/Frameworks/R.framework/Versions/4.1/Resources/library/RcppArmadillo/include' -I/usr/local/include   -fPIC  -Wall -g -O2  -c RcppExports.cpp -o RcppExports.o
clang++ -mmacosx-version-min=10.13 -std=gnu++11 -I"/Library/Frameworks/R.framework/Resources/include" -DNDEBUG -I../inst/include -DARMA_64BIT_WORD=1 -I'/Library/Frameworks/R.framework/Versions/4.1/Resources/library/Rcpp/include' -I'/Library/Frameworks/R.framework/Versions/4.1/Resources/library/RcppArmadillo/include' -I/usr/local/include   -fPIC  -Wall -g -O2  -c matrixMult.cpp -o matrixMult.o
clang++ -mmacosx-version-min=10.13 -std=gnu++11 -dynamiclib -Wl,-headerpad_max_install_names -undefined dynamic_lookup -single_module -multiply_defined suppress -L/Library/Frameworks/R.framework/Resources/lib -L/usr/local/lib -o GenoGAM.so RcppExports.o matrixMult.o -L/Library/Frameworks/R.framework/Resources/lib -lRlapack -L/Library/Frameworks/R.framework/Resources/lib -lRblas -L/usr/local/gfortran/lib/gcc/x86_64-apple-darwin18/8.2.0 -L/usr/local/gfortran/lib -lgfortran -lquadmath -lm -F/Library/Frameworks/R.framework/.. -framework R -Wl,-framework -Wl,CoreFoundation
installing to /Users/biocbuild/bbs-3.13-bioc/meat/GenoGAM.buildbin-libdir/00LOCK-GenoGAM/00new/GenoGAM/libs
** R
** inst
** byte-compile and prepare package for lazy loading
Warning: replacing previous import ‘HDF5Array::h5ls’ by ‘rhdf5::h5ls’ when loading ‘GenoGAM’
Warning: replacing previous import ‘S4Vectors::na.omit’ by ‘stats::na.omit’ when loading ‘GenoGAM’
** help
*** installing help indices
** building package indices
** installing vignettes
** testing if installed package can be loaded from temporary location
Warning: replacing previous import ‘HDF5Array::h5ls’ by ‘rhdf5::h5ls’ when loading ‘GenoGAM’
Warning: replacing previous import ‘S4Vectors::na.omit’ by ‘stats::na.omit’ when loading ‘GenoGAM’
** checking absolute paths in shared objects and dynamic libraries
** testing if installed package can be loaded from final location
Warning: replacing previous import ‘HDF5Array::h5ls’ by ‘rhdf5::h5ls’ when loading ‘GenoGAM’
Warning: replacing previous import ‘S4Vectors::na.omit’ by ‘stats::na.omit’ when loading ‘GenoGAM’
** testing if installed package keeps a record of temporary installation path
* DONE (GenoGAM)


>>>>>>> 
>>>>>>> FIXING LINKS FOR GenoGAM.buildbin-libdir/GenoGAM/libs/GenoGAM.so
>>>>>>> 

install_name_tool -change "/usr/local/lib/libgcc_s.1.dylib" "/Library/Frameworks/R.framework/Versions/4.1/Resources/lib/libgcc_s.1.dylib" "GenoGAM.buildbin-libdir/GenoGAM/libs/GenoGAM.so"
install_name_tool -change "/usr/local/lib/libgfortran.5.dylib" "/Library/Frameworks/R.framework/Versions/4.1/Resources/lib/libgfortran.5.dylib" "GenoGAM.buildbin-libdir/GenoGAM/libs/GenoGAM.so"
install_name_tool -change "/usr/local/lib/libquadmath.0.dylib" "/Library/Frameworks/R.framework/Versions/4.1/Resources/lib/libquadmath.0.dylib" "GenoGAM.buildbin-libdir/GenoGAM/libs/GenoGAM.so"
install_name_tool -change "/usr/local/gfortran/lib/libgfortran.5.dylib" "/Library/Frameworks/R.framework/Versions/4.1/Resources/lib/libgfortran.5.dylib" "GenoGAM.buildbin-libdir/GenoGAM/libs/GenoGAM.so"
install_name_tool -change "/usr/local/gfortran/lib/libquadmath.0.dylib" "/Library/Frameworks/R.framework/Versions/4.1/Resources/lib/libquadmath.0.dylib" "GenoGAM.buildbin-libdir/GenoGAM/libs/GenoGAM.so"