Back to Multiple platform build/check report for BioC 3.13
ABCDEF[G]HIJKLMNOPQRSTUVWXYZ

This page was generated on 2021-09-24 15:06:42 -0400 (Fri, 24 Sep 2021).

INSTALL results for GeneTonic on machv2

To the developers/maintainers of the GeneTonic package:
- Please allow up to 24 hours (and sometimes 48 hours) for your latest push to git@git.bioconductor.org:packages/GeneTonic.git to
reflect on this report. See How and When does the builder pull? When will my changes propagate? here for more information.
- Make sure to use the following settings in order to reproduce any error or warning you see on this page.

raw results

Package 730/2041HostnameOS / ArchINSTALLBUILDCHECKBUILD BIN
GeneTonic 1.4.1  (landing page)
Federico Marini
Snapshot Date: 2021-09-23 04:50:12 -0400 (Thu, 23 Sep 2021)
git_url: https://git.bioconductor.org/packages/GeneTonic
git_branch: RELEASE_3_13
git_last_commit: 32c4e77
git_last_commit_date: 2021-06-04 17:41:55 -0400 (Fri, 04 Jun 2021)
nebbiolo1Linux (Ubuntu 20.04.2 LTS) / x86_64  OK    OK    OK  UNNEEDED, same version is already published
tokay2Windows Server 2012 R2 Standard / x64  OK    OK    OK    OK  UNNEEDED, same version is already published
machv2macOS 10.14.6 Mojave / x86_64  OK    OK    OK    OK  UNNEEDED, same version is already published

Summary

Package: GeneTonic
Version: 1.4.1
Command: /Library/Frameworks/R.framework/Versions/Current/Resources/bin/R CMD INSTALL GeneTonic
StartedAt: 2021-09-23 09:37:37 -0400 (Thu, 23 Sep 2021)
EndedAt: 2021-09-23 09:38:21 -0400 (Thu, 23 Sep 2021)
EllapsedTime: 43.8 seconds
RetCode: 0
Status:   OK  

Command output

##############################################################################
##############################################################################
###
### Running command:
###
###   /Library/Frameworks/R.framework/Versions/Current/Resources/bin/R CMD INSTALL GeneTonic
###
##############################################################################
##############################################################################


* installing to library ‘/Library/Frameworks/R.framework/Versions/4.1/Resources/library’
* installing *source* package ‘GeneTonic’ ...
** using staged installation
** R
** data
** inst
** byte-compile and prepare package for lazy loading
** help
*** installing help indices
** building package indices
** installing vignettes
** testing if installed package can be loaded from temporary location
** testing if installed package can be loaded from final location
** testing if installed package keeps a record of temporary installation path
* DONE (GeneTonic)