Back to Multiple platform build/check report for BioC 3.13
ABCDEF[G]HIJKLMNOPQRSTUVWXYZ

This page was generated on 2021-09-20 15:05:42 -0400 (Mon, 20 Sep 2021).

BUILD results for GeneStructureTools on machv2

To the developers/maintainers of the GeneStructureTools package:
- Please allow up to 24 hours (and sometimes 48 hours) for your latest push to git@git.bioconductor.org:packages/GeneStructureTools.git to
reflect on this report. See How and When does the builder pull? When will my changes propagate? here for more information.
- Make sure to use the following settings in order to reproduce any error or warning you see on this page.

raw results

Package 727/2041HostnameOS / ArchINSTALLBUILDCHECKBUILD BIN
GeneStructureTools 1.12.0  (landing page)
Beth Signal
Snapshot Date: 2021-09-19 04:50:10 -0400 (Sun, 19 Sep 2021)
git_url: https://git.bioconductor.org/packages/GeneStructureTools
git_branch: RELEASE_3_13
git_last_commit: 1b05c47
git_last_commit_date: 2021-05-19 12:33:53 -0400 (Wed, 19 May 2021)
nebbiolo1Linux (Ubuntu 20.04.2 LTS) / x86_64  OK    OK    OK  UNNEEDED, same version is already published
tokay2Windows Server 2012 R2 Standard / x64  OK    OK    OK    OK  UNNEEDED, same version is already published
machv2macOS 10.14.6 Mojave / x86_64  OK    OK    OK    OK  UNNEEDED, same version is already published

Summary

Package: GeneStructureTools
Version: 1.12.0
Command: /Library/Frameworks/R.framework/Versions/Current/Resources/bin/R CMD build --keep-empty-dirs --no-resave-data GeneStructureTools
StartedAt: 2021-09-19 12:10:29 -0400 (Sun, 19 Sep 2021)
EndedAt: 2021-09-19 12:13:47 -0400 (Sun, 19 Sep 2021)
EllapsedTime: 198.0 seconds
RetCode: 0
Status:   OK  
PackageFile: GeneStructureTools_1.12.0.tar.gz
PackageFileSize: 2.476 MiB

Command output

##############################################################################
##############################################################################
###
### Running command:
###
###   /Library/Frameworks/R.framework/Versions/Current/Resources/bin/R CMD build --keep-empty-dirs --no-resave-data GeneStructureTools
###
##############################################################################
##############################################################################


* checking for file ‘GeneStructureTools/DESCRIPTION’ ... OK
* preparing ‘GeneStructureTools’:
* checking DESCRIPTION meta-information ... OK
* installing the package to build vignettes
* creating vignettes ... OK
* checking for LF line-endings in source and make files and shell scripts
* checking for empty or unneeded directories
Omitted ‘LazyData’ from DESCRIPTION
* building ‘GeneStructureTools_1.12.0.tar.gz’