Back to Multiple platform build/check report for BioC 3.13
ABCDEF[G]HIJKLMNOPQRSTUVWXYZ

This page was generated on 2021-09-22 15:05:44 -0400 (Wed, 22 Sep 2021).

CHECK results for GeneRegionScan on machv2

To the developers/maintainers of the GeneRegionScan package:
- Please allow up to 24 hours (and sometimes 48 hours) for your latest push to git@git.bioconductor.org:packages/GeneRegionScan.git to
reflect on this report. See How and When does the builder pull? When will my changes propagate? here for more information.
- Make sure to use the following settings in order to reproduce any error or warning you see on this page.

raw results

Package 723/2041HostnameOS / ArchINSTALLBUILDCHECKBUILD BIN
GeneRegionScan 1.48.0  (landing page)
Lasse Folkersen
Snapshot Date: 2021-09-21 04:50:12 -0400 (Tue, 21 Sep 2021)
git_url: https://git.bioconductor.org/packages/GeneRegionScan
git_branch: RELEASE_3_13
git_last_commit: 8331f9a
git_last_commit_date: 2021-05-19 11:43:04 -0400 (Wed, 19 May 2021)
nebbiolo1Linux (Ubuntu 20.04.2 LTS) / x86_64  OK    OK    OK  UNNEEDED, same version is already published
tokay2Windows Server 2012 R2 Standard / x64  OK    OK    OK    OK  UNNEEDED, same version is already published
machv2macOS 10.14.6 Mojave / x86_64  OK    OK    OK    OK  UNNEEDED, same version is already published

Summary

Package: GeneRegionScan
Version: 1.48.0
Command: /Library/Frameworks/R.framework/Versions/Current/Resources/bin/R CMD check --install=check:GeneRegionScan.install-out.txt --library=/Library/Frameworks/R.framework/Versions/Current/Resources/library --no-vignettes --timings GeneRegionScan_1.48.0.tar.gz
StartedAt: 2021-09-21 19:25:56 -0400 (Tue, 21 Sep 2021)
EndedAt: 2021-09-21 19:29:11 -0400 (Tue, 21 Sep 2021)
EllapsedTime: 195.4 seconds
RetCode: 0
Status:   OK  
CheckDir: GeneRegionScan.Rcheck
Warnings: 0

Command output

##############################################################################
##############################################################################
###
### Running command:
###
###   /Library/Frameworks/R.framework/Versions/Current/Resources/bin/R CMD check --install=check:GeneRegionScan.install-out.txt --library=/Library/Frameworks/R.framework/Versions/Current/Resources/library --no-vignettes --timings GeneRegionScan_1.48.0.tar.gz
###
##############################################################################
##############################################################################


* using log directory ‘/Users/biocbuild/bbs-3.13-bioc/meat/GeneRegionScan.Rcheck’
* using R version 4.1.1 (2021-08-10)
* using platform: x86_64-apple-darwin17.0 (64-bit)
* using session charset: UTF-8
* using option ‘--no-vignettes’
* checking for file ‘GeneRegionScan/DESCRIPTION’ ... OK
* this is package ‘GeneRegionScan’ version ‘1.48.0’
* checking package namespace information ... OK
* checking package dependencies ... OK
* checking if this is a source package ... OK
* checking if there is a namespace ... OK
* checking for hidden files and directories ... NOTE
Found the following hidden files and directories:
  .git_fetch_output.txt
  .git_merge_output.txt
These were most likely included in error. See section ‘Package
structure’ in the ‘Writing R Extensions’ manual.
* checking for portable file names ... OK
* checking for sufficient/correct file permissions ... OK
* checking whether package ‘GeneRegionScan’ can be installed ... OK
* checking installed package size ... NOTE
  installed size is 20.4Mb
  sub-directories of 1Mb or more:
    exec  19.7Mb
* checking package directory ... OK
* checking ‘build’ directory ... OK
* checking DESCRIPTION meta-information ... NOTE
Packages listed in more than one of Depends, Imports, Suggests, Enhances:
  ‘Biobase’ ‘Biostrings’
A package should be listed in only one of these fields.
* checking top-level files ... OK
* checking for left-over files ... OK
* checking index information ... OK
* checking package subdirectories ... OK
* checking R files for non-ASCII characters ... OK
* checking R files for syntax errors ... OK
* checking whether the package can be loaded ... OK
* checking whether the package can be loaded with stated dependencies ... OK
* checking whether the package can be unloaded cleanly ... OK
* checking whether the namespace can be loaded with stated dependencies ... OK
* checking whether the namespace can be unloaded cleanly ... OK
* checking dependencies in R code ... NOTE
'library' or 'require' calls in package code:
  ‘AnnotationDbi’ ‘BSgenome’ ‘affy’
  Please use :: or requireNamespace() instead.
  See section 'Suggested packages' in the 'Writing R Extensions' manual.
Package in Depends field not imported from: ‘methods’
  These packages need to be imported from (in the NAMESPACE file)
  for when this namespace is loaded but not attached.
* checking S3 generic/method consistency ... OK
* checking replacement functions ... OK
* checking foreign function calls ... OK
* checking R code for possible problems ... NOTE
createFeatureData: no visible global function definition for ‘new’
exonStructure: no visible global function definition for ‘lines’
exonStructure: no visible global function definition for ‘points’
exonStructure: no visible global function definition for ‘text’
findSequenceInGenome: no visible global function definition for
  ‘seqnames’
findSequenceInGenome: no visible global function definition for
  ‘reverse’
findSequenceInGenome: no visible global function definition for
  ‘unmasked’
findSequenceInGenome: no visible global function definition for
  ‘startIndex’
getLocalMetaprobeIntensities: no visible global function definition for
  ‘read.table’
getLocalMetaprobeIntensities: no visible global function definition for
  ‘new’
getLocalProbeIntensities: no visible global function definition for
  ‘read.table’
getLocalProbeIntensities : get_probe_indices: no visible global
  function definition for ‘xy2indices’
getLocalProbeIntensities: no visible global function definition for
  ‘new’
getProbesetsFromRegionOfInterest: no visible global function definition
  for ‘revmap’
readFASTA_replacement: no visible global function definition for
  ‘read.DNAStringSet’
addSnpPdata,ExpressionSet: no visible global function definition for
  ‘sampleNames’
addSnpPdata,ExpressionSet: no visible global function definition for
  ‘pData’
addSnpPdata,ExpressionSet: no visible global function definition for
  ‘read.table’
addSnpPdata,ExpressionSet: no visible global function definition for
  ‘pData<-’
addSnpPdata,ExpressionSet: no visible global function definition for
  ‘notes’
addSnpPdata,ExpressionSet: no visible global function definition for
  ‘notes<-’
doProbeLinear,ExpressionSet: no visible global function definition for
  ‘pData’
doProbeLinear,ExpressionSet: no visible global function definition for
  ‘featureNames’
doProbeLinear,ExpressionSet: no visible global function definition for
  ‘lm’
doProbeTTest,ExpressionSet: no visible global function definition for
  ‘pData’
doProbeTTest,ExpressionSet: no visible global function definition for
  ‘featureNames’
doProbeTTest,ExpressionSet: no visible global function definition for
  ‘t.test’
doProbeTTest,ExpressionSet: no visible global function definition for
  ‘wilcox.test’
excludeDoubleMatchingProbes,ProbeLevelSet: no visible global function
  definition for ‘featureNames’
excludeDoubleMatchingProbes,ProbeLevelSet: no visible global function
  definition for ‘pData’
excludeDoubleMatchingProbes,ProbeLevelSet: no visible global function
  definition for ‘featureData’
excludeDoubleMatchingProbes,ProbeLevelSet: no visible global function
  definition for ‘pData<-’
excludeDoubleMatchingProbes,ProbeLevelSet: no visible global function
  definition for ‘featureData<-’
excludeDoubleMatchingProbes,ProbeLevelSet: no visible global function
  definition for ‘exprs<-’
excludeDoubleMatchingProbes,ProbeLevelSet: no visible global function
  definition for ‘notes’
excludeDoubleMatchingProbes,ProbeLevelSet: no visible global function
  definition for ‘notes<-’
findProbePositions,ExpressionSet: no visible global function definition
  for ‘pData’
findProbePositions,ExpressionSet: no visible global function definition
  for ‘featureData’
findProbePositions,ExpressionSet: no visible global function definition
  for ‘featureNames’
findProbePositions,ExpressionSet: no visible global function definition
  for ‘reverse’
findProbePositions,ExpressionSet: no visible global function definition
  for ‘startIndex’
geneRegionScan,ExpressionSet: no visible global function definition for
  ‘pdf’
geneRegionScan,ExpressionSet: no visible global function definition for
  ‘split.screen’
geneRegionScan,ExpressionSet: no visible global function definition for
  ‘screen’
geneRegionScan,ExpressionSet: no visible global function definition for
  ‘par’
geneRegionScan,ExpressionSet: no visible global function definition for
  ‘close.screen’
geneRegionScan,ExpressionSet: no visible global function definition for
  ‘dev.off’
getSequence,ProbeLevelSet: no visible global function definition for
  ‘pData’
getSequence,ProbeLevelSet: no visible global function definition for
  ‘featureData’
plotCoexpression,ExpressionSet: no visible global function definition
  for ‘pData’
plotCoexpression,ExpressionSet: no visible global function definition
  for ‘featureData’
plotCoexpression,ExpressionSet: no visible global function definition
  for ‘featureNames’
plotCoexpression,ExpressionSet: no visible binding for global variable
  ‘interval’
plotCoexpression,ExpressionSet: no visible global function definition
  for ‘frame’
plotCoexpression,ExpressionSet: no visible global function definition
  for ‘plot.window’
plotCoexpression,ExpressionSet: no visible global function definition
  for ‘lines’
plotCoexpression,ExpressionSet: no visible global function definition
  for ‘text’
plotCoexpression,ExpressionSet: no visible global function definition
  for ‘combn’
plotCoexpression,ExpressionSet : calculate_coexpression: no visible
  global function definition for ‘featureNames’
plotCoexpression,ExpressionSet : calculate_coexpression: no visible
  global function definition for ‘cor.test’
plotCoexpression,ExpressionSet: no visible global function definition
  for ‘points’
plotOnGene,ExpressionSet: no visible global function definition for
  ‘pData’
plotOnGene,ExpressionSet: no visible global function definition for
  ‘pData<-’
plotOnGene,ExpressionSet: no visible global function definition for
  ‘featureData’
plotOnGene,ExpressionSet: no visible global function definition for
  ‘featureNames’
plotOnGene,ExpressionSet: no visible binding for global variable
  ‘median’
plotOnGene,ExpressionSet: no visible binding for global variable
  ‘quantile’
plotOnGene,ExpressionSet: no visible global function definition for
  ‘plot.default’
plotOnGene,ExpressionSet: no visible global function definition for
  ‘mtext’
plotOnGene,ExpressionSet: no visible global function definition for
  ‘experimentData’
plotOnGene,ExpressionSet: no visible global function definition for
  ‘median’
plotOnGene,ExpressionSet: no visible global function definition for
  ‘quantile’
plotOnGene,ExpressionSet: no visible global function definition for
  ‘lines’
plotOnGene,ExpressionSet: no visible global function definition for
  ‘points’
plotStatistics,ExpressionSet: no visible global function definition for
  ‘pData’
plotStatistics,ExpressionSet: no visible global function definition for
  ‘mtext’
plotStatistics,ExpressionSet: no visible global function definition for
  ‘median’
plotStatistics,ExpressionSet: no visible global function definition for
  ‘quantile’
plotStatistics,ExpressionSet: no visible global function definition for
  ‘lines’
plotStatistics,ExpressionSet: no visible global function definition for
  ‘text’
translateSampleNames,ExpressionSet: no visible global function
  definition for ‘read.table’
translateSampleNames,ExpressionSet: no visible global function
  definition for ‘sampleNames’
translateSampleNames,ExpressionSet: no visible global function
  definition for ‘pData’
translateSampleNames,ExpressionSet: no visible global function
  definition for ‘pData<-’
translateSampleNames,ExpressionSet: no visible global function
  definition for ‘exprs<-’
Undefined global functions or variables:
  close.screen combn cor.test dev.off experimentData exprs<-
  featureData featureData<- featureNames frame interval lines lm median
  mtext new notes notes<- pData pData<- par pdf plot.default
  plot.window points quantile read.DNAStringSet read.table reverse
  revmap sampleNames screen seqnames split.screen startIndex t.test
  text unmasked wilcox.test xy2indices
Consider adding
  importFrom("grDevices", "dev.off", "pdf")
  importFrom("graphics", "close.screen", "frame", "lines", "mtext",
             "par", "plot.default", "plot.window", "points", "screen",
             "split.screen", "text")
  importFrom("methods", "new")
  importFrom("stats", "cor.test", "lm", "median", "quantile", "t.test",
             "wilcox.test")
  importFrom("utils", "combn", "read.table")
to your NAMESPACE file (and ensure that your DESCRIPTION Imports field
contains 'methods').
* checking Rd files ... OK
* checking Rd metadata ... OK
* checking Rd cross-references ... OK
* checking for missing documentation entries ... OK
* checking for code/documentation mismatches ... OK
* checking Rd \usage sections ... OK
* checking Rd contents ... OK
* checking for unstated dependencies in examples ... OK
* checking contents of ‘data’ directory ... OK
* checking data for non-ASCII characters ... OK
* checking data for ASCII and uncompressed saves ... OK
* checking sizes of PDF files under ‘inst/doc’ ... OK
* checking files in ‘vignettes’ ... OK
* checking examples ... OK
Examples with CPU (user + system) or elapsed time > 5s
                   user system elapsed
geneRegionScan   35.593  0.336  35.989
plotCoexpression 28.102  0.104  28.224
plotOnGene       10.382  0.047  10.434
exonStructure     6.028  0.040   6.073
* checking for unstated dependencies in vignettes ... OK
* checking package vignettes in ‘inst/doc’ ... OK
* checking running R code from vignettes ... SKIPPED
* checking re-building of vignette outputs ... SKIPPED
* checking PDF version of manual ... OK
* DONE

Status: 5 NOTEs
See
  ‘/Users/biocbuild/bbs-3.13-bioc/meat/GeneRegionScan.Rcheck/00check.log’
for details.



Installation output

GeneRegionScan.Rcheck/00install.out

##############################################################################
##############################################################################
###
### Running command:
###
###   /Library/Frameworks/R.framework/Versions/Current/Resources/bin/R CMD INSTALL GeneRegionScan
###
##############################################################################
##############################################################################


* installing to library ‘/Library/Frameworks/R.framework/Versions/4.1/Resources/library’
* installing *source* package ‘GeneRegionScan’ ...
** using staged installation
** R
** data
** exec
** inst
** byte-compile and prepare package for lazy loading
** help
*** installing help indices
** building package indices
** installing vignettes
** testing if installed package can be loaded from temporary location
** testing if installed package can be loaded from final location
** testing if installed package keeps a record of temporary installation path
* DONE (GeneRegionScan)

Tests output


Example timings

GeneRegionScan.Rcheck/GeneRegionScan-Ex.timings

nameusersystemelapsed
addSnpPdata0.0010.0010.000
checkForFileInPath0.0110.0130.027
doProbeLinear1.7250.0641.791
doProbeTTest0.3770.0090.388
exampleProbeLevelSet0.0280.0180.046
excludeDoubleMatchingProbes0.0010.0000.000
exonStructure6.0280.0406.073
findProbePositions0.5590.0270.587
findSequenceInGenome000
geneRegionScan35.593 0.33635.989
getLocalMetaprobeIntensities0.0000.0000.001
getLocalProbeIntensities0.0000.0000.001
getMetaprobesetsFromRegionOfInterest0.0010.0000.001
getProbeLevelAnnotationForExonArrays0.0010.0000.001
getProbesetsFromMetaprobeset000
getProbesetsFromRegionOfInterest0.0010.0010.001
getSequence0.0250.0150.040
getServerProbeIntensities0.0000.0000.001
plotCoexpression28.102 0.10428.224
plotOnGene10.382 0.04710.434
readGeneInput0.0010.0000.002
translateSampleNames0.0360.0030.039