Back to Multiple platform build/check report for BioC 3.13
ABCDEF[G]HIJKLMNOPQRSTUVWXYZ

This page was generated on 2021-09-13 15:06:58 -0400 (Mon, 13 Sep 2021).

BUILD BIN results for GeneRegionScan on machv2

To the developers/maintainers of the GeneRegionScan package:
- Please allow up to 24 hours (and sometimes 48 hours) for your latest push to git@git.bioconductor.org:packages/GeneRegionScan.git to
reflect on this report. See How and When does the builder pull? When will my changes propagate? here for more information.
- Make sure to use the following settings in order to reproduce any error or warning you see on this page.

raw results

Package 723/2041HostnameOS / ArchINSTALLBUILDCHECKBUILD BIN
GeneRegionScan 1.48.0  (landing page)
Lasse Folkersen
Snapshot Date: 2021-09-12 04:50:10 -0400 (Sun, 12 Sep 2021)
git_url: https://git.bioconductor.org/packages/GeneRegionScan
git_branch: RELEASE_3_13
git_last_commit: 8331f9a
git_last_commit_date: 2021-05-19 11:43:04 -0400 (Wed, 19 May 2021)
nebbiolo1Linux (Ubuntu 20.04.2 LTS) / x86_64  OK    OK    OK  UNNEEDED, same version is already published
tokay2Windows Server 2012 R2 Standard / x64  OK    OK    OK    OK  UNNEEDED, same version is already published
machv2macOS 10.14.6 Mojave / x86_64  OK    OK    OK    OK  UNNEEDED, same version is already published

Summary

Package: GeneRegionScan
Version: 1.48.0
Command: rm -rf GeneRegionScan.buildbin-libdir && mkdir GeneRegionScan.buildbin-libdir && /Users/biocbuild/BBS/utils/build-universal.sh GeneRegionScan_1.48.0.tar.gz /Library/Frameworks/R.framework/Versions/Current/Resources/bin/R GeneRegionScan.buildbin-libdir
StartedAt: 2021-09-13 02:32:31 -0400 (Mon, 13 Sep 2021)
EndedAt: 2021-09-13 02:33:39 -0400 (Mon, 13 Sep 2021)
EllapsedTime: 68.8 seconds
RetCode: 0
Status:   OK  
PackageFile: GeneRegionScan_1.48.0.tgz
PackageFileSize: 7.652 MiB

Command output

##############################################################################
##############################################################################
###
### Running command:
###
###   rm -rf GeneRegionScan.buildbin-libdir && mkdir GeneRegionScan.buildbin-libdir && /Users/biocbuild/BBS/utils/build-universal.sh GeneRegionScan_1.48.0.tar.gz /Library/Frameworks/R.framework/Versions/Current/Resources/bin/R GeneRegionScan.buildbin-libdir
###
##############################################################################
##############################################################################


>>>>>>> 
>>>>>>> INSTALLATION WITH 'R CMD INSTALL --preclean --no-multiarch --library=GeneRegionScan.buildbin-libdir GeneRegionScan_1.48.0.tar.gz'
>>>>>>> 

* installing *source* package ‘GeneRegionScan’ ...
** using staged installation
** R
** data
** exec
** inst
** byte-compile and prepare package for lazy loading
** help
*** installing help indices
** building package indices
** installing vignettes
** testing if installed package can be loaded from temporary location
** testing if installed package can be loaded from final location
** testing if installed package keeps a record of temporary installation path
* DONE (GeneRegionScan)