Back to Multiple platform build/check report for BioC 3.13
ABCDEF[G]HIJKLMNOPQRSTUVWXYZ

This page was generated on 2021-07-23 15:06:04 -0400 (Fri, 23 Jul 2021).

CHECK results for GeneNetworkBuilder on tokay2

To the developers/maintainers of the GeneNetworkBuilder package:
- Please allow up to 24 hours (and sometimes 48 hours) for your latest push to git@git.bioconductor.org:packages/GeneNetworkBuilder.git to
reflect on this report. See How and When does the builder pull? When will my changes propagate? here for more information.
- Make sure to use the following settings in order to reproduce any error or warning you see on this page.

raw results

Package 718/2041HostnameOS / ArchINSTALLBUILDCHECKBUILD BIN
GeneNetworkBuilder 1.34.0  (landing page)
Jianhong Ou
Snapshot Date: 2021-07-22 04:50:13 -0400 (Thu, 22 Jul 2021)
URL: https://git.bioconductor.org/packages/GeneNetworkBuilder
Branch: RELEASE_3_13
Last Commit: 2e9cc20
Last Changed Date: 2021-05-19 11:53:28 -0400 (Wed, 19 May 2021)
nebbiolo1Linux (Ubuntu 20.04.2 LTS) / x86_64  OK    OK    OK  UNNEEDED, same version is already published
tokay2Windows Server 2012 R2 Standard / x64  OK    OK    OK    OK  UNNEEDED, same version is already published
machv2macOS 10.14.6 Mojave / x86_64  OK    OK    OK    OK  UNNEEDED, same version is already published

Summary

Package: GeneNetworkBuilder
Version: 1.34.0
Command: C:\Users\biocbuild\bbs-3.13-bioc\R\bin\R.exe CMD check --force-multiarch --install=check:GeneNetworkBuilder.install-out.txt --library=C:\Users\biocbuild\bbs-3.13-bioc\R\library --no-vignettes --timings GeneNetworkBuilder_1.34.0.tar.gz
StartedAt: 2021-07-22 23:42:47 -0400 (Thu, 22 Jul 2021)
EndedAt: 2021-07-22 23:44:36 -0400 (Thu, 22 Jul 2021)
EllapsedTime: 109.2 seconds
RetCode: 0
Status:   OK  
CheckDir: GeneNetworkBuilder.Rcheck
Warnings: 0

Command output

##############################################################################
##############################################################################
###
### Running command:
###
###   C:\Users\biocbuild\bbs-3.13-bioc\R\bin\R.exe CMD check --force-multiarch --install=check:GeneNetworkBuilder.install-out.txt --library=C:\Users\biocbuild\bbs-3.13-bioc\R\library --no-vignettes --timings GeneNetworkBuilder_1.34.0.tar.gz
###
##############################################################################
##############################################################################


* using log directory 'C:/Users/biocbuild/bbs-3.13-bioc/meat/GeneNetworkBuilder.Rcheck'
* using R version 4.1.0 (2021-05-18)
* using platform: x86_64-w64-mingw32 (64-bit)
* using session charset: ISO8859-1
* using option '--no-vignettes'
* checking for file 'GeneNetworkBuilder/DESCRIPTION' ... OK
* checking extension type ... Package
* this is package 'GeneNetworkBuilder' version '1.34.0'
* checking package namespace information ... OK
* checking package dependencies ... OK
* checking if this is a source package ... OK
* checking if there is a namespace ... OK
* checking for hidden files and directories ... OK
* checking for portable file names ... OK
* checking whether package 'GeneNetworkBuilder' can be installed ... OK
* checking installed package size ... NOTE
  installed size is  8.5Mb
  sub-directories of 1Mb or more:
    data          4.4Mb
    htmlwidgets   1.8Mb
    libs          2.0Mb
* checking package directory ... OK
* checking 'build' directory ... OK
* checking DESCRIPTION meta-information ... OK
* checking top-level files ... OK
* checking for left-over files ... OK
* checking index information ... OK
* checking package subdirectories ... OK
* checking R files for non-ASCII characters ... OK
* checking R files for syntax errors ... OK
* loading checks for arch 'i386'
** checking whether the package can be loaded ... OK
** checking whether the package can be loaded with stated dependencies ... OK
** checking whether the package can be unloaded cleanly ... OK
** checking whether the namespace can be loaded with stated dependencies ... OK
** checking whether the namespace can be unloaded cleanly ... OK
* loading checks for arch 'x64'
** checking whether the package can be loaded ... OK
** checking whether the package can be loaded with stated dependencies ... OK
** checking whether the package can be unloaded cleanly ... OK
** checking whether the namespace can be loaded with stated dependencies ... OK
** checking whether the namespace can be unloaded cleanly ... OK
* checking dependencies in R code ... OK
* checking S3 generic/method consistency ... OK
* checking replacement functions ... OK
* checking foreign function calls ... OK
* checking R code for possible problems ... OK
* checking Rd files ... OK
* checking Rd metadata ... OK
* checking Rd cross-references ... OK
* checking for missing documentation entries ... OK
* checking for code/documentation mismatches ... OK
* checking Rd \usage sections ... OK
* checking Rd contents ... OK
* checking for unstated dependencies in examples ... OK
* checking contents of 'data' directory ... OK
* checking data for non-ASCII characters ... OK
* checking LazyData ... OK
* checking data for ASCII and uncompressed saves ... OK
* checking line endings in C/C++/Fortran sources/headers ... OK
* checking line endings in Makefiles ... OK
* checking compilation flags in Makevars ... OK
* checking for GNU extensions in Makefiles ... OK
* checking for portable use of $(BLAS_LIBS) and $(LAPACK_LIBS) ... OK
* checking use of PKG_*FLAGS in Makefiles ... OK
* checking compiled code ... NOTE
Note: information on .o files for i386 is not available
Note: information on .o files for x64 is not available
File 'C:/Users/biocbuild/bbs-3.13-bioc/R/library/GeneNetworkBuilder/libs/i386/GeneNetworkBuilder.dll':
  Found 'abort', possibly from 'abort' (C), 'runtime' (Fortran)
  Found 'exit', possibly from 'exit' (C), 'stop' (Fortran)
  Found 'printf', possibly from 'printf' (C)
File 'C:/Users/biocbuild/bbs-3.13-bioc/R/library/GeneNetworkBuilder/libs/x64/GeneNetworkBuilder.dll':
  Found 'abort', possibly from 'abort' (C), 'runtime' (Fortran)
  Found 'exit', possibly from 'exit' (C), 'stop' (Fortran)
  Found 'printf', possibly from 'printf' (C)

Compiled code should not call entry points which might terminate R nor
write to stdout/stderr instead of to the console, nor use Fortran I/O
nor system RNGs. The detected symbols are linked into the code but
might come from libraries and not actually be called.

See 'Writing portable packages' in the 'Writing R Extensions' manual.
* checking files in 'vignettes' ... OK
* checking examples ...
** running examples for arch 'i386' ... OK
** running examples for arch 'x64' ... OK
* checking for unstated dependencies in 'tests' ... OK
* checking tests ...
** running tests for arch 'i386' ...
  Running 'runTests.R'
 OK
** running tests for arch 'x64' ...
  Running 'runTests.R'
 OK
* checking for unstated dependencies in vignettes ... OK
* checking package vignettes in 'inst/doc' ... OK
* checking running R code from vignettes ... SKIPPED
* checking re-building of vignette outputs ... SKIPPED
* checking PDF version of manual ... OK
* DONE

Status: 2 NOTEs
See
  'C:/Users/biocbuild/bbs-3.13-bioc/meat/GeneNetworkBuilder.Rcheck/00check.log'
for details.



Installation output

GeneNetworkBuilder.Rcheck/00install.out

##############################################################################
##############################################################################
###
### Running command:
###
###   C:\cygwin\bin\curl.exe -O http://155.52.207.165/BBS/3.13/bioc/src/contrib/GeneNetworkBuilder_1.34.0.tar.gz && rm -rf GeneNetworkBuilder.buildbin-libdir && mkdir GeneNetworkBuilder.buildbin-libdir && C:\Users\biocbuild\bbs-3.13-bioc\R\bin\R.exe CMD INSTALL --merge-multiarch --build --library=GeneNetworkBuilder.buildbin-libdir GeneNetworkBuilder_1.34.0.tar.gz && C:\Users\biocbuild\bbs-3.13-bioc\R\bin\R.exe CMD INSTALL GeneNetworkBuilder_1.34.0.zip && rm GeneNetworkBuilder_1.34.0.tar.gz GeneNetworkBuilder_1.34.0.zip
###
##############################################################################
##############################################################################


  % Total    % Received % Xferd  Average Speed   Time    Time     Time  Current
                                 Dload  Upload   Total   Spent    Left  Speed

  0     0    0     0    0     0      0      0 --:--:-- --:--:-- --:--:--     0
100 4141k  100 4141k    0     0  6242k      0 --:--:-- --:--:-- --:--:-- 6256k

install for i386

* installing *source* package 'GeneNetworkBuilder' ...
** using staged installation
** libs
"C:/rtools40/mingw32/bin/"g++ -std=gnu++11  -I"C:/Users/BIOCBU~1/BBS-3~1.13-/R/include" -DNDEBUG  -I'C:/Users/biocbuild/bbs-3.13-bioc/R/library/Rcpp/include'   -I"C:/extsoft/include"     -O2 -Wall  -mfpmath=sse -msse2 -mstackrealign  -c geneTree.cpp -o geneTree.o
"C:/rtools40/mingw32/bin/"g++ -std=gnu++11  -I"C:/Users/BIOCBU~1/BBS-3~1.13-/R/include" -DNDEBUG  -I'C:/Users/biocbuild/bbs-3.13-bioc/R/library/Rcpp/include'   -I"C:/extsoft/include"     -O2 -Wall  -mfpmath=sse -msse2 -mstackrealign  -c nodefilter.cpp -o nodefilter.o
"C:/rtools40/mingw32/bin/"gcc  -I"C:/Users/BIOCBU~1/BBS-3~1.13-/R/include" -DNDEBUG  -I'C:/Users/biocbuild/bbs-3.13-bioc/R/library/Rcpp/include'   -I"C:/extsoft/include"     -O2 -Wall  -std=gnu99 -mfpmath=sse -msse2 -mstackrealign  -c registerDynamicSymbol.c -o registerDynamicSymbol.o
C:/rtools40/mingw32/bin/g++ -std=gnu++11 -shared -s -static-libgcc -o GeneNetworkBuilder.dll tmp.def geneTree.o nodefilter.o registerDynamicSymbol.o -LC:/extsoft/lib/i386 -LC:/extsoft/lib -LC:/Users/BIOCBU~1/BBS-3~1.13-/R/bin/i386 -lR
installing to C:/Users/biocbuild/bbs-3.13-bioc/meat/GeneNetworkBuilder.buildbin-libdir/00LOCK-GeneNetworkBuilder/00new/GeneNetworkBuilder/libs/i386
** R
** data
*** moving datasets to lazyload DB
** inst
** byte-compile and prepare package for lazy loading
** help
*** installing help indices
  converting help for package 'GeneNetworkBuilder'
    finding HTML links ... done
    GeneNetworkBuilder-package              html  
    browseNetwork-shiny                     html  
    browseNetwork                           html  
    buildNetwork                            html  
    ce.IDsMap                               html  
    ce.interactionmap                       html  
    ce.mapIDs                               html  
    ce.miRNA.map                            html  
    convertID                               html  
    example.data                            html  
    exportNetwork                           html  
    filterNetwork                           html  
    hs.IDsMap                               html  
    hs.interactionmap                       html  
    hs.mapIDs                               html  
    hs.miRNA.map                            html  
    networkFromGenes                        html  
    polishNetwork                           html  
    saveXGMML                               html  
    uniqueExprsData                         html  
** building package indices
** installing vignettes
** testing if installed package can be loaded from temporary location
** testing if installed package can be loaded from final location
** testing if installed package keeps a record of temporary installation path

install for x64

* installing *source* package 'GeneNetworkBuilder' ...
** libs
"C:/rtools40/mingw64/bin/"g++ -std=gnu++11  -I"C:/Users/BIOCBU~1/BBS-3~1.13-/R/include" -DNDEBUG  -I'C:/Users/biocbuild/bbs-3.13-bioc/R/library/Rcpp/include'   -I"C:/extsoft/include"     -O2 -Wall  -mfpmath=sse -msse2 -mstackrealign  -c geneTree.cpp -o geneTree.o
"C:/rtools40/mingw64/bin/"g++ -std=gnu++11  -I"C:/Users/BIOCBU~1/BBS-3~1.13-/R/include" -DNDEBUG  -I'C:/Users/biocbuild/bbs-3.13-bioc/R/library/Rcpp/include'   -I"C:/extsoft/include"     -O2 -Wall  -mfpmath=sse -msse2 -mstackrealign  -c nodefilter.cpp -o nodefilter.o
"C:/rtools40/mingw64/bin/"gcc  -I"C:/Users/BIOCBU~1/BBS-3~1.13-/R/include" -DNDEBUG  -I'C:/Users/biocbuild/bbs-3.13-bioc/R/library/Rcpp/include'   -I"C:/extsoft/include"     -O2 -Wall  -std=gnu99 -mfpmath=sse -msse2 -mstackrealign  -c registerDynamicSymbol.c -o registerDynamicSymbol.o
C:/rtools40/mingw64/bin/g++ -std=gnu++11 -shared -s -static-libgcc -o GeneNetworkBuilder.dll tmp.def geneTree.o nodefilter.o registerDynamicSymbol.o -LC:/extsoft/lib/x64 -LC:/extsoft/lib -LC:/Users/BIOCBU~1/BBS-3~1.13-/R/bin/x64 -lR
installing to C:/Users/biocbuild/bbs-3.13-bioc/meat/GeneNetworkBuilder.buildbin-libdir/GeneNetworkBuilder/libs/x64
** testing if installed package can be loaded
* MD5 sums
packaged installation of 'GeneNetworkBuilder' as GeneNetworkBuilder_1.34.0.zip
* DONE (GeneNetworkBuilder)
* installing to library 'C:/Users/biocbuild/bbs-3.13-bioc/R/library'
package 'GeneNetworkBuilder' successfully unpacked and MD5 sums checked

Tests output

GeneNetworkBuilder.Rcheck/tests_i386/runTests.Rout


R version 4.1.0 (2021-05-18) -- "Camp Pontanezen"
Copyright (C) 2021 The R Foundation for Statistical Computing
Platform: i386-w64-mingw32/i386 (32-bit)

R is free software and comes with ABSOLUTELY NO WARRANTY.
You are welcome to redistribute it under certain conditions.
Type 'license()' or 'licence()' for distribution details.

R is a collaborative project with many contributors.
Type 'contributors()' for more information and
'citation()' on how to cite R or R packages in publications.

Type 'demo()' for some demos, 'help()' for on-line help, or
'help.start()' for an HTML browser interface to help.
Type 'q()' to quit R.

> require("GeneNetworkBuilder") || stop("unable to load Package:GeneNetworkBuilder")
Loading required package: GeneNetworkBuilder
Loading required package: Rcpp
[1] TRUE
> BiocGenerics:::testPackage("GeneNetworkBuilder")


RUNIT TEST PROTOCOL -- Thu Jul 22 23:44:24 2021 
*********************************************** 
Number of test functions: 5 
Number of errors: 0 
Number of failures: 0 

 
1 Test Suite : 
GeneNetworkBuilder RUnit Tests - 5 test functions, 0 errors, 0 failures
Number of test functions: 5 
Number of errors: 0 
Number of failures: 0 
> 
> proc.time()
   user  system elapsed 
   1.35    0.09    1.48 

GeneNetworkBuilder.Rcheck/tests_x64/runTests.Rout


R version 4.1.0 (2021-05-18) -- "Camp Pontanezen"
Copyright (C) 2021 The R Foundation for Statistical Computing
Platform: x86_64-w64-mingw32/x64 (64-bit)

R is free software and comes with ABSOLUTELY NO WARRANTY.
You are welcome to redistribute it under certain conditions.
Type 'license()' or 'licence()' for distribution details.

R is a collaborative project with many contributors.
Type 'contributors()' for more information and
'citation()' on how to cite R or R packages in publications.

Type 'demo()' for some demos, 'help()' for on-line help, or
'help.start()' for an HTML browser interface to help.
Type 'q()' to quit R.

> require("GeneNetworkBuilder") || stop("unable to load Package:GeneNetworkBuilder")
Loading required package: GeneNetworkBuilder
Loading required package: Rcpp
[1] TRUE
> BiocGenerics:::testPackage("GeneNetworkBuilder")


RUNIT TEST PROTOCOL -- Thu Jul 22 23:44:26 2021 
*********************************************** 
Number of test functions: 5 
Number of errors: 0 
Number of failures: 0 

 
1 Test Suite : 
GeneNetworkBuilder RUnit Tests - 5 test functions, 0 errors, 0 failures
Number of test functions: 5 
Number of errors: 0 
Number of failures: 0 
> 
> proc.time()
   user  system elapsed 
   1.42    0.07    1.48 

Example timings

GeneNetworkBuilder.Rcheck/examples_i386/GeneNetworkBuilder-Ex.timings

nameusersystemelapsed
browseNetwork2.190.153.89
buildNetwork0.300.030.33
ce.IDsMap0.190.010.20
ce.interactionmap0.020.020.03
ce.mapIDs0.170.000.17
ce.miRNA.map000
convertID0.260.010.28
example.data0.040.000.04
exportNetwork1.900.052.70
filterNetwork1.660.001.65
hs.IDsMap0.060.000.07
hs.interactionmap0.030.000.03
hs.mapIDs0.030.000.03
hs.miRNA.map000
networkFromGenes0.140.000.14
polishNetwork1.470.021.48
uniqueExprsData0.320.000.32

GeneNetworkBuilder.Rcheck/examples_x64/GeneNetworkBuilder-Ex.timings

nameusersystemelapsed
browseNetwork1.570.261.93
buildNetwork0.200.070.26
ce.IDsMap0.250.000.25
ce.interactionmap0.020.000.01
ce.mapIDs0.130.000.13
ce.miRNA.map000
convertID0.370.000.38
example.data0.050.000.05
exportNetwork1.810.062.68
filterNetwork1.480.031.53
hs.IDsMap0.070.020.08
hs.interactionmap0.090.000.10
hs.mapIDs0.030.000.03
hs.miRNA.map000
networkFromGenes0.120.000.13
polishNetwork1.380.021.39
uniqueExprsData0.540.000.55