Back to Multiple platform build/check report for BioC 3.19:   simplified   long
ABCDEF[G]HIJKLMNOPQRSTUVWXYZ

This page was generated on 2024-06-11 14:39 -0400 (Tue, 11 Jun 2024).

HostnameOSArch (*)R versionInstalled pkgs
nebbiolo1Linux (Ubuntu 22.04.3 LTS)x86_644.4.0 (2024-04-24) -- "Puppy Cup" 4757
palomino3Windows Server 2022 Datacenterx644.4.0 (2024-04-24 ucrt) -- "Puppy Cup" 4491
lconwaymacOS 12.7.1 Montereyx86_644.4.0 (2024-04-24) -- "Puppy Cup" 4522
kjohnson3macOS 13.6.5 Venturaarm644.4.0 (2024-04-24) -- "Puppy Cup" 4468
Click on any hostname to see more info about the system (e.g. compilers)      (*) as reported by 'uname -p', except on Windows and Mac OS X

Package 800/2300HostnameOS / ArchINSTALLBUILDCHECKBUILD BIN
GeneBreak 1.34.0  (landing page)
Evert van den Broek
Snapshot Date: 2024-06-09 14:00 -0400 (Sun, 09 Jun 2024)
git_url: https://git.bioconductor.org/packages/GeneBreak
git_branch: RELEASE_3_19
git_last_commit: 61c5d6e
git_last_commit_date: 2024-04-30 10:46:19 -0400 (Tue, 30 Apr 2024)
nebbiolo1Linux (Ubuntu 22.04.3 LTS) / x86_64  OK    OK    OK  UNNEEDED, same version is already published
palomino3Windows Server 2022 Datacenter / x64  OK    OK    OK    OK  UNNEEDED, same version is already published
lconwaymacOS 12.7.1 Monterey / x86_64  OK    OK    OK    OK  UNNEEDED, same version is already published
kjohnson3macOS 13.6.5 Ventura / arm64  OK    OK    OK    OK  UNNEEDED, same version is already published


CHECK results for GeneBreak on nebbiolo1

To the developers/maintainers of the GeneBreak package:
- Allow up to 24 hours (and sometimes 48 hours) for your latest push to git@git.bioconductor.org:packages/GeneBreak.git to reflect on this report. See Troubleshooting Build Report for more information.
- Use the following Renviron settings to reproduce errors and warnings.
- If 'R CMD check' started to fail recently on the Linux builder(s) over a missing dependency, add the missing dependency to 'Suggests:' in your DESCRIPTION file. See Renviron.bioc for more information.

raw results


Summary

Package: GeneBreak
Version: 1.34.0
Command: /home/biocbuild/bbs-3.19-bioc/R/bin/R CMD check --install=check:GeneBreak.install-out.txt --library=/home/biocbuild/bbs-3.19-bioc/R/site-library --timings GeneBreak_1.34.0.tar.gz
StartedAt: 2024-06-09 23:14:56 -0400 (Sun, 09 Jun 2024)
EndedAt: 2024-06-09 23:17:43 -0400 (Sun, 09 Jun 2024)
EllapsedTime: 167.4 seconds
RetCode: 0
Status:   OK  
CheckDir: GeneBreak.Rcheck
Warnings: 0

Command output

##############################################################################
##############################################################################
###
### Running command:
###
###   /home/biocbuild/bbs-3.19-bioc/R/bin/R CMD check --install=check:GeneBreak.install-out.txt --library=/home/biocbuild/bbs-3.19-bioc/R/site-library --timings GeneBreak_1.34.0.tar.gz
###
##############################################################################
##############################################################################


* using log directory ‘/home/biocbuild/bbs-3.19-bioc/meat/GeneBreak.Rcheck’
* using R version 4.4.0 (2024-04-24)
* using platform: x86_64-pc-linux-gnu
* R was compiled by
    gcc (Ubuntu 11.4.0-1ubuntu1~22.04) 11.4.0
    GNU Fortran (Ubuntu 11.4.0-1ubuntu1~22.04) 11.4.0
* running under: Ubuntu 22.04.4 LTS
* using session charset: UTF-8
* checking for file ‘GeneBreak/DESCRIPTION’ ... OK
* checking extension type ... Package
* this is package ‘GeneBreak’ version ‘1.34.0’
* checking package namespace information ... OK
* checking package dependencies ... OK
* checking if this is a source package ... OK
* checking if there is a namespace ... OK
* checking for hidden files and directories ... OK
* checking for portable file names ... OK
* checking for sufficient/correct file permissions ... OK
* checking whether package ‘GeneBreak’ can be installed ... OK
* checking installed package size ... OK
* checking package directory ... OK
* checking ‘build’ directory ... OK
* checking DESCRIPTION meta-information ... OK
* checking top-level files ... OK
* checking for left-over files ... OK
* checking index information ... OK
* checking package subdirectories ... OK
* checking code files for non-ASCII characters ... OK
* checking R files for syntax errors ... OK
* checking whether the package can be loaded ... OK
* checking whether the package can be loaded with stated dependencies ... OK
* checking whether the package can be unloaded cleanly ... OK
* checking whether the namespace can be loaded with stated dependencies ... OK
* checking whether the namespace can be unloaded cleanly ... OK
* checking loading without being on the library search path ... OK
* checking dependencies in R code ... OK
* checking S3 generic/method consistency ... OK
* checking replacement functions ... OK
* checking foreign function calls ... OK
* checking R code for possible problems ... NOTE
.glmbreak: no visible global function definition for ‘glm’
.glmbreak: no visible global function definition for ‘predict’
addGeneAnnotation,CopyNumberBreakPoints: no visible global function
  definition for ‘head’
bpStats,CopyNumberBreakPoints: no visible global function definition
  for ‘sd’
bpStats,CopyNumberBreakPoints: no visible global function definition
  for ‘p.adjust’
Undefined global functions or variables:
  glm head p.adjust predict sd
Consider adding
  importFrom("stats", "glm", "p.adjust", "predict", "sd")
  importFrom("utils", "head")
to your NAMESPACE file.
* checking Rd files ... OK
* checking Rd metadata ... OK
* checking Rd cross-references ... OK
* checking for missing documentation entries ... OK
* checking for code/documentation mismatches ... OK
* checking Rd \usage sections ... OK
* checking Rd contents ... OK
* checking for unstated dependencies in examples ... OK
* checking contents of ‘data’ directory ... OK
* checking data for non-ASCII characters ... OK
* checking data for ASCII and uncompressed saves ... OK
* checking files in ‘vignettes’ ... OK
* checking examples ... OK
Examples with CPU (user + system) or elapsed time > 5s
                                 user system elapsed
CopyNumberBreakPointGenes-class 5.835   0.12   5.955
* checking for unstated dependencies in vignettes ... OK
* checking package vignettes ... OK
* checking re-building of vignette outputs ... OK
* checking PDF version of manual ... OK
* DONE

Status: 1 NOTE
See
  ‘/home/biocbuild/bbs-3.19-bioc/meat/GeneBreak.Rcheck/00check.log’
for details.


Installation output

GeneBreak.Rcheck/00install.out

##############################################################################
##############################################################################
###
### Running command:
###
###   /home/biocbuild/bbs-3.19-bioc/R/bin/R CMD INSTALL GeneBreak
###
##############################################################################
##############################################################################


* installing to library ‘/home/biocbuild/bbs-3.19-bioc/R/site-library’
* installing *source* package ‘GeneBreak’ ...
** using staged installation
** R
** data
** byte-compile and prepare package for lazy loading
Creating a new generic function for ‘segmentData’ in package ‘GeneBreak’
** help
*** installing help indices
** building package indices
** installing vignettes
** testing if installed package can be loaded from temporary location
** testing if installed package can be loaded from final location
** testing if installed package keeps a record of temporary installation path
* DONE (GeneBreak)

Tests output


Example timings

GeneBreak.Rcheck/GeneBreak-Ex.timings

nameusersystemelapsed
CopyNumberBreakPointGenes-class5.8350.1205.955
CopyNumberBreakPoints-class1.5240.0761.600
accessOptions-CopyNumberBreakPoints-method0.8520.0360.888
addGeneAnnotation-CopyNumberBreakPoints-method1.7960.0321.829
bpFilter-CopyNumberBreakPoints-method1.0990.0381.137
bpGenes-CopyNumberBreakPointGenes-method1.5670.0451.612
bpPlot-CopyNumberBreakPoints-method3.9060.0403.946
bpStats-CopyNumberBreakPoints-method4.1730.0804.254
breakpointData-CopyNumberBreakPoints-method1.0140.6001.615
breakpointsPerGene-CopyNumberBreakPointGenes-method1.7820.5642.346
callData-CopyNumberBreakPoints-method1.1260.5801.706
featureChromosomes-CopyNumberBreakPoints-method0.5170.0320.549
featureInfo-CopyNumberBreakPoints-method1.6040.2041.808
featuresPerGene-CopyNumberBreakPointGenes-method1.6030.0481.651
geneChromosomes-CopyNumberBreakPointGenes-method1.5170.0551.573
geneInfo-CopyNumberBreakPointGenes-method1.4650.0881.554
getBreakpoints1.5880.0521.640
namesFeatures-CopyNumberBreakPoints-method0.9030.0640.967
recurrentGenes-CopyNumberBreakPointGenes-method4.4220.0474.470
sampleNames-CopyNumberBreakPoints-method0.8900.0280.918
segmentData-CopyNumberBreakPoints-method1.1540.6081.762