Back to Multiple platform build/check report for BioC 3.19:   simplified   long
ABCDEF[G]HIJKLMNOPQRSTUVWXYZ

This page was generated on 2024-06-14 14:38 -0400 (Fri, 14 Jun 2024).

HostnameOSArch (*)R versionInstalled pkgs
nebbiolo1Linux (Ubuntu 22.04.3 LTS)x86_644.4.0 (2024-04-24) -- "Puppy Cup" 4757
palomino3Windows Server 2022 Datacenterx644.4.0 (2024-04-24 ucrt) -- "Puppy Cup" 4491
Click on any hostname to see more info about the system (e.g. compilers)      (*) as reported by 'uname -p', except on Windows and Mac OS X

Package 778/2300HostnameOS / ArchINSTALLBUILDCHECKBUILD BIN
GateFinder 1.24.0  (landing page)
Nima Aghaeepour
Snapshot Date: 2024-06-12 14:00 -0400 (Wed, 12 Jun 2024)
git_url: https://git.bioconductor.org/packages/GateFinder
git_branch: RELEASE_3_19
git_last_commit: 75e4ad6
git_last_commit_date: 2024-04-30 11:05:07 -0400 (Tue, 30 Apr 2024)
nebbiolo1Linux (Ubuntu 22.04.3 LTS) / x86_64  OK    OK    WARNINGS  UNNEEDED, same version is already published
palomino3Windows Server 2022 Datacenter / x64  OK    OK    WARNINGS    OK  UNNEEDED, same version is already published


BUILD BIN results for GateFinder on palomino3

To the developers/maintainers of the GateFinder package:
- Allow up to 24 hours (and sometimes 48 hours) for your latest push to git@git.bioconductor.org:packages/GateFinder.git to reflect on this report. See Troubleshooting Build Report for more information.
- Use the following Renviron settings to reproduce errors and warnings.
- If 'R CMD check' started to fail recently on the Linux builder(s) over a missing dependency, add the missing dependency to 'Suggests:' in your DESCRIPTION file. See Renviron.bioc for more information.

raw results


Summary

Package: GateFinder
Version: 1.24.0
Command: rm -rf GateFinder.buildbin-libdir && mkdir GateFinder.buildbin-libdir && F:\biocbuild\bbs-3.19-bioc\R\bin\R.exe CMD INSTALL --build --library=GateFinder.buildbin-libdir GateFinder_1.24.0.tar.gz
StartedAt: 2024-06-13 15:42:35 -0400 (Thu, 13 Jun 2024)
EndedAt: 2024-06-13 15:43:26 -0400 (Thu, 13 Jun 2024)
EllapsedTime: 51.1 seconds
RetCode: 0
Status:   OK  
PackageFile: GateFinder_1.24.0.zip
PackageFileSize: 864.5 KiB

Command output

##############################################################################
##############################################################################
###
### Running command:
###
###   rm -rf GateFinder.buildbin-libdir && mkdir GateFinder.buildbin-libdir && F:\biocbuild\bbs-3.19-bioc\R\bin\R.exe CMD INSTALL --build --library=GateFinder.buildbin-libdir GateFinder_1.24.0.tar.gz
###
##############################################################################
##############################################################################


* installing *source* package 'GateFinder' ...
** using staged installation
** R
** data
** inst
** byte-compile and prepare package for lazy loading
** help
*** installing help indices
** building package indices
** installing vignettes
** testing if installed package can be loaded from temporary location
** testing if installed package can be loaded from final location
** testing if installed package keeps a record of temporary installation path
* MD5 sums
packaged installation of 'GateFinder' as GateFinder_1.24.0.zip
* DONE (GateFinder)