Back to Multiple platform build/check report for BioC 3.13
ABCDEF[G]HIJKLMNOPQRSTUVWXYZ

This page was generated on 2021-07-23 15:06:36 -0400 (Fri, 23 Jul 2021).

BUILD results for GSEABase on machv2

To the developers/maintainers of the GSEABase package:
- Please allow up to 24 hours (and sometimes 48 hours) for your latest push to git@git.bioconductor.org:packages/GSEABase.git to
reflect on this report. See How and When does the builder pull? When will my changes propagate? here for more information.
- Make sure to use the following settings in order to reproduce any error or warning you see on this page.

raw results

Package 819/2041HostnameOS / ArchINSTALLBUILDCHECKBUILD BIN
GSEABase 1.54.0  (landing page)
Bioconductor Package Maintainer
Snapshot Date: 2021-07-22 04:50:13 -0400 (Thu, 22 Jul 2021)
URL: https://git.bioconductor.org/packages/GSEABase
Branch: RELEASE_3_13
Last Commit: 5b59f70
Last Changed Date: 2021-05-19 11:39:15 -0400 (Wed, 19 May 2021)
nebbiolo1Linux (Ubuntu 20.04.2 LTS) / x86_64  OK    OK    OK  UNNEEDED, same version is already published
tokay2Windows Server 2012 R2 Standard / x64  OK    OK    OK    OK  UNNEEDED, same version is already published
machv2macOS 10.14.6 Mojave / x86_64  OK    OK    OK    OK  UNNEEDED, same version is already published

Summary

Package: GSEABase
Version: 1.54.0
Command: /Library/Frameworks/R.framework/Versions/Current/Resources/bin/R CMD build --keep-empty-dirs --no-resave-data GSEABase
StartedAt: 2021-07-22 12:08:41 -0400 (Thu, 22 Jul 2021)
EndedAt: 2021-07-22 12:10:10 -0400 (Thu, 22 Jul 2021)
EllapsedTime: 88.3 seconds
RetCode: 0
Status:   OK  
PackageFile: GSEABase_1.54.0.tar.gz
PackageFileSize: 234.3 KiB

Command output

##############################################################################
##############################################################################
###
### Running command:
###
###   /Library/Frameworks/R.framework/Versions/Current/Resources/bin/R CMD build --keep-empty-dirs --no-resave-data GSEABase
###
##############################################################################
##############################################################################


* checking for file ‘GSEABase/DESCRIPTION’ ... OK
* preparing ‘GSEABase’:
* checking DESCRIPTION meta-information ... OK
* installing the package to build vignettes
* creating vignettes ... OK
* checking for LF line-endings in source and make files and shell scripts
* checking for empty or unneeded directories
* building ‘GSEABase_1.54.0.tar.gz’