Back to Multiple platform build/check report for BioC 3.13
ABCDEF[G]HIJKLMNOPQRSTUVWXYZ

This page was generated on 2021-07-21 15:05:52 -0400 (Wed, 21 Jul 2021).

BUILD BIN results for GSEABase on machv2

To the developers/maintainers of the GSEABase package:
- Please allow up to 24 hours (and sometimes 48 hours) for your latest push to git@git.bioconductor.org:packages/GSEABase.git to
reflect on this report. See How and When does the builder pull? When will my changes propagate? here for more information.
- Make sure to use the following settings in order to reproduce any error or warning you see on this page.

raw results

Package 819/2041HostnameOS / ArchINSTALLBUILDCHECKBUILD BIN
GSEABase 1.54.0  (landing page)
Bioconductor Package Maintainer
Snapshot Date: 2021-07-20 04:50:13 -0400 (Tue, 20 Jul 2021)
URL: https://git.bioconductor.org/packages/GSEABase
Branch: RELEASE_3_13
Last Commit: 5b59f70
Last Changed Date: 2021-05-19 11:39:15 -0400 (Wed, 19 May 2021)
nebbiolo1Linux (Ubuntu 20.04.2 LTS) / x86_64  OK    OK    OK  UNNEEDED, same version is already published
tokay2Windows Server 2012 R2 Standard / x64  OK    OK    OK    OK  UNNEEDED, same version is already published
machv2macOS 10.14.6 Mojave / x86_64  OK    OK    OK    OK  UNNEEDED, same version is already published

Summary

Package: GSEABase
Version: 1.54.0
Command: rm -rf GSEABase.buildbin-libdir && mkdir GSEABase.buildbin-libdir && /Users/biocbuild/BBS/utils/build-universal.sh GSEABase_1.54.0.tar.gz /Library/Frameworks/R.framework/Versions/Current/Resources/bin/R GSEABase.buildbin-libdir
StartedAt: 2021-07-21 02:15:13 -0400 (Wed, 21 Jul 2021)
EndedAt: 2021-07-21 02:15:57 -0400 (Wed, 21 Jul 2021)
EllapsedTime: 43.9 seconds
RetCode: 0
Status:   OK  
PackageFile: GSEABase_1.54.0.tgz
PackageFileSize: 950.8 KiB

Command output

##############################################################################
##############################################################################
###
### Running command:
###
###   rm -rf GSEABase.buildbin-libdir && mkdir GSEABase.buildbin-libdir && /Users/biocbuild/BBS/utils/build-universal.sh GSEABase_1.54.0.tar.gz /Library/Frameworks/R.framework/Versions/Current/Resources/bin/R GSEABase.buildbin-libdir
###
##############################################################################
##############################################################################


>>>>>>> 
>>>>>>> INSTALLATION WITH 'R CMD INSTALL --preclean --no-multiarch --library=GSEABase.buildbin-libdir GSEABase_1.54.0.tar.gz'
>>>>>>> 

* installing *source* package ‘GSEABase’ ...
** using staged installation
** R
** inst
** byte-compile and prepare package for lazy loading
** help
*** installing help indices
** building package indices
** installing vignettes
** testing if installed package can be loaded from temporary location
** testing if installed package can be loaded from final location
** testing if installed package keeps a record of temporary installation path
* DONE (GSEABase)