Back to Multiple platform build/check report for BioC 3.13
ABCDEF[G]HIJKLMNOPQRSTUVWXYZ

This page was generated on 2021-07-30 15:05:55 -0400 (Fri, 30 Jul 2021).

INSTALL results for GRridge on tokay2

To the developers/maintainers of the GRridge package:
- Please allow up to 24 hours (and sometimes 48 hours) for your latest push to git@git.bioconductor.org:packages/GRridge.git to
reflect on this report. See How and When does the builder pull? When will my changes propagate? here for more information.
- Make sure to use the following settings in order to reproduce any error or warning you see on this page.

raw results

Package 814/2041HostnameOS / ArchINSTALLBUILDCHECKBUILD BIN
GRridge 1.16.0  (landing page)
Mark A. van de Wiel
Snapshot Date: 2021-07-29 04:50:02 -0400 (Thu, 29 Jul 2021)
URL: https://git.bioconductor.org/packages/GRridge
Branch: RELEASE_3_13
Last Commit: 45dab71
Last Changed Date: 2021-05-19 12:24:38 -0400 (Wed, 19 May 2021)
nebbiolo1Linux (Ubuntu 20.04.2 LTS) / x86_64  OK    OK    WARNINGS  UNNEEDED, same version is already published
tokay2Windows Server 2012 R2 Standard / x64  OK    OK    WARNINGS    OK  UNNEEDED, same version is already published
machv2macOS 10.14.6 Mojave / x86_64  OK    OK    WARNINGS    OK  UNNEEDED, same version is already published

Summary

Package: GRridge
Version: 1.16.0
Command: C:\cygwin\bin\curl.exe -O http://155.52.207.165/BBS/3.13/bioc/src/contrib/GRridge_1.16.0.tar.gz && rm -rf GRridge.buildbin-libdir && mkdir GRridge.buildbin-libdir && C:\Users\biocbuild\bbs-3.13-bioc\R\bin\R.exe CMD INSTALL --merge-multiarch --build --library=GRridge.buildbin-libdir GRridge_1.16.0.tar.gz && C:\Users\biocbuild\bbs-3.13-bioc\R\bin\R.exe CMD INSTALL GRridge_1.16.0.zip && rm GRridge_1.16.0.tar.gz GRridge_1.16.0.zip
StartedAt: 2021-07-29 09:11:51 -0400 (Thu, 29 Jul 2021)
EndedAt: 2021-07-29 09:12:51 -0400 (Thu, 29 Jul 2021)
EllapsedTime: 59.8 seconds
RetCode: 0
Status:   OK  

Command output

##############################################################################
##############################################################################
###
### Running command:
###
###   C:\cygwin\bin\curl.exe -O http://155.52.207.165/BBS/3.13/bioc/src/contrib/GRridge_1.16.0.tar.gz && rm -rf GRridge.buildbin-libdir && mkdir GRridge.buildbin-libdir && C:\Users\biocbuild\bbs-3.13-bioc\R\bin\R.exe CMD INSTALL --merge-multiarch --build --library=GRridge.buildbin-libdir GRridge_1.16.0.tar.gz && C:\Users\biocbuild\bbs-3.13-bioc\R\bin\R.exe CMD INSTALL GRridge_1.16.0.zip && rm GRridge_1.16.0.tar.gz GRridge_1.16.0.zip
###
##############################################################################
##############################################################################


  % Total    % Received % Xferd  Average Speed   Time    Time     Time  Current
                                 Dload  Upload   Total   Spent    Left  Speed

  0     0    0     0    0     0      0      0 --:--:-- --:--:-- --:--:--     0
  5 8977k    5  527k    0     0  1999k      0  0:00:04 --:--:--  0:00:04 1996k
 54 8977k   54 4933k    0     0  3890k      0  0:00:02  0:00:01  0:00:01 3890k
100 8977k  100 8977k    0     0  4693k      0  0:00:01  0:00:01 --:--:-- 4692k

install for i386

* installing *source* package 'GRridge' ...
** using staged installation
** R
** data
** byte-compile and prepare package for lazy loading
** help
*** installing help indices
  converting help for package 'GRridge'
    finding HTML links ... done
    CreatePartition                         html  
    GRridge-package                         html  
    PartitionsSelection                     html  
    auc                                     html  
    dataFarkas                              html  
    dataSimlin                              html  
    dataVerlaat                             html  
    dataWurdinger                           html  
    grridge                                 html  
REDIRECT:topic	 Previous alias or file overwritten by alias: C:/Users/biocbuild/bbs-3.13-bioc/meat/GRridge.buildbin-libdir/00LOCK-GRridge/00new/GRridge/help/grridge.html
    grridgeCV                               html  
    hello                                   html  
    matchGeneSets                           html  
    mergeGroups                             html  
    predict.grridge                         html  
    roc                                     html  
** building package indices
** installing vignettes
** testing if installed package can be loaded from temporary location
** testing if installed package can be loaded from final location
** testing if installed package keeps a record of temporary installation path

install for x64

* installing *source* package 'GRridge' ...
** testing if installed package can be loaded
* MD5 sums
packaged installation of 'GRridge' as GRridge_1.16.0.zip
* DONE (GRridge)
* installing to library 'C:/Users/biocbuild/bbs-3.13-bioc/R/library'
package 'GRridge' successfully unpacked and MD5 sums checked