Back to Multiple platform build/check report for BioC 3.13
ABCDEF[G]HIJKLMNOPQRSTUVWXYZ

This page was generated on 2021-08-02 15:05:44 -0400 (Mon, 02 Aug 2021).

BUILD BIN results for GRridge on machv2

To the developers/maintainers of the GRridge package:
- Please allow up to 24 hours (and sometimes 48 hours) for your latest push to git@git.bioconductor.org:packages/GRridge.git to
reflect on this report. See How and When does the builder pull? When will my changes propagate? here for more information.
- Make sure to use the following settings in order to reproduce any error or warning you see on this page.

raw results

Package 814/2041HostnameOS / ArchINSTALLBUILDCHECKBUILD BIN
GRridge 1.16.0  (landing page)
Mark A. van de Wiel
Snapshot Date: 2021-08-01 04:50:10 -0400 (Sun, 01 Aug 2021)
URL: https://git.bioconductor.org/packages/GRridge
Branch: RELEASE_3_13
Last Commit: 45dab71
Last Changed Date: 2021-05-19 12:24:38 -0400 (Wed, 19 May 2021)
nebbiolo1Linux (Ubuntu 20.04.2 LTS) / x86_64  OK    OK    WARNINGS  UNNEEDED, same version is already published
tokay2Windows Server 2012 R2 Standard / x64  OK    OK    WARNINGS    OK  UNNEEDED, same version is already published
machv2macOS 10.14.6 Mojave / x86_64  OK    OK    WARNINGS    OK  UNNEEDED, same version is already published

Summary

Package: GRridge
Version: 1.16.0
Command: rm -rf GRridge.buildbin-libdir && mkdir GRridge.buildbin-libdir && /Users/biocbuild/BBS/utils/build-universal.sh GRridge_1.16.0.tar.gz /Library/Frameworks/R.framework/Versions/Current/Resources/bin/R GRridge.buildbin-libdir
StartedAt: 2021-08-02 02:02:44 -0400 (Mon, 02 Aug 2021)
EndedAt: 2021-08-02 02:03:27 -0400 (Mon, 02 Aug 2021)
EllapsedTime: 43.1 seconds
RetCode: 0
Status:   OK  
PackageFile: GRridge_1.16.0.tgz
PackageFileSize: 9.033 MiB

Command output

##############################################################################
##############################################################################
###
### Running command:
###
###   rm -rf GRridge.buildbin-libdir && mkdir GRridge.buildbin-libdir && /Users/biocbuild/BBS/utils/build-universal.sh GRridge_1.16.0.tar.gz /Library/Frameworks/R.framework/Versions/Current/Resources/bin/R GRridge.buildbin-libdir
###
##############################################################################
##############################################################################


>>>>>>> 
>>>>>>> INSTALLATION WITH 'R CMD INSTALL --preclean --no-multiarch --library=GRridge.buildbin-libdir GRridge_1.16.0.tar.gz'
>>>>>>> 

* installing *source* package ‘GRridge’ ...
** using staged installation
** R
** data
** inst
** byte-compile and prepare package for lazy loading
** help
*** installing help indices
** building package indices
** installing vignettes
** testing if installed package can be loaded from temporary location
** testing if installed package can be loaded from final location
** testing if installed package keeps a record of temporary installation path
* DONE (GRridge)