Back to Multiple platform build/check report for BioC 3.13
ABCDEF[G]HIJKLMNOPQRSTUVWXYZ

This page was generated on 2021-07-21 15:05:51 -0400 (Wed, 21 Jul 2021).

BUILD BIN results for GOstats on machv2

To the developers/maintainers of the GOstats package:
- Please allow up to 24 hours (and sometimes 48 hours) for your latest push to git@git.bioconductor.org:packages/GOstats.git to
reflect on this report. See How and When does the builder pull? When will my changes propagate? here for more information.
- Make sure to use the following settings in order to reproduce any error or warning you see on this page.

raw results

Package 793/2041HostnameOS / ArchINSTALLBUILDCHECKBUILD BIN
GOstats 2.58.0  (landing page)
Bioconductor Package Maintainer
Snapshot Date: 2021-07-20 04:50:13 -0400 (Tue, 20 Jul 2021)
URL: https://git.bioconductor.org/packages/GOstats
Branch: RELEASE_3_13
Last Commit: d3406a6
Last Changed Date: 2021-05-19 11:34:28 -0400 (Wed, 19 May 2021)
nebbiolo1Linux (Ubuntu 20.04.2 LTS) / x86_64  OK    OK    OK  UNNEEDED, same version is already published
tokay2Windows Server 2012 R2 Standard / x64  OK    OK    OK    OK  UNNEEDED, same version is already published
machv2macOS 10.14.6 Mojave / x86_64  OK    OK    OK    OK  UNNEEDED, same version is already published

Summary

Package: GOstats
Version: 2.58.0
Command: rm -rf GOstats.buildbin-libdir && mkdir GOstats.buildbin-libdir && /Users/biocbuild/BBS/utils/build-universal.sh GOstats_2.58.0.tar.gz /Library/Frameworks/R.framework/Versions/Current/Resources/bin/R GOstats.buildbin-libdir
StartedAt: 2021-07-21 02:13:28 -0400 (Wed, 21 Jul 2021)
EndedAt: 2021-07-21 02:14:15 -0400 (Wed, 21 Jul 2021)
EllapsedTime: 46.5 seconds
RetCode: 0
Status:   OK  
PackageFile: GOstats_2.58.0.tgz
PackageFileSize: 2.146 MiB

Command output

##############################################################################
##############################################################################
###
### Running command:
###
###   rm -rf GOstats.buildbin-libdir && mkdir GOstats.buildbin-libdir && /Users/biocbuild/BBS/utils/build-universal.sh GOstats_2.58.0.tar.gz /Library/Frameworks/R.framework/Versions/Current/Resources/bin/R GOstats.buildbin-libdir
###
##############################################################################
##############################################################################


>>>>>>> 
>>>>>>> INSTALLATION WITH 'R CMD INSTALL --preclean --no-multiarch --library=GOstats.buildbin-libdir GOstats_2.58.0.tar.gz'
>>>>>>> 

* installing *source* package ‘GOstats’ ...
** using staged installation
** R
** data
** inst
** byte-compile and prepare package for lazy loading
** help
*** installing help indices
** building package indices
** installing vignettes
** testing if installed package can be loaded from temporary location
** testing if installed package can be loaded from final location
** testing if installed package keeps a record of temporary installation path
* DONE (GOstats)