Back to Multiple platform build/check report for BioC 3.19:   simplified   long
ABCDEF[G]HIJKLMNOPQRSTUVWXYZ

This page was generated on 2024-05-30 11:34:36 -0400 (Thu, 30 May 2024).

HostnameOSArch (*)R versionInstalled pkgs
nebbiolo1Linux (Ubuntu 22.04.3 LTS)x86_644.4.0 (2024-04-24) -- "Puppy Cup" 4753
lconwaymacOS 12.7.1 Montereyx86_644.4.0 (2024-04-24) -- "Puppy Cup" 4518
Click on any hostname to see more info about the system (e.g. compilers)      (*) as reported by 'uname -p', except on Windows and Mac OS X

All results for package GOSemSim


To the developers/maintainers of the GOSemSim package:
- Allow up to 24 hours (and sometimes 48 hours) for your latest push to git@git.bioconductor.org:packages/GOSemSim.git to reflect on this report. See Troubleshooting Build Report for more information.
- Use the following Renviron settings to reproduce errors and warnings.
- If 'R CMD check' started to fail recently on the Linux builder(s) over a missing dependency, add the missing dependency to 'Suggests:' in your DESCRIPTION file. See Renviron.bioc for more information.

raw results

Package 894/2300HostnameOS / ArchINSTALLBUILDCHECKBUILD BIN
GOSemSim 2.30.0  (landing page)
Guangchuang Yu
Snapshot Date: 2024-05-29 14:00:10 -0400 (Wed, 29 May 2024)
git_url: https://git.bioconductor.org/packages/GOSemSim
git_branch: RELEASE_3_19
git_last_commit: f155e5a
git_last_commit_date: 2024-04-30 10:19:17 -0400 (Tue, 30 Apr 2024)
nebbiolo1Linux (Ubuntu 22.04.3 LTS) / x86_64  OK    OK    OK  UNNEEDED, same version is already published
lconwaymacOS 12.7.1 Monterey / x86_64  OK    OK    OK    OK  UNNEEDED, same version is already published
kjohnson3macOS 13.6.5 Ventura / arm64see weekly results here

Results for Bioconductor software packages that depend directly on package GOSemSim

QUICK STATSOS / ArchINSTALLBUILDCHECKBUILD BIN
nebbiolo1Linux (Ubuntu 22.04.3 LTS) / x86_64
0010
0010
0019
lconwaymacOS 12.7.1 Monterey / x86_64
0010
0010
0019
0010
Package 1/10HostnameOS / ArchINSTALLBUILDCHECKBUILD BIN
clusterProfiler 4.12.0  (landing page)
Guangchuang Yu
git_last_commit: 1866584
git_last_commit_date: 2024-04-30 10:23:45 -0400
nebbiolo1Linux (Ubuntu 22.04.3 LTS) / x86_64  OK    OK    OK  UNNEEDED, same version is already published
lconwaymacOS 12.7.1 Monterey / x86_64  OK    OK    OK    OK  UNNEEDED, same version is already published
kjohnson3macOS 13.6.5 Ventura / arm64see weekly results here
Package 2/10HostnameOS / ArchINSTALLBUILDCHECKBUILD BIN
DOSE 3.30.1  (landing page)
Guangchuang Yu
git_last_commit: 651ad4c
git_last_commit_date: 2024-05-16 06:13:21 -0400
nebbiolo1Linux (Ubuntu 22.04.3 LTS) / x86_64  OK    OK    OK  UNNEEDED, same version is already published
lconwaymacOS 12.7.1 Monterey / x86_64  OK    OK    OK    OK  UNNEEDED, same version is already published
kjohnson3macOS 13.6.5 Ventura / arm64see weekly results here
Package 3/10HostnameOS / ArchINSTALLBUILDCHECKBUILD BIN
enrichplot 1.24.0  (landing page)
Guangchuang Yu
git_last_commit: c3b957c
git_last_commit_date: 2024-04-30 11:03:57 -0400
nebbiolo1Linux (Ubuntu 22.04.3 LTS) / x86_64  OK    OK    OK  UNNEEDED, same version is already published
lconwaymacOS 12.7.1 Monterey / x86_64  OK    OK    OK    OK  UNNEEDED, same version is already published
kjohnson3macOS 13.6.5 Ventura / arm64see weekly results here
Package 4/10HostnameOS / ArchINSTALLBUILDCHECKBUILD BIN
GeDi 1.0.0  (landing page)
Annekathrin Nedwed
git_last_commit: 1ad6866
git_last_commit_date: 2024-04-30 11:56:08 -0400
nebbiolo1Linux (Ubuntu 22.04.3 LTS) / x86_64  OK    OK    OK  UNNEEDED, same version is already published
lconwaymacOS 12.7.1 Monterey / x86_64  OK    OK    OK    OK  UNNEEDED, same version is already published
kjohnson3macOS 13.6.5 Ventura / arm64see weekly results here
Package 5/10HostnameOS / ArchINSTALLBUILDCHECKBUILD BIN
meshes 1.30.0  (landing page)
Guangchuang Yu
git_last_commit: e1e7f7c
git_last_commit_date: 2024-04-30 10:54:41 -0400
nebbiolo1Linux (Ubuntu 22.04.3 LTS) / x86_64  OK    OK    OK  UNNEEDED, same version is already published
lconwaymacOS 12.7.1 Monterey / x86_64  OK    OK    OK    OK  UNNEEDED, same version is already published
kjohnson3macOS 13.6.5 Ventura / arm64see weekly results here
Package 6/10HostnameOS / ArchINSTALLBUILDCHECKBUILD BIN
Rcpi 1.40.0  (landing page)
Nan Xiao
git_last_commit: ce83e55
git_last_commit_date: 2024-04-30 10:35:37 -0400
nebbiolo1Linux (Ubuntu 22.04.3 LTS) / x86_64  OK    OK    OK  UNNEEDED, same version is already published
lconwaymacOS 12.7.1 Monterey / x86_64  OK    OK    OK    OK  UNNEEDED, same version is already published
kjohnson3macOS 13.6.5 Ventura / arm64see weekly results here
Package 7/10HostnameOS / ArchINSTALLBUILDCHECKBUILD BIN
rrvgo 1.16.0  (landing page)
Sergi Sayols
git_last_commit: 854dbd2
git_last_commit_date: 2024-04-30 11:21:11 -0400
nebbiolo1Linux (Ubuntu 22.04.3 LTS) / x86_64  OK    OK    OK  UNNEEDED, same version is already published
lconwaymacOS 12.7.1 Monterey / x86_64  OK    OK    OK    OK  UNNEEDED, same version is already published
kjohnson3macOS 13.6.5 Ventura / arm64see weekly results here
Package 8/10HostnameOS / ArchINSTALLBUILDCHECKBUILD BIN
simplifyEnrichment 1.14.0  (landing page)
Zuguang Gu
git_last_commit: 019c312
git_last_commit_date: 2024-04-30 11:24:30 -0400
nebbiolo1Linux (Ubuntu 22.04.3 LTS) / x86_64  OK    OK    OK  UNNEEDED, same version is already published
lconwaymacOS 12.7.1 Monterey / x86_64  OK    OK    OK    OK  UNNEEDED, same version is already published
kjohnson3macOS 13.6.5 Ventura / arm64see weekly results here
Package 9/10HostnameOS / ArchINSTALLBUILDCHECKBUILD BIN
tRanslatome 1.42.0  (landing page)
Toma Tebaldi , Erik Dassi
git_last_commit: 7fa9e77
git_last_commit_date: 2024-04-30 10:32:02 -0400
nebbiolo1Linux (Ubuntu 22.04.3 LTS) / x86_64  OK    OK    OK  UNNEEDED, same version is already published
lconwaymacOS 12.7.1 Monterey / x86_64  OK    OK    OK    OK  UNNEEDED, same version is already published
kjohnson3macOS 13.6.5 Ventura / arm64see weekly results here
Package 10/10HostnameOS / ArchINSTALLBUILDCHECKBUILD BIN
ViSEAGO 1.18.0  (landing page)
Aurelien Brionne
git_last_commit: 5e80111
git_last_commit_date: 2024-04-30 11:15:53 -0400
nebbiolo1Linux (Ubuntu 22.04.3 LTS) / x86_64  OK    OK    WARNINGS  UNNEEDED, same version is already published
lconwaymacOS 12.7.1 Monterey / x86_64  OK    OK    WARNINGS    OK  UNNEEDED, same version is already published
kjohnson3macOS 13.6.5 Ventura / arm64see weekly results here