Back to Multiple platform build/check report for BioC 3.13
ABCDEF[G]HIJKLMNOPQRSTUVWXYZ

This page was generated on 2021-09-27 15:05:59 -0400 (Mon, 27 Sep 2021).

BUILD results for GENESIS on nebbiolo1

To the developers/maintainers of the GENESIS package:
- Please allow up to 24 hours (and sometimes 48 hours) for your latest push to git@git.bioconductor.org:packages/GENESIS.git to
reflect on this report. See How and When does the builder pull? When will my changes propagate? here for more information.
- Make sure to use the following settings in order to reproduce any error or warning you see on this page.

raw results

Package 726/2041HostnameOS / ArchINSTALLBUILDCHECKBUILD BIN
GENESIS 2.22.2  (landing page)
Stephanie M. Gogarten
Snapshot Date: 2021-09-26 04:50:10 -0400 (Sun, 26 Sep 2021)
git_url: https://git.bioconductor.org/packages/GENESIS
git_branch: RELEASE_3_13
git_last_commit: df77222
git_last_commit_date: 2021-06-16 02:13:52 -0400 (Wed, 16 Jun 2021)
nebbiolo1Linux (Ubuntu 20.04.2 LTS) / x86_64  OK    OK    OK  UNNEEDED, same version is already published
tokay2Windows Server 2012 R2 Standard / x64  OK    OK    OK    OK  UNNEEDED, same version is already published
machv2macOS 10.14.6 Mojave / x86_64  OK    OK    OK    OK  UNNEEDED, same version is already published

Summary

Package: GENESIS
Version: 2.22.2
Command: /home/biocbuild/bbs-3.13-bioc/R/bin/R CMD build --keep-empty-dirs --no-resave-data GENESIS
StartedAt: 2021-09-26 07:19:12 -0400 (Sun, 26 Sep 2021)
EndedAt: 2021-09-26 07:20:45 -0400 (Sun, 26 Sep 2021)
EllapsedTime: 93.0 seconds
RetCode: 0
Status:   OK  
PackageFile: GENESIS_2.22.2.tar.gz
PackageFileSize: 3.66 MiB

Command output

##############################################################################
##############################################################################
###
### Running command:
###
###   /home/biocbuild/bbs-3.13-bioc/R/bin/R CMD build --keep-empty-dirs --no-resave-data GENESIS
###
##############################################################################
##############################################################################


* checking for file ‘GENESIS/DESCRIPTION’ ... OK
* preparing ‘GENESIS’:
* checking DESCRIPTION meta-information ... OK
* cleaning src
* installing the package to build vignettes
* creating vignettes ... OK
* cleaning src
* checking for LF line-endings in source and make files and shell scripts
* checking for empty or unneeded directories
* looking to see if a ‘data/datalist’ file should be added
* building ‘GENESIS_2.22.2.tar.gz’