Back to Multiple platform build/check report for BioC 3.13
ABCDEF[G]HIJKLMNOPQRSTUVWXYZ

This page was generated on 2021-09-27 15:06:24 -0400 (Mon, 27 Sep 2021).

BUILD results for GDSArray on tokay2

To the developers/maintainers of the GDSArray package:
- Please allow up to 24 hours (and sometimes 48 hours) for your latest push to git@git.bioconductor.org:packages/GDSArray.git to
reflect on this report. See How and When does the builder pull? When will my changes propagate? here for more information.
- Make sure to use the following settings in order to reproduce any error or warning you see on this page.

raw results

Package 701/2041HostnameOS / ArchINSTALLBUILDCHECKBUILD BIN
GDSArray 1.12.0  (landing page)
Qian Liu
Snapshot Date: 2021-09-26 04:50:10 -0400 (Sun, 26 Sep 2021)
git_url: https://git.bioconductor.org/packages/GDSArray
git_branch: RELEASE_3_13
git_last_commit: f2a3983
git_last_commit_date: 2021-05-19 12:34:40 -0400 (Wed, 19 May 2021)
nebbiolo1Linux (Ubuntu 20.04.2 LTS) / x86_64  OK    OK    OK  UNNEEDED, same version is already published
tokay2Windows Server 2012 R2 Standard / x64  OK    OK    OK    OK  UNNEEDED, same version is already published
machv2macOS 10.14.6 Mojave / x86_64  OK    OK    OK    OK  UNNEEDED, same version is already published

Summary

Package: GDSArray
Version: 1.12.0
Command: chmod a+r GDSArray -R && C:\Users\biocbuild\bbs-3.13-bioc\R\bin\R.exe CMD build --keep-empty-dirs --no-resave-data GDSArray
StartedAt: 2021-09-26 14:03:00 -0400 (Sun, 26 Sep 2021)
EndedAt: 2021-09-26 14:03:48 -0400 (Sun, 26 Sep 2021)
EllapsedTime: 47.8 seconds
RetCode: 0
Status:   OK  
PackageFile: GDSArray_1.12.0.tar.gz
PackageFileSize: 291.2 KiB

Command output

##############################################################################
##############################################################################
###
### Running command:
###
###   chmod a+r GDSArray -R && C:\Users\biocbuild\bbs-3.13-bioc\R\bin\R.exe CMD build --keep-empty-dirs --no-resave-data GDSArray
###
##############################################################################
##############################################################################


* checking for file 'GDSArray/DESCRIPTION' ... OK
* preparing 'GDSArray':
* checking DESCRIPTION meta-information ... OK
* installing the package to build vignettes
* creating vignettes ... OK
* checking for LF line-endings in source and make files and shell scripts
* checking for empty or unneeded directories
* building 'GDSArray_1.12.0.tar.gz'