Back to Multiple platform build/check report for BioC 3.13
ABCDEF[G]HIJKLMNOPQRSTUVWXYZ

This page was generated on 2021-09-15 15:05:28 -0400 (Wed, 15 Sep 2021).

BUILD BIN results for GDSArray on tokay2

To the developers/maintainers of the GDSArray package:
- Please allow up to 24 hours (and sometimes 48 hours) for your latest push to git@git.bioconductor.org:packages/GDSArray.git to
reflect on this report. See How and When does the builder pull? When will my changes propagate? here for more information.
- Make sure to use the following settings in order to reproduce any error or warning you see on this page.

raw results

Package 701/2041HostnameOS / ArchINSTALLBUILDCHECKBUILD BIN
GDSArray 1.12.0  (landing page)
Qian Liu
Snapshot Date: 2021-09-14 04:50:06 -0400 (Tue, 14 Sep 2021)
git_url: https://git.bioconductor.org/packages/GDSArray
git_branch: RELEASE_3_13
git_last_commit: f2a3983
git_last_commit_date: 2021-05-19 12:34:40 -0400 (Wed, 19 May 2021)
nebbiolo1Linux (Ubuntu 20.04.2 LTS) / x86_64  OK    OK    OK  UNNEEDED, same version is already published
tokay2Windows Server 2012 R2 Standard / x64  OK    OK    OK    OK  UNNEEDED, same version is already published
machv2macOS 10.14.6 Mojave / x86_64  OK    OK    OK    OK  UNNEEDED, same version is already published

Summary

Package: GDSArray
Version: 1.12.0
Command: rm -rf GDSArray.buildbin-libdir && mkdir GDSArray.buildbin-libdir && C:\Users\biocbuild\bbs-3.13-bioc\R\bin\R.exe CMD INSTALL --merge-multiarch --build --library=GDSArray.buildbin-libdir GDSArray_1.12.0.tar.gz
StartedAt: 2021-09-15 09:00:40 -0400 (Wed, 15 Sep 2021)
EndedAt: 2021-09-15 09:02:10 -0400 (Wed, 15 Sep 2021)
EllapsedTime: 89.8 seconds
RetCode: 0
Status:   OK  
PackageFile: GDSArray_1.12.0.zip
PackageFileSize: 738.8 KiB

Command output

##############################################################################
##############################################################################
###
### Running command:
###
###   rm -rf GDSArray.buildbin-libdir && mkdir GDSArray.buildbin-libdir && C:\Users\biocbuild\bbs-3.13-bioc\R\bin\R.exe CMD INSTALL --merge-multiarch --build --library=GDSArray.buildbin-libdir GDSArray_1.12.0.tar.gz
###
##############################################################################
##############################################################################



install for i386

* installing *source* package 'GDSArray' ...
** using staged installation
** R
** inst
** byte-compile and prepare package for lazy loading
** help
*** installing help indices
  converting help for package 'GDSArray'
    finding HTML links ... done
    GDSArray-classes                        html  
    GDSArray-methods                        html  
    GDSFile-class                           html  
REDIRECT:topic	 Previous alias or file overwritten by alias: C:/Users/biocbuild/bbs-3.13-bioc/meat/GDSArray.buildbin-libdir/00LOCK-GDSArray/00new/GDSArray/help/GDSFile.html
REDIRECT:topic	 Previous alias or file overwritten by alias: C:/Users/biocbuild/bbs-3.13-bioc/meat/GDSArray.buildbin-libdir/00LOCK-GDSArray/00new/GDSArray/help/GDSFile+2Cgdsfile-method.html
** building package indices
** installing vignettes
** testing if installed package can be loaded from temporary location
** testing if installed package can be loaded from final location
** testing if installed package keeps a record of temporary installation path

install for x64

* installing *source* package 'GDSArray' ...
** testing if installed package can be loaded
* MD5 sums
packaged installation of 'GDSArray' as GDSArray_1.12.0.zip
* DONE (GDSArray)