Back to Multiple platform build/check report for BioC 3.19:   simplified   long
ABCDEF[G]HIJKLMNOPQRSTUVWXYZ

This page was generated on 2024-06-11 14:40 -0400 (Tue, 11 Jun 2024).

HostnameOSArch (*)R versionInstalled pkgs
nebbiolo1Linux (Ubuntu 22.04.3 LTS)x86_644.4.0 (2024-04-24) -- "Puppy Cup" 4757
palomino3Windows Server 2022 Datacenterx644.4.0 (2024-04-24 ucrt) -- "Puppy Cup" 4491
lconwaymacOS 12.7.1 Montereyx86_644.4.0 (2024-04-24) -- "Puppy Cup" 4522
kjohnson3macOS 13.6.5 Venturaarm644.4.0 (2024-04-24) -- "Puppy Cup" 4468
Click on any hostname to see more info about the system (e.g. compilers)      (*) as reported by 'uname -p', except on Windows and Mac OS X

Package 792/2300HostnameOS / ArchINSTALLBUILDCHECKBUILD BIN
GDSArray 1.24.1  (landing page)
Qian Liu
Snapshot Date: 2024-06-09 14:00 -0400 (Sun, 09 Jun 2024)
git_url: https://git.bioconductor.org/packages/GDSArray
git_branch: RELEASE_3_19
git_last_commit: f5c946e
git_last_commit_date: 2024-05-22 15:38:11 -0400 (Wed, 22 May 2024)
nebbiolo1Linux (Ubuntu 22.04.3 LTS) / x86_64  OK    OK    ERROR  
palomino3Windows Server 2022 Datacenter / x64  OK    OK    ERROR    OK  
lconwaymacOS 12.7.1 Monterey / x86_64  OK    OK    ERROR    OK  
kjohnson3macOS 13.6.5 Ventura / arm64  OK    OK    ERROR    OK  


BUILD results for GDSArray on palomino3

To the developers/maintainers of the GDSArray package:
- Allow up to 24 hours (and sometimes 48 hours) for your latest push to git@git.bioconductor.org:packages/GDSArray.git to reflect on this report. See Troubleshooting Build Report for more information.
- Use the following Renviron settings to reproduce errors and warnings.
- If 'R CMD check' started to fail recently on the Linux builder(s) over a missing dependency, add the missing dependency to 'Suggests:' in your DESCRIPTION file. See Renviron.bioc for more information.

raw results


Summary

Package: GDSArray
Version: 1.24.1
Command: chmod a+r GDSArray -R && F:\biocbuild\bbs-3.19-bioc\R\bin\R.exe CMD build --keep-empty-dirs --no-resave-data GDSArray
StartedAt: 2024-06-09 19:30:36 -0400 (Sun, 09 Jun 2024)
EndedAt: 2024-06-09 19:31:30 -0400 (Sun, 09 Jun 2024)
EllapsedTime: 54.7 seconds
RetCode: 0
Status:   OK  
PackageFile: GDSArray_1.24.1.tar.gz
PackageFileSize: 305.8 KiB

Command output

##############################################################################
##############################################################################
###
### Running command:
###
###   chmod a+r GDSArray -R && F:\biocbuild\bbs-3.19-bioc\R\bin\R.exe CMD build --keep-empty-dirs --no-resave-data GDSArray
###
##############################################################################
##############################################################################


* checking for file 'GDSArray/DESCRIPTION' ... OK
* preparing 'GDSArray':
* checking DESCRIPTION meta-information ... OK
* installing the package to build vignettes
* creating vignettes ... OK
* checking for LF line-endings in source and make files and shell scripts
* checking for empty or unneeded directories
* building 'GDSArray_1.24.1.tar.gz'